BEGIN:VCALENDAR
VERSION:2.0
PRODID:-//Car Collectors Club - ECPv6.6.3//NONSGML v1.0//EN
CALSCALE:GREGORIAN
METHOD:PUBLISH
X-WR-CALNAME:Car Collectors Club
X-ORIGINAL-URL:https://carcollectorsclub.com
X-WR-CALDESC:Events for Car Collectors Club
REFRESH-INTERVAL;VALUE=DURATION:PT1H
X-Robots-Tag:noindex
X-PUBLISHED-TTL:PT1H
BEGIN:VTIMEZONE
TZID:UTC
BEGIN:STANDARD
TZOFFSETFROM:+0000
TZOFFSETTO:+0000
TZNAME:UTC
DTSTART:20260101T000000
END:STANDARD
END:VTIMEZONE
BEGIN:VEVENT
DTSTART;TZID=UTC:20260722T080000
DTEND;TZID=UTC:20260725T170000
DTSTAMP:20260419T182451
CREATED:20250716T233111Z
LAST-MODIFIED:20260417T020303Z
UID:12348-1784707200-1784998800@carcollectorsclub.com
SUMMARY:Mecum Auction To Sell Over 1200 Collectible Cars in Harrisburg PA on (July 22-25\, 2026)
DESCRIPTION:Mecum Auctions\, the world’s largest collector car auction company\, is gearing up to return to Harrisburg\, PA\, from July 22–25\, 2026. This annual summer tradition brings over 1\,200 collector cars to the Pennsylvania Farm Show Complex & Expo Center\, offering everything from high-horsepower American muscle and vintage classics to modern exotics and unique motorcycles. \nThe four-day event is a cornerstone of the East Coast collector circuit\, drawing thousands of enthusiasts to witness a non-stop parade of automotive history. The 2026 lineup is set to feature a diverse array of Hot Rods\, Pickup Trucks\, and European sports cars\, alongside Mecum’s signature Road Art selection of neon signs and petroliana. \nMECUM HARRISBURG: THE EAST COAST’S PREMIER SUMMER AUCTION – JULY 22–25\, 2026. \nHistorically\, the Harrisburg sale is known for its high sell-through rates and “Main Attraction” lots that command six-figure results. As the 2026 event approaches\, collectors are eyeing a curated selection of matching-numbers muscle cars and low-mileage survivor vehicles. The climate-controlled Farm Show Complex provides an ideal environment for bidders to inspect the vast inventory before the hammer falls. \n \n\nEVENT SCHEDULE & LOGISTICS \n\nWednesday\, July 22\, 2026: Gates open at 8:00 AM. Auction begins with Road Art\, followed by vehicles.\nThursday\, July 23\, 2026: Gates open at 8:00 AM. Live broadcast on MotorTrend TV starts at 11:00 AM.\nFriday\, July 24\, 2026: Gates open at 8:00 AM. “Main Attraction” lots begin crossing the block in the afternoon.\nSaturday\, July 25\, 2026: Gates open at 8:00 AM. Final day of automotive and memorabilia sales.\n\n\nADMISSION & TICKET PRICE \n\nAdvance Online Tickets: $22.50 per person\, per day (available until the auction begins).\nDaily Gate Price: $30.00 per person. Children 12 and younger are admitted for FREE.\nParking: On-site parking at the complex is $15.00 per day\, with free shuttle services available.\n\nPURCHASE TICKETS HERE \n\nVERIFIED 2026 FEATURED LOTS & COLLECTIONS \nThe Harrisburg 2026 docket is packed with standout consignments. Bidders should pay close attention to the following verified highlights: \n\nThe Apex Collection (East Coast Selection): A curated group of modern supercars and high-performance exotics\, including a rare 2022 McLaren 765LT Spider.\n1970 Plymouth Hemi ’Cuda: A verified matching-numbers 426 Hemi powerhouse\, documented by a Dave Wise inspection report.\n1968 Ford Mustang Fastback Restomod: Finished in iconic Highland Green\, featuring a modern 5.0L Coyote V-8 and a 6-speed Tremec transmission.\n1969 Chevrolet COPO Camaro: A rare Fathom Green factory-built monster with a 427/425 HP engine and a documented 4-speed manual.\n2024 Chevrolet Corvette E-Ray: A near-new example of the groundbreaking AWD hybrid\, finished in Sea Wolf Gray with only delivery miles.\n1961 Jaguar E-Type Series 1 Roadster: A highly sought-after “Flat Floor” and “Outside Bonnet Lock” example\, recently restored to original Opalescent Silver Blue.\nView All Lots\n\n\nVISITOR INFORMATION & BROADCAST \nThe Mecum Harrisburg Auction will be broadcast LIVE on MotorTrend TV and MotorTrend+ on Thursday\, Friday\, and Saturday from 11:00 AM to 5:00 PM EST. For those attending in person\, the facility offers full accessibility\, including handicapped parking and drop-off points at the Cameron Street Lobby circle. \nAuction Venue:\nPennsylvania Farm Show Complex\n2300 North Cameron Street\, Harrisburg\, PA 17110\n(VIEW MAP) \n\n\nUPCOMING EVENTS \nUpcoming Car Shows\, Concours d’Elegances & Car Auctions\n\n			        Apr\n			        20\n			        \n    Bonhams Returns to the Fairmont Monte Carlo for The Mediterranean Masterpiece Monaco Sale (April 24\, 2026)\n                \n                4:00 am\n				\n			        Apr\n			        23\n			        \n    Carlisle Car Auction Revs Up 400 Classic Cars At The Carlisle Expo Center (April 23–24\, 2026)\n                \n                April 23 - April 24\n				\n			        Apr\n			        24\n			        \n    Experience the La Jolla Concours d’Elegance Featuring 150+ Classic Cars by the Pacific (Apr. 24-26\, 2026)\n                \n                April 24 - April 26\n				\n			        Apr\n			        24\n			        \n    Experience the 2026 Packard Spring Fling at America’s Packard Museum in Dayton\, Ohio (April 24-25\, 2026)\n                \n                April 24 - April 25\n				\n			        Apr\n			        25\n			        \n    Broad Arrow Auction Presents: Porsche Air|Water Spectacular Auction in Costa Mesa on (April 25\, 2026)\n                \n                9:00 am - 5:00 pm\n				\n			        Apr\n			        25\n			        \n    Keels & Wheels Concours d’Elegance at Lakewood Yacht Club in Seabrook\, TX (April 25–26\, 2026)\n                \n                April 25 - April 26\n				\nAdvertisement\n\n\n\n\n\n\n\n\n	Yes\, I want to receive event updates (FREE)
URL:https://carcollectorsclub.com/event/mecum-auction-harrisburg-pa/
LOCATION:Pennsylvania Farm Show Complex\, 2300 N Cameron St\, Harrisburg\, PA\, 17110\, United States
CATEGORIES:Auctions
ATTACH;FMTTYPE=image/jpeg:https://carcollectorsclub.com/wp-content/uploads/2022/06/Mecum-Auction-Harrisburg-July-2023-02-01.jpg
ORGANIZER;CN="Mecum Auctions":MAILTO:info@mecum.com
END:VEVENT
END:VCALENDAR