BEGIN:VCALENDAR
VERSION:2.0
PRODID:-//Car Collectors Club - ECPv6.6.3//NONSGML v1.0//EN
CALSCALE:GREGORIAN
METHOD:PUBLISH
X-ORIGINAL-URL:https://carcollectorsclub.com
X-WR-CALDESC:Events for Car Collectors Club
REFRESH-INTERVAL;VALUE=DURATION:PT1H
X-Robots-Tag:noindex
X-PUBLISHED-TTL:PT1H
BEGIN:VTIMEZONE
TZID:UTC
BEGIN:STANDARD
TZOFFSETFROM:+0000
TZOFFSETTO:+0000
TZNAME:UTC
DTSTART:20250101T000000
END:STANDARD
END:VTIMEZONE
BEGIN:VEVENT
DTSTART;TZID=UTC:20250627T100000
DTEND;TZID=UTC:20250629T160000
DTSTAMP:20260424T204352
CREATED:20260304T061700Z
LAST-MODIFIED:20260304T061700Z
UID:17458-1751018400-1751212800@carcollectorsclub.com
SUMMARY:The Three-Day Milano Monza Motor Show (MIMO) Will Light Up Monza/Milan\, Italy\, on June 27-29 (Giugno)\, 2025
DESCRIPTION:The fourth anniversary of the Milano Monza Motor Show (MIMO) will take place over a three-day weekend at the Autodromo Nazionale Monza in Piazza Duomo in Milan\, Italy\, from June 27–29\, 2025. \nThe Milano Monza Motor Show offers recreation as well as the newest automotive brands’ new products. Visitors may also view prototypes\, supercars\, hypercars\, and vintage vehicles while enjoying recreation\, gaming\, and refreshment opportunities. \nEvents that will take place at MIMO in Milan and Monza as part of MIMO 2025 are listed below. The calendar is packed with a wide range of events that will entertain car enthusiasts\, car collectors\, racing enthusiasts\, and just about anyone who loves cars. \n** MIMO is an international motoring event with totally free admission to the public. \n\nMIMO Schedule\nThe Milano Monza Motor Show (MIMO) opens on June 27\, 2025\, at 9:00 am and closes on Sunday\, June 29th\, 2025\, at 6:00 pm. Tickets for the show are FREE to the public. Additional charges may be applied to individual races\, events\, and activities. \n\nOpening Time: 9:00 – 10:00\nStart date: 27 June 2025\nEnd Date: 29 June 2025\nLocation: Milan and Monza\, Italy\n\n\n2025 promises a full week of entertainment\, including a Milano Monza Motor Show\, an Exhibition of Automobiles and Motorcycles\, a Supercar Parade\, Track Days & Test Drives\, a Showcase for New Electric Cars\, and a 5th Leg of the 1000 Miglia. \n\nMIMO Milano Monza Motor Show 2025 – Official Schedule\nLocation: Autodromo Nazionale Monza (unless otherwise noted) Dates: June 27–29\, 2025 \n\nFriday\, June 27\, 2025\nTrack Events \n\n3:30 PM: Dynamic Opening Ceremony\n\nRibbon-cutting with brand managers and institutions.\nSupercar parade on the 10km full circuit (F1 track + High-Speed Ring).\n\n\n7:00 PM: Monzanapolis Supercar Parade\n\nFeaturing Ferrari\, Lamborghini\, McLaren\, and more.\n\n\n\nExhibitions & Activities \n\n9:00 AM – 8:00 PM: Manufacturer Showcase (Paddocks 1 & 2)\n\nFree access to new models from over 60 brands.\n\n\n9:00 AM – 7:00 PM: Test Drives\n\nExperience new cars on a 4km improvised circuit (including banking).\n\n\n9:00 AM – 3:30 PM: Indy Autonomous Challenge\n\nSelf-driving racecars compete on the F1 track.\n\n\n\nMilan Event \n\n6:00 PM – 10:00 PM: 1000 Miglia Stage (Piazza Duomo)\n\nNote: Please verify alignment with the official 1000 Miglia 2025 route.\n\n\n\n\nSaturday\, June 28\, 2025\nTrack Events \n\n6:00 PM: Hardcore Drivers Meeting\n\nParade of 150+ cars on the historic banking and F1 track.\n\n\n\nExhibitions & Activities \n\n10:00 AM – 7:00 PM: USA Car Meeting (Paddock 2)\n\nDisplay of over 200 classic American muscle cars.\n\n\nAll Day: EV & Hybrid Test Drives\n\nExperience electric vehicles on the High-Speed Ring straight.\n\n\n\n\nSunday\, June 29\, 2025\nTrack Events \n\n11:00 AM: ACI Milano Anniversary Parade\n\nHistoric vehicles parade from Milan to Monza (please confirm route).\n\n\n\nExhibitions & Activities \n\n9:00 AM – 7:00 PM: Manufacturer Showcase & Test Drives (Final day).\n\n\nLOCATION: \nMONZA NATIONAL AUTODROME (MIMO)\n27 – 29 JUNE 2025\nFROM 9.00 TO 20.00 \nThe MONZA NATIONAL AUTODROME is open to the public for free. \nMilano Monza Open-Air Motor Show\nVia Onorato Vigliani\, 11/9c\n10135 Torino\, Italy\nTel. 011 3143817 \nFACEBOOK LINK \nMore Information Available at: Mimo Autodromo Nazionale Monza 
URL:https://carcollectorsclub.com/event/mimo-autodromo-nazionale-monza-italy/
LOCATION:Autodromo Nazionale Monza\, Viale di Vedano\, 5\, Monza\, MB\, 20900\, Italy
CATEGORIES:Car Show
ATTACH;FMTTYPE=image/jpeg:https://carcollectorsclub.com/wp-content/uploads/2025/05/Milano-Monza-Motor-Show-MIMO-Car-Show-021-w1024.jpg
END:VEVENT
END:VCALENDAR