BEGIN:VCALENDAR
VERSION:2.0
PRODID:-//Car Collectors Club - ECPv6.6.3//NONSGML v1.0//EN
CALSCALE:GREGORIAN
METHOD:PUBLISH
X-ORIGINAL-URL:https://carcollectorsclub.com
X-WR-CALDESC:Events for Car Collectors Club
REFRESH-INTERVAL;VALUE=DURATION:PT1H
X-Robots-Tag:noindex
X-PUBLISHED-TTL:PT1H
BEGIN:VTIMEZONE
TZID:UTC
BEGIN:STANDARD
TZOFFSETFROM:+0000
TZOFFSETTO:+0000
TZNAME:UTC
DTSTART:20250101T000000
END:STANDARD
END:VTIMEZONE
BEGIN:VEVENT
DTSTART;TZID=UTC:20250615T100000
DTEND;TZID=UTC:20250615T100000
DTSTAMP:20260424T204419
CREATED:20250512T124942Z
LAST-MODIFIED:20250513T141837Z
UID:24838-1749981600-1749981600@carcollectorsclub.com
SUMMARY:Detroit Celebrates the "EyesOn Design" Car Show at the Historic 87-Acre Edsel & Eleanor Ford Estate on Father’s Day\, June 15\, 2025
DESCRIPTION:The 38th Annual EyesOn Design Car Show returns on Father’s Day\, Sunday\, June 15\, 2025\, transforming the historic 87-acre Eleanor & Edsel Ford Estate in Grosse Pointe Shores\, Michigan\, into a world-class celebration of automotive artistry\, design\, and innovation. \nThis year’s theme\, “The Art of Design\,” will showcase over 200 vehicles that highlight the remarkable intersection of automotive innovation and artistic expression. \n“I love this show because it’s really a designer’s car show. The cause—research for vision restoration—is so incredible. And the curation of cars is amazing.”\n— Ralph Gilles\, Chief Design Officer at Stellantis \nEyesOn Design distinguishes itself by focusing exclusively on automotive design aesthetics. Judging is conducted by professional designers from global original equipment manufacturers. \nThey evaluate each vehicle’s exterior based on emotional appeal\, execution\, artistic excellence\, and design character. Interiors are assessed for appearance\, functionality\, material usage\, color coordination\, and harmony with the exterior. \nThe Car Show will spotlight over 200 vehicles\, including legendary Detroit-manufactured models that have defined automotive design from the 1900s to the present. From iconic muscle cars like the Ford Mustang and Chevrolet Camaro to groundbreaking concepts such as the Chrysler Turbine Car. This approach ensures that recognition is given to vehicles that exemplify outstanding design\, irrespective of restoration status or historical significance. \n\nIf you need further adjustments or additional information\, feel free to let me know. \n\nFEATURED CAR CLASSES\nThe 2025 show features a diverse array of vehicle classes\, each reflecting distinct art movements: \n\nClassicism: Showcasing coachbuilt makes like Duesenberg and Packard\, illustrating the refinement of early luxury automobiles.\nArt Nouveau: Featuring vehicles with long\, flowing lines\, including Figoni and Falaschi bodied Delahayes.\nArt Deco: Highlighting streamlined designs such as the Chrysler Airflow and Cord 810.\nRomanticism: Presenting post-war British luxury cars from Rolls-Royce\, Bentley\, and Jaguar.\nRomanesque: Displaying post-war Italian sports and GT cars from Ghia\, Lancia\, Maserati\, and Alfa Romeo.\nFuturism: Exhibiting American cars with exaggerated aircraft and rocket-inspired designs from the 1950s.\nBaroque: Featuring ornate 1958 American cars from major manufacturers.\nConceptual Art: Showcasing rare concept cars from Chevrolet\, Ford\, and Chrysler.\nCubism: Highlighting geometric designs like the 1961 Lincoln Continental.\nBauhaus: Presenting German luxury coupes from Mercedes\, BMW\, and others\, emphasizing functional design.\n\n\nVISIONARY CAR CLASSES\nA unique aspect of EyesOn Design is the “Visionaries” class\, where visually impaired judges evaluate vehicles by touch\, emphasizing the event’s commitment to inclusivity and its support for the Detroit Institute of Ophthalmology. \n\nLIFETIME ACHIEVEMENT AWARDS\nThis year’s Lifetime Design Achievement Award honors Ian Callum\, CBE\, recognized for his influential work with Ford\, Aston Martin\, and Jaguar. \nThe award will be presented at the “Vision Honored” gala on Friday\, June 13\, at Michigan Central Station in Detroit. Other dignitaries include Honorary Chairman Todd Willing of Ford Motor Company\, Grand Marshal Shelley Selim from the Detroit Institute of Arts\, and commemorative poster artist Camilo Pardo. \n\nEVENT DETAILS\n\nDate: Sunday\, June 15\, 2025\nLocation: Eleanor & Edsel Ford House\, 1100 Lake Shore Road\, Grosse Pointe Shores\, MI 48236(Ford House)\nTime: 10:00 AM – 4:00 PM(eyesondesign.org)\nTicket Prices:\n\nGeneral Admission: $40 per person(Ford House)\nChildren under 10: Free with adult(eyesondesign.org)\nActive duty military: Free with ID(eyesondesign.org)\nPrivate Eyes Brunch: $125 per person; $50 for children under 10; free for children under 3. After May 17\, prices increase to $150 per person.(eyesondesign.org)\n\n\n\n\n2024 WINNERS\nThe 2024 EyesOn Design Car Show celebrated “Design Masters: A Lifetime of Design Achievement\,” featuring standout vehicles such as a 1935 SS1 Airline Saloon and a 1966 Lamborghini 400GT in its original lime green. \nThe event honored Professor Gordon Murray CBE with the Lifetime Design Achievement Award\, recognizing his influential work\, including the iconic McLaren F1. Artist Nicolas Rousselet commemorated this recognition by creating a vibrant poster featuring the McLaren F1\, capturing the essence of speed and design excellence. \n\nBuilt in 1928\, the Edsel & Eleanor Ford House is an 87-acre estate featuring over 60 rooms. Now a museum\, it offers private tours celebrating the rich history of Detroit and the Ford Motor Company. The estate’s architecture and design reflect the legacy of automotive innovation and elegance. \n\nA LEGACY OF DESIGN EXCELLENCE\nEstablished in 1987\, the EyesOn Design Car Show emerged from a collaborative vision of design leaders at General Motors\, Ford\, and Chrysler. \nConceived as an event judged exclusively by automotive designers\, it set a new standard by focusing solely on the artistry and innovation inherent in vehicle design. \nOver the years\, EyesOn Design has evolved into a premier automotive exhibition\, attracting designers\, collectors\, manufacturers\, and enthusiasts from around the globe. \n\nTHE HISTORIC FORD HOUSE VENUE\nThe event’s setting—the Edsel and Eleanor Ford House in Grosse Pointe Shores\, Michigan—adds a layer of historical significance. This 87-acre estate\, once home to Edsel Ford\, son of automotive pioneer Henry Ford\, and his wife Eleanor\, is a masterpiece of design itself. Architect Albert Kahn and landscape architect Jens Jensen crafted a residence that seamlessly blends architectural elegance with natural beauty. Designated a National Historic Landmark\, the estate offers a fitting backdrop for an event celebrating automotive design excellence. (Ford House) \n\nSUPPORTING VISIONARY RESEARCH\nBeyond its celebration of design\, EyesOn Design serves a philanthropic purpose. Proceeds from the event benefit the Detroit Institute of Ophthalmology (DIO)\, the research arm of Henry Ford Health’s Department of Ophthalmology. To date\, the event has raised over $4 million\, supporting research\, education\, and support programs for the visually impaired. \n\nIf you have any further details or specific aspects you’d like to highlight\, feel free to let me know! \n\nFor more information and to purchase tickets\, please visit the EyesOn Design official website.
URL:https://carcollectorsclub.com/event/eyes-on-design-car-show-ford-estate/
LOCATION:Edsel & Eleanor Ford House\, 1100 Lake Shore Rd\, Grosse Pointe Shores\, MI\, 48236\, United States
CATEGORIES:Car Show
ATTACH;FMTTYPE=image/jpeg:https://carcollectorsclub.com/wp-content/uploads/2025/05/DESIGN-EDSEL-ELEANOR-HENRY-FORD-ESTATE-w800-2.jpg
ORGANIZER;CN="Eyes On Design":MAILTO:pchessburg@dioeyes.org
END:VEVENT
BEGIN:VEVENT
DTSTART;TZID=UTC:20250615T100000
DTEND;TZID=UTC:20250615T153000
DTSTAMP:20260424T204420
CREATED:20220527T000341Z
LAST-MODIFIED:20250512T203230Z
UID:11925-1749981600-1750001400@carcollectorsclub.com
SUMMARY:The Rodeo Drive Concours d’Elegance Returns To Beverly Hills on Sunday\, June 15\, 2025
DESCRIPTION:The “Rodeo Drive Concours d’Elegance and Car Show” and “Rodeo Drive Road Rally” are returning to the most famous shopping street in America. On Father’s Day\, June 15\, 2025\, the City of Beverly Hills will host a police-escorted Classic Car Road Rally through the streets of Beverly Hills that culminates in the Beverly Hill Concourse d’Elegance & Car Show. \nThe Rodeo Drive Concours d’Elegance and Car Show will display some of the most exquisite automobiles ever produced on the streets of Beverly Hills. Such top brands include Rolls-Royce\, Bentley\, Aston Martin\, McLaren\, Pagani\, Lamborghini\, Bugatti\, Ferrari\, Mercedes-Maybach\, Koenigsegg\, and more\, will be on exhibit\, from American muscle cars to pre-war rarities and winning race cars. \nThe above photo features a French-styled\, award-winning show car called the “Aquarius”. The Aquarius was inspired by a Delahaye 165 and created by Rick Dore out of Oceanside\, California. Rick Dore built the car back in 1980 for Metallica band member James Hetfield. \nThe celebrity-filled Beverly Hills Concours d’Elegance\, named one of the ‘300 Unmissable Events & Festivals Around the World’ by Frommer’s\, ranks among the world’s premier car events. \nIt will showcase over 100 of the world’s finest automobiles\, carefully curated from renowned collections and displayed on Rodeo Drive in Beverly Hills\, CA. \nThese exquisite vehicles will be featured alongside luxury brands like Prada\, Gucci\, and Cartier. Visitors can also explore Two Rodeo Drive\, a quintessential spot with cobblestone walkways leading to high-end stores such as Versace and Tiffany & Co. \nThis is a must-see “Father’s Day Event” attracting over 30\,000 car lovers and will absolutely put a smile on Dad’s Face.​ \nADMISSION: Both events are FREE to attend. \nThe Beverly Hills Car Show starts at 9 a.m. on Sunday Morning with a Car Rally of fifty beautiful collectible cars and a police escort through the streets of Beverly Hills. \nShortly after\, the Rally Cars will join other classic cars parked up and down Rodeo Drive to start the 28th Annual Beverly Hills Concours d’Elegance. \nRodeo Drive will shut down for “pedestrians only” as collector cars park up and down Rodeo Drive and side streets. Some side streets include parts of Wilshire Boulevard and Santa Monica Boulevard. \nVisit Beverly Drive\, which is located between Sunset Boulevard and Wilshire Boulevard\, for the greatest views of the vehicles and car collections. \n\nThe Concours d’Elegance Car Show is FREE for all to attend and will open at 10:00 a.m. and close at 4:00 p.m. \n\nThe best place to experience all the cars is to stroll up and down Beverly Drive\, between Sunset Boulevard and Wilshire Boulevard. \n\nMAP OF THE BEVERLY HILLS ROAD RALLY \nMap of Beverly Hills Car Rally Route and Concours d’Elegance with start and finish locations. \nRodeo Drive is home to some of the most luxurious designer brands and shops in the world. Designer shops include Gucci\, Fendi\, Louis Vuitton\, Saint Laurent\, and Chanel\, just to name a few. \nRodeo Drive is also home to fine dining\, bar hopping\, and celebrity watching. To view the shopping and dining available on Rodeo Drive\, visit https://rodeodrive-bh.com/directory/ \nThe Rodeo Drive Concours d’Elegance and Road Rally has been a Father’s Day tradition for many in Southern California for the past 28 years. \nVIDEO: Beverly Hills Car Show | The Rodeo Drive Concours d’Elegance \n \nThe Car Show\, the Concours d’Elegance\, and the Road Rally are all managed and supported by the City of Beverly Hills. \nAdditional supporters are the Rodeo Drive Committee\, Rolls-Royce Motor Cars\, and local companies O’Gara Coach\, Auto Vault Storage\, Geary’s\, Two Rodeo\, Ferrari of Beverly Hills\, Mercedes-Benz of Beverly Hills\, RM Sotheby’s\, and Pirelli Tire. \nThe event directly benefits the Beverly Hills Police Officers Association and Beverly Hills Firefighters’ Association\, non-profit charities raising funds for first responders and their families. \nEntry to the event is free\, with parking available at local parking garages. To learn more\, visit beverlyhills.org/concoursbh. \nParticipation in the Road Rally and Car Tour is limited to pre-registered vehicles only\, but the public is welcome to watch from their cars or sidewalks along the route. Use the link if you are interested in being considered for participation. \n  \n\nEVENT SUMMARY & Schedule \n\nDATE: SUNDAY\, JUNE 15\, 2025 AT 10 am – 4 pm\nEvent: Rodeo Drive Concours d’Elegance and Car Show\nEvent: TOUR d’Elegance* Start at 9:30 am\nDate: Sunday\, June 15th\, 2025 – Father’s Day\nTickets: FREE\n\n  \n\nLocation: Rodeo Drive\, Beverly Hills\, California\nThe Car Show Starts: at 10:00 am\nCar Show Ends: 4:00 pm\nSpectator Admission: FREE\nAttendance: 30\,000\nCars In Show: +50 Cars\n\n  \nTo find more exciting events\, you can go to this Travel Guide. \nALSO SEE: The World’s Greatest Collector Car Event Calendar Includes All Upcoming Classic Car Auctions and Concours d’Elegance
URL:https://carcollectorsclub.com/event/the-rodeo-drive-concours-delegance-beverly-hills/
LOCATION:Rodeo Drive\, Rodeo Drive\, Beverly Hills\, CA\, 90210\, United States
CATEGORIES:Car Show
ATTACH;FMTTYPE=image/jpeg:https://carcollectorsclub.com/wp-content/uploads/2022/05/Rodeo-Drive-Concourse-Delegance-Car-Show01.jpg
ORGANIZER;CN="The Rodeo Drive Concours d%E2%80%99Elegance":MAILTO:bhsocialmedia@beverlyhills.org
END:VEVENT
END:VCALENDAR