BEGIN:VCALENDAR
VERSION:2.0
PRODID:-//Car Collectors Club - ECPv6.6.3//NONSGML v1.0//EN
CALSCALE:GREGORIAN
METHOD:PUBLISH
X-ORIGINAL-URL:https://carcollectorsclub.com
X-WR-CALDESC:Events for Car Collectors Club
REFRESH-INTERVAL;VALUE=DURATION:PT1H
X-Robots-Tag:noindex
X-PUBLISHED-TTL:PT1H
BEGIN:VTIMEZONE
TZID:UTC
BEGIN:STANDARD
TZOFFSETFROM:+0000
TZOFFSETTO:+0000
TZNAME:UTC
DTSTART:20230101T000000
END:STANDARD
END:VTIMEZONE
BEGIN:VEVENT
DTSTART;TZID=UTC:20230824T090000
DTEND;TZID=UTC:20230826T170000
DTSTAMP:20260421T105131
CREATED:20230729T122416Z
LAST-MODIFIED:20230825T202908Z
UID:13120-1692867600-1693069200@carcollectorsclub.com
SUMMARY:The "Corvettes at Carlisle" Car Show Will Host The World's Largest Corvette Festival In Carlisle\, PA On August 24-26\, 2023 
DESCRIPTION:(Updated July 30\, 2023) — The annual “Corvettes at Carlisle” is the world’s largest Corvette car show\, attracting over 5\,000 Corvette lovers and car enthusiasts for a three-day celebration of the history of the Corvette. The mega car show takes place at the Carlisle Fairgrounds in Carlisle\, PA\, on August 24-26\, 2023. \nThe Corvette car show will be held at the 82-acre Carlisle Fairgrounds\, which includes four indoor exhibit building halls\, indoor and outdoor event stages\, a jumbo grandstand\, and plenty of parking. \nAt the fairgrounds\, the two-day car show will feature over 400 Corvettes; a massive amount of Corvette memorabilia; staged entertainment; an automotive flea market; entertainment; food\, and drinks. \n\nThe three-day weekend includes two must-see separate events. \n\n\nCorvette Car Show\nThe first event is a massive “Corvette Car Show\,” where Corvette owners travel from all over the country to display their vehicles. There are rows and rows of brand-new Corvettes\, as well as older\, vintage\, and historic Corvettes. \nThe Corvettes include all seven generations\, including the most recent C8 and Z06 Corvettes\, as well as the 1953 C1 model. This car show will be held at the Carlisle Fairgrounds on Thursday\, August 24\, and Friday\, August 25\, from 9:00 a.m. to 6:00 p.m. \nCorvette Parade Park & Party\n \nThe second event is called the “Corvette Parade Park & Party\,” which is a daylong cruise where hundreds of Corvettes cruise up and down Main Street in the Historic District of Carlisle\, Pennsylvania. \nAfter the cruise\, the party starts as the bars and restaurants fill up with story-telling Corvette lovers. \nThis all-day parade takes place on Saturday\, August 26\, and is FREE for everyone to join. \nTICKETS\nTickets for the Corvettes at the Carlisle Event are $20 for a one-day general admission ticket or you can purchase a three-day pass for $30.00. Children are admitted FREE of charge – but must be supervised by an adult. (BUY TICKETS HERE) \nThe Corvettes at Carlisle Car Show will play host to over 5\,000 Corvette lovers who will be personally featuring over 400 new and old Corvettes at the 82-acre Carlisle Fairgrounds in Carlisle\, PA on August 25-27\, 2022. \n\nEVENT DATE: August 24 – 26\, 2023 \nTIME: Thurs- Sat: 7AM- 6PM \nADMISSION: \n• Daily Thurs- Sat: *$20 (BUY TICKETS HERE)\n• Spectator Event Pass: *$35\n• Kids 12 & Under FREE \nLOCATION\nCarlisle Fairgrounds\n1000 Bryn Mawr Rd\nCarlisle\, PA\, 17013\n(SEE MAP) \nFACEBOOK LINK \nPRESENTED BY: \nCarlisle Events\n7172437855\ninfo@carlisleevents.com \nSPONSOR:\nEbay Motors \n\nVIDEO: Views From Above Corvettes at Carlisle
URL:https://carcollectorsclub.com/event/corvettes-at-carlisle-car-show-farigrounds/
LOCATION:Carlisle Fairgrounds\, 1000 Bryn Mawr Rd\, Carlisle\, PA\, 17013\, United States
CATEGORIES:Car Show
ATTACH;FMTTYPE=image/jpeg:https://carcollectorsclub.com/wp-content/uploads/2022/08/Corvettes-at-Carlisle-Car-Show-2022-w1024.jpg
ORGANIZER;CN="Corvettes at Carlisle":MAILTO:info@carlisleevents.com
END:VEVENT
END:VCALENDAR