BEGIN:VCALENDAR
VERSION:2.0
PRODID:-//Car Collectors Club - ECPv6.6.3//NONSGML v1.0//EN
CALSCALE:GREGORIAN
METHOD:PUBLISH
X-ORIGINAL-URL:https://carcollectorsclub.com
X-WR-CALDESC:Events for Car Collectors Club
REFRESH-INTERVAL;VALUE=DURATION:PT1H
X-Robots-Tag:noindex
X-PUBLISHED-TTL:PT1H
BEGIN:VTIMEZONE
TZID:UTC
BEGIN:STANDARD
TZOFFSETFROM:+0000
TZOFFSETTO:+0000
TZNAME:UTC
DTSTART:20210101T000000
END:STANDARD
END:VTIMEZONE
BEGIN:VEVENT
DTSTART;TZID=UTC:20211021T100000
DTEND;TZID=UTC:20211024T160000
DTSTAMP:20260421T140833
CREATED:20211003T052713Z
LAST-MODIFIED:20211020T212704Z
UID:8091-1634810400-1635091200@carcollectorsclub.com
SUMMARY:The Las Vegas Concours d’Elegance Presents the "Best of Show - Helene Award" The Weeknend of October 21-24\, 2021
DESCRIPTION:The Las Vegas Concours d’Elegance will again bring more than 150 magnificent collectible show cars to the world’s entertainment capital at the Las Vegas Ballpark in Summerlin during the days of October 21-21\, 2021. \nOnly in its second year\, the Las Vegas Concours d’Elegance 2021 has announced that beyond a competition of cars\, the event will feature a new venue of pre-show Concours d’Avant\, experiential celebrations\, and all-new upscale luxury events. \nAt the Concourse\, and competing for the “The Best of Show Award” this year\, is a 1933 Lincoln KA Cabriolet that was formerly owned by the Disney actor\, Fess Parker. It will stand among the other 150 vintage cars to complete for the nicest car on the field. \nThere will be 15 car classes competing for awards and some cars that date back to 1903. \nAnother rarity to see is the 1935 Duesenberg JN Bojangles Sports Sedan owned by car collector Rob Hilardes of Visalia\, California. It will be on display at the Las Vegas Concours d’Elegance and is expected to pick up a major award.. \nThe Duesenberg JN has pedigree. The Duzy was originally owned by the famous actor and dancer Bill “Bojangles” and purchased for only $17\,000 – back in 1935. \nToday\, the Duesenberg could be worth over one million dollars and more if it captures the prestigious “Best of Show” award. \nBill Robinson’s (Bojangles) 1935 Duesenberg Model JN Berline with a body by Rollston. Robinson bought it off of the showroom at the Duesenberg factory branch in New York\, for which he paid an astonishing (for 1935) $17\,500. \nFrom the owners of the Las Vegas Concours: \n“We initially set out to ensure that our inaugural event would earn its rightful place among the famed Concours showings and competitions from around the world\,” notes founder\, Stuart Sobek\, “and we achieved our goal. Now we are focused on elevating our second year to even greater heights.” \nThe 2021 Las Vegas Concours will recognize and present a lifetime achievement award called the Helene Award. \n\nABOUT THE BEST OF SHOW AWARD & HELENE AWARD \nCelebrating excellence in the automotive industry\, leaning more toward vehicle design\, is the Helena Award.\nThe Helene Award is the show’s highest award and is reserved for the cars chosen as “Best of Show”. \nThe first award will be presented to Mr. Peter Brock for his lifetime of achievement in automotive design. \nAnd later\, the second award will be presented to Ms. Constance Smith\, an automotive engineer\, author\, and car enthusiast\, for her extended contribution to Education within the automotive industry. \n\nLas Vegas Concours d’Elegance 2021\nSchedule\, Admission\, and Event Highlights \n\nDate: October 21-24\, 2021\nVenue: Las Vegas Concours d’Elegance 1650 S Pavilion Center Dr\, Las Vegas\, NV 89135\nLocation: Las Vegas\, NV\nConcours d’Elegance & Car Show Tickets: Adult: $100  for Saturday\, October 23\, 2021\nVIP Tickets: $225 for Saturday\, October 23\, 2021\nTour d’Elegance to Red Rock National Park is a FREE Event\nFeatured: 2021\, we will award two honorary Helene Awards at the Concours Awards Ceremony.\nWebsite: https://lasvegasconcours.com/\nFacebook\nInstagram\nPhone: (702) 992-0512\nYear founded: 2019\nPresenting sponsors: Towbin Motorcars\nNumber of Cars on Display: +100\nMark Streeter / City VIP Concierge / 702.741.2489 / Agent@CityVIPConcierge.com\nLocation description: Completed in 2019 by the Howard Hughes Company\, this $150 million dollar facility is a state-of-the-art modern ballpark that was voted “Best Base Ball Park” in 2019. This grassy outfield venue will be an elegant modern setting for the Concours Car Show.\nBUY TICKETS HERE\n\n\nTOUR D’ELEGANCE. – (8:00 am on Sunday in the Transporter Area of the parking lot at approximately)  \nThe Tour d’Elegance will be a majestic mountain drive through the rolling Red Rock National Park on Sunday morning. \nIf you can make it\, this is worth doing!  You will never believe you are just ten miles from the Downtown  Vegas Strip. \n\nLAS VEGAS CONCOURS D’ELEGANCE 2021 SCHEDULE OF EVENTS\nTHURSDAY\, OCTOBER 21\, 2021\, is the “CONCOURS D’AVANT” \n\nTransport Arrivals. They will be accepting early arrivals for parking and transport placement beginning at NOON on Thursday.\nThe Concours d’Avant. The Opening Night Soiree will take place from 3:30 pm-6:30 pm at the Shelby Heritage Center. The Shelby Heritage Center has been home to over 30 Shelby vehicles and tells the Carroll Shelby Story from its inception in 1962.\nThe Heritage Center is constantly updating its cars to keep⁹ things fresh.  This is a FREE event for all car enthusiasts\, car clubs members\, Concours d’elegance attendees.\n\n  \nFRIDAY\, OCTOBER 22\, 2021 is the “FIELD OF DREAM CARS”  \n\n1:00 pm – 4:30 pm – Friday Show Vehicle Load-In\n6:00-9:00 pm  – “Field of DreamCars” Private Invitation Only Dinner Party at the Las Vegas Ballpark\, for Exhibitors\, Judges\, and Sponsors. This is a casual dinner where attendees can eat\, drink\, and mingle while roaming the Las Vegas Ballpark. Starting at the Club Level\, all attendees have time to visit some of the Ballparks SkyBox Suites and mingle with Sponsors and Exhibitors. Also can walk down to the Mall Level\, and visit vendor displays featuring classic and vintage cars\, new cars\, exquisite Art\, Branded Jewelry\, new fashion styles\, and more.\n\n  \nSATURDAY\, OCTOBER 23\, 2021 is the LAS VEGAS CONCOURS D’ELEGANCE  \n\nMain Event: +100 Classic Cars at the Las Vegas Concours d’Elegance\n9:30am-10:30am – Final Load-In\n10:30 am- All Cars in position\n11:00 am – Judging Begins\n11:00 am – 12:00 pm – “MVPs” VIP field access.\n12:00 pm-6:00 pm – Towbin Motorcars presents the 2nd Annual Las Vegas Concours d’Elegance\n4:00 pm-6:00 pm – Awards Show\n6:00 pm BEST OF SHOW presentations.\nBUY TICKETS HERE\n\n  \nSunday\, October 24\, 2021 \nOCTOBER 01.2021 UPDATE: Our Sunday morning Tour d’Elegance has been postponed for 2021. All other events of the weekend remain and are on schedule. This is the only event of the weekend that must unfortunately be postponed. Rest assured that in 2022 the Tour d’Elegance will return\, bigger\, better and more spectacular. Thanks for your understanding. \n\nTHE “BEST OF SHOW” of THE HELENE AWARD EXPLAINED \nHelene Rother (1908–1999) was the first woman to work as an automotive designer when she joined the interior styling staff of General Motors in Detroit in 1943 \nThe Helene Award is the same as the “Best of Show Award” at the Las Vegas Concours d’Elegance. Named after Helene Rother\, the first female General Motors automotive designer who was hired in 1943. This award sets a different tone for this Concours\, demonstrating automotive achievement is open to both men and women. \nAside from “Best of Show”\, individuals will be singled out for Helene Awards in several categories: design innovation\, industry achievement\, product development\, and technical achievement\, legacy collections and collectors\, photography\, publishing\, and media. The physical awards include a likeness of Helene Rother’s head\, making its namesake clear. \n  \n\n2021 CARS COMPETE FOR AWARDS \n\nAntique PRE 1916 AND Vintage 1916-1925\nAmerican Classics 1948 and earlier OPEN\nAmerican Classics 1948 and earlier CLOSED\nEuropean Classics 1948 and earlier\nPrewar Sports and Sports Racing\nAuburn Cord Duesenberg\nAmerican Postwar Oddities thru 1974\nPostwar Sports and Sports Racing British\nPostwar Sports and Sports Racing European\nPostwar Sports and Sports Racing American\nPostwar American Road Cars 1985 and earlier\nPostwar European Road Cars 1990 and earlier\nSupercars 1971-1990\nRace Cars\, all years\nCadillac Through the Years from 1953\n\n2021 DISPLAY CLASSES \n\nJapanese Cars 1946-1990\nFerraris for the Road\, 2011-Present.\nVery Limited Production\, Concept\, One-off\nVEGAS STRONG Restomods Collections\n\n\nBest of Show winners 2019 for the very first Helene Awards granted to car owners.  \n\nBest of Show Pre-War was awarded to the 1931 Bugatti Dubos of the Nethercutt Collection\, Sylmar\, CA\nBest of show Post-War was awarded to the 1953 Ferrari 250 Europa Vignale of the Cogan Collection\, Louisville\, KY.\n\nCongratulations to the Honorary Helene Award Winners\, Sheri Goldstrom as an Automotive Collector\, Michael Furman for his fine Automotive Photography\, and ArtCenter College of Transportation Design\, for educating Automotive Designers. \n\nLas Vegas Concours d’Elegance\n1650 S Pavilion Center Dr\, Las Vegas\, NV 89135\nhttp://thelvballpark.com/\n702-943-7200 \n\nComplete Event Details Listed Below \n 
URL:https://carcollectorsclub.com/event/las-vegas-concours-delegance-and-car-show-october-21-24-2021/
LOCATION:Las Vegas Ballpark\, 1650 S Pavilion Center Dr\, Las Vegas\, NV\, 89135\, United States
CATEGORIES:Car Show
ATTACH;FMTTYPE=image/jpeg:https://carcollectorsclub.com/wp-content/uploads/2021/10/Las-Vegas-Concours-dElegance-and-Car-Show-October-2021.jpg
ORGANIZER;CN="Towbin Motorcars":MAILTO:info@lasvegasconcours.com
END:VEVENT
BEGIN:VEVENT
DTSTART;TZID=UTC:20211022T100000
DTEND;TZID=UTC:20211024T160000
DTSTAMP:20260421T140833
CREATED:20210929T184934Z
LAST-MODIFIED:20210929T195320Z
UID:7981-1634896800-1635091200@carcollectorsclub.com
SUMMARY:Greenwich Concours d'Elegance Car Show Celebrates 100 Years of Duesenberg on October 22-24\, 2021
DESCRIPTION:Founded in 1995\, the Greenwich Concours d’Elegance will take place this year on the weekend of October 24th and will feature and Classic Car Grand Tour\, a vintage car-themed waterfront party\, and a Classic Concours d’Elegance to finalize the event on Sunday.  \nOver the three days of the event\, classic\, rage\, vintage vehicles will be on display along with festive car themed family-friendly activities. At the event this year\, you will be able to view a very special arrangement of car collections. The classes include Ford vs. GM\, Lancia\, 100 Years of Duesenberg\, 70 Years of Allard\, Right Coast Rods\, Vintage SUVs\, 120 Years of Indian\, and 100 Years of Moto Guzzi. \n\nGreenwich Concours & Car Show Ticket\, Admission & Location Information \nTICKETS AND ADMISSION\nGeneral Admission \n\nDay Pass (Saturday and Sunday): $45 online and $55 at the gate\nAdult Weekend Pass: $80 online and $100 at the gate\nYounger Enthusiasts (ages 13-22)\nDay Pass (Saturday and Sunday) $35 online and at the gate\nWeekend Pass $60 online and at the gate\nChildren 12 and under are FREE\n(BUY TICKETS)\n\nWeekend for One VIP Package –Cost: $700\nVisit Greenwich as a VIP and pack the whole weekend full of car love. Enjoy a weekend pass for both both Saturday and Sunday\, a ticket to our exclusive Saturday night Waterfront Party\, access to the VIP area on the show field and in the seminar tent\, and a VIP parking pass. Reserve your ticket today; availability is limited. (BUY TICKETS) \nWeekend for Two VIP Package – Cost: $1\,300\nDouble the car love with two weekend passes that include all the Greenwich events on both Saturday and Sunday\, two tickets to our exclusive Saturday night Waterfront Party\, access for two to the VIP area on the show field and in the seminar tent\, and a VIP parking pass. Reserve your ticket today; availability is limited. (BUY TICKETS) \n\nEVENT AND CAR SHOW LOCATION \n\nRoger Sherman Baldwin Park\, 100 Arch St\, Greenwich\, CT 06830 (MAP)\nShow field hours are 10 am – 4 pm on Saturday and Sunday.\nThe Concours will be held outdoors\, rain or shine.\n\nFOOD & DRINK\nBar\, Concessions and Retail: All will be available on the show field for purchase. Cards preferred. \n\nConcours and Car Show Location\nRoger Sherman Baldwin Park\n100 Arch St\, Greenwich\, CT \nContact information\nEmail : info@greenwichconcours.com \nConcours dates\n21 – 24 October 2021
URL:https://carcollectorsclub.com/event/greenwich-concours-delegance-car-show-october-22-24-2021/
LOCATION:Roger Sherman Baldwin Park\, 100 Arch Street\, Greenwich\, CT\, 06830\, United States
CATEGORIES:Car Show
ATTACH;FMTTYPE=image/jpeg:https://carcollectorsclub.com/wp-content/uploads/2021/09/Greenwich-Concours-dElegance-October-24-2021-02-w1280x800.jpg
ORGANIZER;CN="Greenwich Concours d%E2%80%99Elegance":MAILTO:info@greenwichconcours.com
END:VEVENT
END:VCALENDAR