BEGIN:VCALENDAR
VERSION:2.0
PRODID:-//Car Collectors Club - ECPv6.6.3//NONSGML v1.0//EN
CALSCALE:GREGORIAN
METHOD:PUBLISH
X-WR-CALNAME:Car Collectors Club
X-ORIGINAL-URL:https://carcollectorsclub.com
X-WR-CALDESC:Events for Car Collectors Club
REFRESH-INTERVAL;VALUE=DURATION:PT1H
X-Robots-Tag:noindex
X-PUBLISHED-TTL:PT1H
BEGIN:VTIMEZONE
TZID:UTC
BEGIN:STANDARD
TZOFFSETFROM:+0000
TZOFFSETTO:+0000
TZNAME:UTC
DTSTART:20210101T000000
END:STANDARD
END:VTIMEZONE
BEGIN:VEVENT
DTSTART;TZID=UTC:20211008T090000
DTEND;TZID=UTC:20211008T120000
DTSTAMP:20260421T140500
CREATED:20220505T031548Z
LAST-MODIFIED:20221005T014730Z
UID:11729-1633683600-1633694400@carcollectorsclub.com
SUMMARY:Supercar Saturdays Exotic Car Show Showcases Over 100 Exotic Supercars In Pembrook Pines\, FL
DESCRIPTION:(Updated Sept. 9\, 2022) Come join one of the largest Exotic Supercar cavalcades in South Florida. Supercar Saturdays of Florida will showcase over 100 of the world’s most exotic cars at the Pembroke Pines Shopping District. \nBeyond Exotic Super Cars\, you will be able to experience “Luxury cars\, Sports cars\, Custom cars\, Super and Hyper cars\, as well as Classic & Exotic” cars. This is a FREE event and open to the public. All guest cars are invited to participate in the car show. \nThe Supercar Saturdays Car Show Of Florida Is Held On The Second Saturday Of Every Month In Pembroke Pines\, Florida. \nSpecifically\, Exotic Supercars will be offered and presented by Lamborghini\, Bugatti Broward\, and Koenigsegg Florida. \n 
URL:https://carcollectorsclub.com/event/supercar-saturdays-florida-pembroke-pines/
LOCATION:The Shops at Pembroke Gardens\, 527 SW 145th Terrace\, Pembroke Pines\, FL\, 33026\, United States
CATEGORIES:Car Show
ATTACH;FMTTYPE=image/jpeg:https://carcollectorsclub.com/wp-content/uploads/2022/05/Supercar-Saturday-Saturday-Car-Show-Pembroke-Pines-Florida-2022-01-w1024.jpg
ORGANIZER;CN="Supercar Saturdays":MAILTO:supercarsaturdaysflorida@gmail.com
END:VEVENT
END:VCALENDAR