BEGIN:VCALENDAR
VERSION:2.0
PRODID:-//Car Collectors Club - ECPv6.6.3//NONSGML v1.0//EN
CALSCALE:GREGORIAN
METHOD:PUBLISH
X-WR-CALNAME:Car Collectors Club
X-ORIGINAL-URL:https://carcollectorsclub.com
X-WR-CALDESC:Events for Car Collectors Club
REFRESH-INTERVAL;VALUE=DURATION:PT1H
X-Robots-Tag:noindex
X-PUBLISHED-TTL:PT1H
BEGIN:VTIMEZONE
TZID:UTC
BEGIN:STANDARD
TZOFFSETFROM:+0000
TZOFFSETTO:+0000
TZNAME:UTC
DTSTART:20210101T000000
END:STANDARD
END:VTIMEZONE
BEGIN:VEVENT
DTSTART;TZID=UTC:20210910T100000
DTEND;TZID=UTC:20210912T170000
DTSTAMP:20260421T154246
CREATED:20210820T210128Z
LAST-MODIFIED:20211202T035334Z
UID:8659-1631268000-1631466000@carcollectorsclub.com
SUMMARY:Radnor Hunt Concours d'Elegance Fundraiser For The Thorncroft Equestrian Center Gathers September 11-12\, 2021
DESCRIPTION:Radnor Hunt Councours d’Elegance is more than a car show. It is a fundraiser and international exhibition of One Hundred Classic Cars and Motorcycles with elegant lines and often elegant lineage to match. Another unique feature of our event is the display of horse-drawn coaches\, carriages and our very own Radnor Fox Hounds can be seen. Historic\, Classic\, Race and Antique vehicles of all era’s. \nVintage Motorcycles and Cars line the open field of the Radnor Hunt Club in Malvern PA each year for three days in September\, attracting over 3\,000 visitors of every age and background. \nWe also feature a New Car Automotive Paddock to see the latest makes and models. The Radnor Hunt Foundation is a not-for-profit organization and the beneficiaries of the event is the Thorncroft Equestrian Center in Malvern\, PA. http://thorncroft.org \nThe Radnor Hunt Concours d’Elegance is more than a car show. It is a fundraiser benefiting Thorncroft Equestrian Center and an international exhibition of classic cars and motorcycles. \nThe Radnor Hunt Concours d’Elegance is more than a car show. It is a fundraiser benefiting Thorncroft Equestrian Center and an international exhibition of classic cars and motorcycles. All the cars and motorcycles you will see are invited to participate in the Concours by the respective Concours Selection Committee to be part of a featured class such as a specific car or motorcycle marque. Historic\, classic\, race and antique vehicles of all eras complete the show field of approximately 150 cars and motorcycles. Another unique feature of our event is the display of horse-drawn coaches and carriages\, as well as a performance by our very own Radnor Hunt Fox Hounds. Each year\, the event attracts over 4\,000 attendees to the rolling countryside of Malvern. We also feature a New Car Automotive Paddock to see the latest makes and models. You can even bring your own car to be part of MotorSport Park with car club style parking. \nThe Radnor Hunt Concours d’Elegance is in its twenty-third year. It was started with a group of friends and about 35 cars\, and has evolved into a three-day event that incorporates a variety of activities. It begins with the Friday Night BBQ at Radnor Hunt.  The following morning is the Chester County Road Rally and a Cars and Coffee gathering. Saturday evening features the Black-Tie Gala and Art Show Preview\, with dinner and dancing. Sunday is MotorSport Park (our car club gathering area)\, the Silent Auction\, The Marketplace featuring food\, clothing and lifestyle vendor tents\, and of course\, the Concours d’Elegance. Awards are given for Best of Show\, Peoples’ Choice\, Best in Class and many more. \nProceeds from the event will benefit Thorncroft Equestrian Center in Malvern\, Pennsylvania. The Thorncroft Equestrian Center is committed to a mainstreaming approach for teaching horseback riding and promoting the development of new and independent therapeutic riding programs\, particularly for those with special needs its a wonderful cause http://thorncroft.org \nFor more information\, visit www.radnorconcours.org \n\nRADNOR HUNT CLUB\n826 Providence Rd\, Malvern\, PA 19355 \n\n\n\nFRI\, SEP 10 20216:00 PM—SUN\, SEP 12 20214:00 PM\nSeptember 11-12\, 2021
URL:https://carcollectorsclub.com/event/radnor-hunt-concours-delegance-september-11-12-2021/
LOCATION:Randor Hunt Club\, 826 Providence Rd\, Malvern\, PA\, 19355\, United States
CATEGORIES:Car Show
ATTACH;FMTTYPE=image/jpeg:https://carcollectorsclub.com/wp-content/uploads/2021/08/Radnor-Hunt-Concours-dElegance-01-w1024.jpg
ORGANIZER;CN="Radnor Hunt Concours d'Elegance":MAILTO:info@radnorconcours.org
END:VEVENT
END:VCALENDAR