BEGIN:VCALENDAR
VERSION:2.0
PRODID:-//Car Collectors Club - ECPv6.6.3//NONSGML v1.0//EN
CALSCALE:GREGORIAN
METHOD:PUBLISH
X-ORIGINAL-URL:https://carcollectorsclub.com
X-WR-CALDESC:Events for Car Collectors Club
REFRESH-INTERVAL;VALUE=DURATION:PT1H
X-Robots-Tag:noindex
X-PUBLISHED-TTL:PT1H
BEGIN:VTIMEZONE
TZID:UTC
BEGIN:STANDARD
TZOFFSETFROM:+0000
TZOFFSETTO:+0000
TZNAME:UTC
DTSTART:20210101T000000
END:STANDARD
END:VTIMEZONE
BEGIN:VEVENT
DTSTART;VALUE=DATE:20210613
DTEND;VALUE=DATE:20210614
DTSTAMP:20260421T205531
CREATED:20210326T232010Z
LAST-MODIFIED:20210327T003514Z
UID:4144-1623542400-1623628799@carcollectorsclub.com
SUMMARY:Cincinnati Concours d’Elegance Car Show at Ault Park on June 13\, 2021
DESCRIPTION:Visit Cincinnati’s eastside for the most anticipated car show of the year presented by Exair! The 43rd Cincinnati Concours d’Elegance celebrates all elements of automotive competition in its featured theme: An Exhibition of Motorsport Excellence. And proceeds benefit Juvenile Arthritis programs of the Arthritis Foundation. \nWe invite you to join our celebration of ‘An Exhibition of Motorsport Excellence’ featuring more than 200 cars and motorcycles in the historic gardens of Ault Park. This curated outdoor automotive museum will highlight all things racing with specialty displays of the 100th Anniversary of Lincoln\, 60 Years of the Jaguar E-Type\, 50 Years of the Nissan Z-cars\, and Microcars. Guests will also have the opportunity to enjoy fine art\, craft beverages\, and a VIP Brunch. Sponsored by EXAIR. \nCincinnati Concours d’Elegance\nSchedule\, Admission\, and Event Highlights \n\nDate: June 11–13\, 2021\nVenue: Ault Park  3612 Observatory Ave.Cincinnati\, OH 45208\nLocation: Cincinnati\, OH\nCar Show Tickets: Adult: $30 (advance – $25)\, Student: All ages with school ID – $15\, Youth:12 & under – free\nAdmission Private Collection and Tasting\, $225\nAdmission Countryside Tour\, $25\nAdmission Hangar Party\, $150\nAdmission Concours d’Elegance\, $30\nFeatured: An Exhibition of Motorsports Excellence with\nhonored IndyCar collector Bob McConnell; Specialty Displays:\n100 Years of Lincoln\, 60th Anniversary of Jaguar E-type\, 50th\nAnniversary of the Z-Car\, and Microcars\nWebsite: www.ohioconcours.com\nFacebook\nPhone: 513.321.1951\nYear founded: 1978\nPresenting sponsors: EXAIR Inc.\nNumber of Cars on Display: +180\nHost hotel: The Summit\, 5345 Medpace Way\, Cincinnati\,\nOH 45227\, 513.527.9900; Best Western Mariemont Inn\, 6880\nWooster Pike\, Cincinnati\, OH 45227\, 513.271.2100\nLocation description: Ranked by Forbes and The New York\nTimes as one of the top cities to live and visit\, Cincinnati is\nhome to the Concours d’Elegance weekend of events. Sunday’s\nConcours is held in the historic gardens of Ault Park.\n\n\n\n2021 Weekend of Events \nCountryside Tour\nSaturday\, June 12\, 2021 | Departing at 1:00 PM \nMariemont Square 6900 Wooster Pike Cincinnati\, OH 45227\nWe invite you to drive in our scenic tour traveling north from Mariemont Square. The tour concludes at Horsepower Farm in Middletown\, Ohio with lite refreshments and an impressive garage tour and car collection. Sponsored by Lincoln of Cincinnati \n\n\n  \nHangar Party \nCincinnati Concours Hangar Party \nSaturday\, June 12\, 2021 | 5:00 PM – 9:00 PM\nExecutive Jet Management  4556 Airport Road  Cincinnati\, OH 45226 \nJoin us for this ultimate car enthusiast event at a Cincinnati landmark – Lunken Airport. Experience a red carpet greeting and gourmet dinner by the bite while you peruse a one-of-a-kind display of exotic cars and motorcycles\, private jets\, and luxury motor coaches. Sponsored by Porsche of the Village. \n\n  \nConcours d’Elegance\nSunday\, June 13\, 2021 | 10:00 AM – 4:00 PM\nAult Park  3600 Observatory Ave. Cincinnati\, OH 45208 \nWe invite you to join our celebration of ‘An Exhibition of Motorsport Excellence’ featuring more than 200 cars and motorcycles in the historic gardens of Ault Park. This curated outdoor automotive museum will highlight all things racing with specialty displays of 100th Anniversary of Lincoln\, 60 Years of the Jaguar E-Type\, 50 Years of the Nissan Z-cars\, and Microcars. Guests will also have the opportunity to enjoy fine art\, craft beverages\, and a VIP Brunch. Sponsored by EXAIR \n  \nBrunch at the Pavilion\nBrunch at the Pavillion \nSunday\, June 13\, 2021 | 11:00 AM – 1:00 PM\nAult Park Pavilion  3600 Observatory Ave. Cincinnati\, OH 45208 \nReturning again this year is the Brunch at Ault Park Pavilion\, serving 3 sessions from 11:00 a.m. to 11:45 a.m.\, 12:00 p.m. to 12:45 p.m.\, and 1:00 p.m. to 1:45 p.m.  Enjoy a delightful brunch of gourmet selections.  Seating is provided under the Pavilion.  Tickets are required for admission. \n  \nCraft Beer Garden\nSunday\, June 13\, 2021 | TBD\nAult Park Pavilion   3600 Observatory Ave. Cincinnati\, OH 45208 \nThe Craft Beer Garden takes place at the Ault Park Pavilion during the Concours d’Elegance Car Show and features celebrated local craft breweries. Sponsored by Primetime. A separate ticket is required for entrance. Stay tuned for our 2021 Brewery Line-Up. \n  \nWilliam Sherman Automotive Art Show\nSunday\, June 13\, 2021 | 10:00 AM – 4:00 PM\nAult Park Pavilion  3600 Observatory Ave. Cincinnati\, OH 45208 \nThe art show takes place adjacent to the Ault Park Pavilion during the Concours d’Elegance Car Show and features automotive fine artists. This event is free to all Concours d’Elegance attendees. Sponsored by Kromholz Jewelers. \n  \nFriday Fundraiser Party \nFriday Fundraiser Party \nFriday\, June 11\, 2021 | 6:30 PM – 10:30 PM\nPostponed for 2021 Cincinnati \, OH \nOur weekend kicks off with an elegant gala event. This gala will highlight a unique culinary experience with more details to follow. Reservations are limited. Gather your friends and reserve tickets for this exclusive opportunity to celebrate amongst a diverse set of business and community leaders.
URL:https://carcollectorsclub.com/event/cincinnati-concours-delegance-car-show-at-ault-park-on-june-13-2021/
LOCATION:Ault Park\, 3612 Observatory Ave\, Cincinnati\, OH\, 45208\, United States
CATEGORIES:Car Show
ATTACH;FMTTYPE=image/jpeg:https://carcollectorsclub.com/wp-content/uploads/2021/03/Cincinnati-Concours-dElegance-04-w1200.jpg
ORGANIZER;CN="Cincinnati Concours d%E2%80%99Elegance":MAILTO:info@ohioconcours.com
END:VEVENT
END:VCALENDAR