BEGIN:VCALENDAR
VERSION:2.0
PRODID:-//Car Collectors Club - ECPv6.6.3//NONSGML v1.0//EN
CALSCALE:GREGORIAN
METHOD:PUBLISH
X-WR-CALNAME:Car Collectors Club
X-ORIGINAL-URL:https://carcollectorsclub.com
X-WR-CALDESC:Events for Car Collectors Club
REFRESH-INTERVAL;VALUE=DURATION:PT1H
X-Robots-Tag:noindex
X-PUBLISHED-TTL:PT1H
BEGIN:VTIMEZONE
TZID:UTC
BEGIN:STANDARD
TZOFFSETFROM:+0000
TZOFFSETTO:+0000
TZNAME:UTC
DTSTART:20210101T000000
END:STANDARD
END:VTIMEZONE
BEGIN:VEVENT
DTSTART;VALUE=DATE:20210530
DTEND;VALUE=DATE:20210531
DTSTAMP:20260421T223037
CREATED:20210326T221624Z
LAST-MODIFIED:20210525T085004Z
UID:4129-1622332800-1622419199@carcollectorsclub.com
SUMMARY:Sandhills Motoring Festival & Car Show in Pinehurst NC on May 28–30\, 2021
DESCRIPTION:The Sandhills Motoring Festival (SMF) will take place on Memorial Day Weekend\, 2021 from Friday\, May 28th through Sunday\, May 30th. We have a variety of events lined up all culminating in the Sunday Car Show taking place in the historic Village of Pinehurst from 9am until 3pm. Proceeds from the event will be donated to Sandhills Community College Foundation. \nSchedule\, Admission and Event Highlights \n\nDate: May 28–30\, 2021\nLocation: Pinehurst\, NC\nAdmission: Free\nFeatured: Ferrari\nWebsite: www.sandhillsmotoringfestival.com\nFacebook\nPhone: 910.315.2918\nYear founded: 2018\nPresenting sponsors: Foreign Cars Italia\, Hagerty\, Torque Classic Cars\, Village of Pinehurst\, Hilton Head Capital Partners\, Porsche\, Ferrari\,\nMercedes-Benz\, Swift Motoring\, Convergent Systems\,\nCars on display: +300\nHost hotel: Pine Crest Inn\n50 Dogwood Road\, Pinehurst\, NC 28374\n910.295.6121\nLocation description: The streets and surrounding downtown area of the Historic Village of Pinehurst.\nLast year’s Best of Shows: 1953 Mercedes-Benz 300 S coupe of Guy Lewis (Touring)\, 1960 Lotus Elite of Bill\nTimmons (Sporting)\n\n\nAutomobiles & BBQ\nFriday\, May 28\, 2021\nOn Friday\, the Sandhills Motoring Festival kicks off the weekend of events with Automobiles & BBQ at the Pine Crest Inn in the Village of Pinehurst. \nRoad Rally\nSaturday\, May 29\, 2021\nOn Saturday\, the Sandhills Motoring Festival takes on the back roads of the local area with the SMF Road Rally. \nHangar Party\nSaturday\, May 29\, 2021\nSaturday evening features the SMF Hangar Party at the Moore County Airport featuring excellent food\, exotic cars\, and airplanes on display. \nCar Club Showcase\nSunday\, May 30\, 2021\nVIP parking adjacent to the Concours show field for 80 cars to include preferred parking\, Car Club Showcase windshield decal\, hat\, coffee and danish. \nConcours in the Village\nSunday\, May 30\, 2021\nOn Sunday\, the Sandhills Motoring Festival features its capstone event. Enjoy 128 Automobiles from 16 Classes displayed on the streets of the historic Village of Pinehurst. \nAwards Banquet\nSunday\, May 30\, 2021\nFinishing out the weekend is our annual Awards Banquet at the Pinehurst Fair Barn for our entrants to enjoy cocktails\, a sit down dinner\, and awards for the weekend.
URL:https://carcollectorsclub.com/event/sandhills-motoring-festival-car-show/
LOCATION:Tufts Memorial Park\, 1 Village Green Rd\, Pinehurst\, NC\, 28374\, United States
CATEGORIES:Car Show
ATTACH;FMTTYPE=image/jpeg:https://carcollectorsclub.com/wp-content/uploads/2021/03/Sandhills-Motoring-Festival-Car-Show-w960.jpg
ORGANIZER;CN="Sandhills Motoring Club%2C Inc.":MAILTO:info@sandhillsmotoringfestival.com
END:VEVENT
END:VCALENDAR