BEGIN:VCALENDAR
VERSION:2.0
PRODID:-//Car Collectors Club - ECPv6.6.3//NONSGML v1.0//EN
CALSCALE:GREGORIAN
METHOD:PUBLISH
X-ORIGINAL-URL:https://carcollectorsclub.com
X-WR-CALDESC:Events for Car Collectors Club
REFRESH-INTERVAL;VALUE=DURATION:PT1H
X-Robots-Tag:noindex
X-PUBLISHED-TTL:PT1H
BEGIN:VTIMEZONE
TZID:UTC
BEGIN:STANDARD
TZOFFSETFROM:+0000
TZOFFSETTO:+0000
TZNAME:UTC
DTSTART:20210101T000000
END:STANDARD
END:VTIMEZONE
BEGIN:VEVENT
DTSTART;TZID=UTC:20210523T080000
DTEND;TZID=UTC:20210523T170000
DTSTAMP:20260421T223344
CREATED:20210326T213759Z
LAST-MODIFIED:20210507T212432Z
UID:4120-1621756800-1621789200@carcollectorsclub.com
SUMMARY:Amelia Island Concours d’Elegance Hosts Over 300 Classis Cars on May 20–23\, 2021
DESCRIPTION:The Amelia Island Concours d’Elegance is among the top automotive events in the world. Held each March\, “The Amelia” draws hundreds of rare vehicles from collections around the world to the Golf Club of Amelia Island and the Ritz-Carlton\, Amelia Island\, for a celebration of the automobile like no other. Amelia Island Car Show attracts national and international car collectors\, media and automotive industry experts\, racing legends\, celebrities and car enthusiasts. Since 1996\, the show’s foundation has donated over $3.5 million to charity. \nAutomotive Photography by Deremer Studios\, LLC / 1929 Duesenberg J-218 Town Limousine\, the Lehrman Collection\, Palm Beach\, FL; Concours de Sport: 1973 Porsche 917/30 \nBest of Show Winners – 1929 Duesenberg J-218 Town Limousine\, the Lehrman Collection\, Palm Beach\, FL; Concours de Sport: 1973 Porsche 917/30 \nEvent Highlights \n\nAmelia Island Concours d’Elegance Car Show\nDate: May 20–23\, 2021\nLocation: Amelia Island\, FL\nLocation description: The Golf Club of Amelia Island\, 10th and 18th fairways\nAdmission: Adults $150 ($100/125 advance)\nAdmission Student Disount: $60 / Active military & family – $60 / Children under 12 FREE\nFeatured: Cars of Lyn St. James\, Hispano-Suiza\, Ferrari 275 GTB\, Porsche 935\, Chevy Thunder\,” It’s Electric”\, Shadow\, Muscle Cars of 1970\, Supercars\nWebsite: www.ameliaconcours.org\nFacebook\nPhone: 904.636.0027\nYear founded: 1996\nCars on display: +300\nBenefits / Donations: Amelia Island Concours d’Elegance Foundation\nLast year’s Best of Shows: Concours d’Elegance: 1929 Duesenberg J-218 Town Limousine\, the Lehrman Collection\, Palm Beach\, FL; Concours de Sport: 1973 Porsche 917/30\nHost hotel:\nThe Ritz-Carlton\, Amelia Island\n4750 Amelia Island Parkway\nAmelia Island\, FL 32034\n904.277.1100\n\nMore Reding Article: Amelia Island Concours d’Elegance Car Show 2021 Rescheduled Until May 20-23\, 2021
URL:https://carcollectorsclub.com/event/amelia-island-concours-delegance-car-show/
LOCATION:The Ritz-Carlton\, 4750 Amelia Island Pkwy\, Amelia Island\, FL\, 32034\, United States
CATEGORIES:Car Show
ATTACH;FMTTYPE=image/jpeg:https://carcollectorsclub.com/wp-content/uploads/2021/03/amelia-island-concours-car-show-w1000-03.jpg
ORGANIZER;CN="Amelia Island Concours d%E2%80%99Elegance":MAILTO:cbrewer@ameliaconcours.org
END:VEVENT
END:VCALENDAR