BEGIN:VCALENDAR
VERSION:2.0
PRODID:-//Car Collectors Club - ECPv6.6.3//NONSGML v1.0//EN
CALSCALE:GREGORIAN
METHOD:PUBLISH
X-ORIGINAL-URL:https://carcollectorsclub.com
X-WR-CALDESC:Events for Car Collectors Club
REFRESH-INTERVAL;VALUE=DURATION:PT1H
X-Robots-Tag:noindex
X-PUBLISHED-TTL:PT1H
BEGIN:VTIMEZONE
TZID:UTC
BEGIN:STANDARD
TZOFFSETFROM:+0000
TZOFFSETTO:+0000
TZNAME:UTC
DTSTART:20210101T000000
END:STANDARD
END:VTIMEZONE
BEGIN:VEVENT
DTSTART;VALUE=DATE:20210321
DTEND;VALUE=DATE:20210322
DTSTAMP:20260422T020135
CREATED:20210319T225818Z
LAST-MODIFIED:20210319T225818Z
UID:3823-1616284800-1616371199@carcollectorsclub.com
SUMMARY:The Palm Event at Mar-a-Lago Club Palm Beach Florida
DESCRIPTION:THE 2021 EVENT IS SCHEDULED FOR MARCH 21ST. EVENTS WILL BE HELD OUTDOORS WITH SANITIZATION STATIONS AND ROOM FOR SOCIAL DISTANCING. \nThe Palm Event is a weekend celebration of motorsports. Guests enjoy gourmet food\, fine wines\, and breathtaking fashion in the company of amazing cars from the 1920’s to modern day hypercars while raising money for a truly worthy cause. \nThe Mar-a-Lago Club\, the exquisite jewel of Palm Beach\, is the breathtaking venue for the sixth annual The Palm Event. Our first-ever show was held on the manicured lawns back in 2015.\nAnd Mar-a-Lago is just one element of The Palm Event weekend. It all starts with our Friday VIP Welcome Party on Palm Beach. The action continues on Saturday with The Palm Event Vintage Rallye where we take-in some of the most scenic roads in and around Palm Beach County.\nThroughout the weekend we’ll be raising money for a truly special cause\, The Place of Hope. It’s a local non-profit organization dedicated to providing a safe\, stable and loving environment for children and families in need.
URL:https://carcollectorsclub.com/event/the-palm-event-at-mar-a-lago-club-palm-beach-florida/
LOCATION:Mar-A-Logo Palm Beach\, 1100 S Ocean Drive\, Palm Beach\, FL\, 33480\, United States
CATEGORIES:Car Show
ATTACH;FMTTYPE=image/jpeg:https://carcollectorsclub.com/wp-content/uploads/2021/03/The-Palm-Event-Car-Show-PalmBeachFlorida-w1000.jpg
ORGANIZER;CN="The Palm Event":MAILTO:scott@thepalmevent.com
END:VEVENT
END:VCALENDAR