BEGIN:VCALENDAR
VERSION:2.0
PRODID:-//Car Collectors Club - ECPv6.6.3//NONSGML v1.0//EN
CALSCALE:GREGORIAN
METHOD:PUBLISH
X-ORIGINAL-URL:https://carcollectorsclub.com
X-WR-CALDESC:Events for Car Collectors Club
REFRESH-INTERVAL;VALUE=DURATION:PT1H
X-Robots-Tag:noindex
X-PUBLISHED-TTL:PT1H
BEGIN:VTIMEZONE
TZID:UTC
BEGIN:STANDARD
TZOFFSETFROM:+0000
TZOFFSETTO:+0000
TZNAME:UTC
DTSTART:20210101T000000
END:STANDARD
END:VTIMEZONE
BEGIN:VEVENT
DTSTART;TZID=UTC:20210811T170000
DTEND;TZID=UTC:20210811T220000
DTSTAMP:20260421T154100
CREATED:20210808T210418Z
LAST-MODIFIED:20230514T180147Z
UID:7053-1628701200-1628719200@carcollectorsclub.com
SUMMARY:The World Class Mccall’s Motorworks Revival Airport Party Kicks Off Monterey Car Week on Aug. 11\, 2021
DESCRIPTION:The World-Class Mccall’s Motorworks Revival is the creme de la creme of luxury lifestyle car events\, and this year\, it will take place as a major leading event launching Monterey Car Week and the famed Pebble Beach Concours d’Elegance. \nIt takes place on Aug 11\, 2021\, in a private airplane hanger in Monterey\, California. It is so special that admission is by invitation only and only the top 3\,000 car enthusiasts in the world are invited. Think of it as the Forbes 400 of the elite car collectors. \nThe Mccall Revival is only a one-day (5 hour) evening event. It includes a luxury car show\, aircraft show\, and champagne and caviar-type party held at the exclusive and private Monterey Airport’s Jet Center. \nThe Mccall Motorworks Revival Party and Fundraiser Monterey Airport Jet Center \nThe night of events is a prelude\, or warm-up\, to Monterey Car Week. The Monterey Car Week is a ten-day event that includes over twenty car shows\, car rallies\, car auctions\, forums\, and events and parties. \n“VIP” TICKETS: A VIP all-inclusive ticket including one night filled with music\, a special aircraft show and automotive lifestyle exhibitions\, all-you-can-eat gourmet foods\, award-winning wines available\, and cocktails. (Buy Tickets) \nThe McCall evening party is the main event. It is filled with only 3\,000 car collecting elites from around the world that pay a large ticket price to wine\, dine\, and rub elbows with lots of new model million-dollar exotic cars from McLaren\, Maserati\, Pagani\, and Panoz\, and more. \nIn The Jet Hangar is the Mccall Motorworks Revival Car Show Previewing on Rare Collectable Cars \nOn the grounds of the Jet Center\, guests are also awarded the opportunity to preview some of the vintage and classic cars that will be on display at Pebble Beach’s Concours d’Elegance. Also\, at the Jet Center\, the guest will have access to some vintage and very expensive aircraft\, including the new Gulfstream Jet and a B2 Bomber. \nIt might sound like glitz and glamour\, but the event is actually a serious fundraiser. Sponsors pay money for the event\, and table donations can be made to the 11-99 Foundation\, the California Highway Patrol\, and others. \nYou can read the full article listed below. \n\n\nDate and Time: Wed\, Aug 11\, 2021\, at 8:00 PM\nTicket Price: $450 – $1\,250\nEvent Address:  Monterey Airport’s Jet Center – 395 Del Monte Center Ste 330 Monterey\, CA 93940\nLocation Website: https://www.montereyjetcenter.com/ \nEvent Website:  McCall Motorworks Revival \n\n\n“SUPER TICKET” ADMISSION:\nSuper Ticket Includes One ticket to McCall’s Motorworks Revival Red Carpet Experience and one ticket to The Quail ‘A Motorsports Gathering’.\nSUPER TICKETS ARE CURRENTLY: $1\,290- SOLD OUT \n\n“RED CARPET” TICKETS\nTruly a “Red Carpet” experience from start to finish. Exclusive Red Carpet Reception and access to the Red Carpet Club are yours for the evening!  Music\, special aircraft and automotive exhibitions\, gourmet foods\, award-winning wines\, and cocktails. \n\nRED CARPET TICKETS PRICE: $595\nFOR THE Event Week (Aug 8 to Aug 11) RC tickets: $675\nValet parking entry at 4:00 pm.\nGate closes to entry at 9:00 pm.\nThe event closes at 10:00 pm.\n\n  \n“VIP” TICKETS\nAn all-inclusive ticket with a night filled with music\, special aircraft and automotive exhibitions\, gourmet foods\, award-winning wines\, and cocktails. \n\nEvent Week (Aug 8 to Aug 11)\nVIP Ticket Price: $525\nVIP TICKETS PRICE: $450\nGates open at 5:00.\nGate closes to entry at 9:00 pm.\nThe event closes at 10:00 pm.\nComplimentary shuttle\nOpen parking\nBuy Tickets Website\n\n  \n\n\nVIDEO: McCall Motorworks Revival at Monterey Car Week \n \n\n\nRead The Full Article: McCall’s Motorworks Revival Celebrates 30 YEARS At Monterey Car Week! \n\n\n***EVENT DETAILS LISTED BELOW****
URL:https://carcollectorsclub.com/event/mccalls-motorworks-revival-2021/
LOCATION:Monterey Jet Center\, 196 Skypark Drive\, Monterey\, CA\, 93940\, United States
CATEGORIES:Car Show
ATTACH;FMTTYPE=image/jpeg:https://carcollectorsclub.com/wp-content/uploads/2021/08/McCalls-Motorworks-Revival-01.jpg
ORGANIZER;CN="McCall Motorworks Revival":MAILTO:info@mccallevents.com
END:VEVENT
BEGIN:VEVENT
DTSTART;TZID=UTC:20210815T090000
DTEND;TZID=UTC:20210815T160000
DTSTAMP:20260421T154100
CREATED:20210721T181712Z
LAST-MODIFIED:20210721T193154Z
UID:6864-1629018000-1629043200@carcollectorsclub.com
SUMMARY:Pebble Beach Concours d'Elegance August 15\, 2021
DESCRIPTION:The Pebble Beach Concours d’Elegance is held each year on the Pebble Beach Golf Links in Pebble Beach\, California. This year the Concours d’Elegance will be held on August 15\, 2021\, along with other events such as Monterey Week. \nThe Pebble Beach Concours d’Elegance Car Show begun in 1950 on the coast of Pebble Beach and now considered the world’s most famous luxury car show in the world. \nOther events that take place before and after the Pebble Beach Concours d’Elegance are the Pebble Beach Tour d’Elegance\, Pebble Beach RetroAuto\, Pebble Beach Classic Car Forum\, Pebble Beach Motoring Classic\, Pebble Beach Auctions. \n“Pebble Beach Concours d’Elegance  represtents 70 Years of Automotive Excellence” \nCrowds come from all corners of the world to watch the finest collector cars on the 18th fairway of Pebble Beach Golf Links to compete for trophies and awards. In the end\, only two cars will be awarded the “Best of Show’ which represents their car was judged the finest car of the show. \n 
URL:https://carcollectorsclub.com/event/pebble-beach-concours-delegance-august-15-2021/
LOCATION:Pebble Beach Golf Links\, 1700 17 Mile Drive\, Pebble Beach\, CA\, 93953\, United States
CATEGORIES:Car Show
ATTACH;FMTTYPE=image/jpeg:https://carcollectorsclub.com/wp-content/uploads/2021/07/Pebble-Beach-Concours-dElegance-July-25-2021-02-w1024.jpg
ORGANIZER;CN="Pebble Beach":MAILTO:media@pebblebeachconcours.net
END:VEVENT
BEGIN:VEVENT
DTSTART;VALUE=DATE:20210821
DTEND;VALUE=DATE:20210822
DTSTAMP:20260421T154100
CREATED:20210815T000753Z
LAST-MODIFIED:20210817T040916Z
UID:7214-1629504000-1629590399@carcollectorsclub.com
SUMMARY:26th Annual Woodward Dream Cruise Expecting Over 40K Car Enthusiasts In SE Michigan on Aug. 21\, 2021
DESCRIPTION:The Woodward Dream Cruise is the world’s largest traveling car show that takes place over three days and travels over 16 mile through multiple cities. Over 100\,000 cars cruise up and down Woodward Ave. at about 5-10 mph while people line up street side to get a glimpse at automotive history in motion. \nHISTORY: THE WOODWARD DREAM CRUISE \nIn August 1995\, Nelson House and a group of volunteers looked to relive and recreate the nostalgic heydays of the 50s and 60s\, when youth\, music and Motor City steel roamed Woodward Avenue\, America’s first highway. That year\, 250\,000 people participated—nearly ten times the number expected. The rest\, as they say\, is history. \n \nThe Woodward Dream Cruise is sort of an all-week event\, but on August 21\, the one-day automotive event will draw over 1.5 million car enthusiasts and 40\,000 classic cars to Woodward Avenue. Each year\, from around the world and as far away as New Zealand\, Australia\, Japan\, and the former Soviet Union car enthusiasts be. come to see the cruise. \nWHERE IS THE WOODWARD DREAM  CRUISE\nThe Woodward Dream Cruise is one of the world’s largest one-day celebration of classic car culture and attracts over 1 million visitors on one day. More than 40\,000 exotic cars\, muscle cars\, street rods\, custom builds will be on the street. \nThe Total Drive Of The Woodward Cruise Take Place On Woodward Avenue And Starts In Pontiac And Ends In Ferndale. Cars Will Cruise Through Royal Oak\, Berkley\, Birmingham And Pleasant Ridge from 10 a.m. and end at 9 p.m. \nHOW MUCH IS THE CRUISE\nThe cruise ids FRE and there is no admission to cruise or any of the streetside events. Anyone can participate ij driving a classic car but people not driving a classic car are asked to stay out of the cruising lane of Woodward Ave. \nWHEN IS THE WOODWARD DREAM  CRUISE\nThe Woodward Dream Cruise takes place each year on the third Saturday in August\, and runs between 9 a.m. and 9 p.m. \nThe Official Woodward Avenue Dream Cruise Covers A Total Of 16 Miles Cruising Through Nine Cities In Oakland County Michigan \nWHAT IS THE WOODWARD DREAM  CRUISE\nThe Woodward Dream Cruise started as a major fundraiser for a local soccer field in Ferndale in 1995 and in just a few short years\, the cruise has evolved into one of the world’s largest one-day vintage automotive event. \nThe Woodward Dream Cruise drive of the avenue lets classic vehicle owners to cruise through nine cities including (Pontiac\, Bloomfield Township\, Bloomfield Hills\, Birmingham\, Pleasant Ridge\, Royal Oak\, Berkley\, Ferndale\, and Huntington Woods) i \ncar enthusiasts and cruisers come to Metro Detroit\, the birthplace of the American automobile\, to experience one of the biggest car-themed events to celebrate all things automotive. \nEach year\, more than 50 local charities benefit from the sale of official Dream Cruise merchandise and refreshments. \nMORE EVENTS \nTHE M1 CONCOURSE\, PONTIAC MICHIGAN (August 20\, 21\, 2021) \nWoodward Dream Show at M1 Concourse makes the perfect complement to the Dream Cruise. Here’s a chance to experience all the best hot rods\, muscle cars\, customs\, and cruisers on the planet — past\, present\, and future. You’ll see many of those iconic machines you’ve been reading about and lusting after your entire lives. \nThe Mega Car Condo Club and Race Track The M1 Concours Will Host A Major Car Event During The Woodward Dream Cruise Weekend \nYou’ll get a chance to meet your hot rod heroes and muscle car mavens like Bob Larivee of Autorama Fame\, Larry Smith\, Ken Lingenfelter\, and more. \nEven better\, you’ll get a chance to see the best cars on Woodward Avenue up close and personal\, thanks to the dozens of car clubs from around the country that will be coming to the show – over 1\,000 cars in all. Yes\, the Woodward Dream Cruise is the ultimate cruising event in the world. But now\, the Woodward Dream Show is the ultimate cherry on top
URL:https://carcollectorsclub.com/event/woodward-dream-cruise-south-michigan-august-2021/
LOCATION:Woodward Dream Cruise\, 22812 Woodward\, Ferndale\, MI\, 48220\, United States
CATEGORIES:Car Show
ATTACH;FMTTYPE=image/jpeg:https://carcollectorsclub.com/wp-content/uploads/2021/08/woodward-dream-cruise-august-2021-event-01-w1000.jpg
ORGANIZER;CN="Woodward Dream Cruise":MAILTO:dreamcruise@ferndalemi.gov
END:VEVENT
BEGIN:VEVENT
DTSTART;TZID=UTC:20210822T090000
DTEND;TZID=UTC:20210822T090000
DTSTAMP:20260421T154100
CREATED:20210814T220127Z
LAST-MODIFIED:20230514T175933Z
UID:7169-1629622800-1629622800@carcollectorsclub.com
SUMMARY:San Marino Motor Classic Concours Car Show Will Host Over 400 Mint Cars In South California on August 22\, 2021
DESCRIPTION:SAN MARINO\, Calif. (Aug 14\, 2021) – The San Marino Motor Classic is the premier classic car collectors exhibition\, show\, and event that has taken place over the past ten years in San Marino California. The Concours-level exhibition should pull over 5\,000 car enthusiasts and over 400 mint classic\, vintage\, exotic and modern cars on the rolling 30-acres of green lawns of Lacy Park near Pasadena California. \nThe San Marino Motor Classic located in the San Gabriel Valley is one of the premier Concours-level vehicle exhibitions in Southern California. The 10th Annual San Marino Motor Classic will be held this year on August 22\, 2021\, at Lacy Park in San Marino. \n \nSan Marino Motor Classic Main Event Summary \n\nMain Show Date: Sunday\, August 22nd\, 2021\nLocation: Lacy Park San Marino\, CA\nCar Show Starts: 9 AM\nCar Show Awards: 1:30 PM\nCar Show Ends: 3 PM\nAuto Art Exhibit: 4 PM to 6 PM\nEntertainment and Orchestra: 6 PM to 10 PM\nTickets & Admission:  $35  – Kids: 12 and under are free\n\n\nThe San Marino Motor Classic features a broad array of motorcars that span more than a century. Co-founded by Aaron Weiss\, Paul Colony and Ben Reiling\, the 2014 event featured 31 classes of select vehicles. It is the successor of the Los Angeles Concours d’Elegance. \nGates open at 9:00 AM\, Sunday\, August 22\, 2021. The event concludes at 3:00 PM the same day.  $25 for the advanced ticket purchase; $35 for the day of the event. CLICK HERE TO PURCHASE TICKETS. \nOver 5\,000 Car Collectors & Enthusiasts and OVer 400 Mint Rare Vintage Cars Will Be On Display At The San Marino Motor Classic \n\n2021 San Marino Motor Classic Complete Show Overview\n\nSATURDAY\, AUGUST 21\, 2021 – 1:30PM – 3:30PMCARS AND CHRONOGRAPHS – AN EXHIBIT OF EXOTIC CARS AND AUTOMOTIVE-THEMED WATCHES\, SPONSORED BY HING WA LEE JEWELERS.At Hing Wa Lee Jewelers 1635 S Del Mar Ave\, San Gabriel\, CA · (626) 280-3993. Light snacks and refreshments. View a selection of exotic Ferrari’s and a collection of automobile-themed watches. (NO COST\, RESERVATIONS APPRECIATED.) \n\nSATURDAY\,AUGUST 21\, 2021 – 4:00PM – 6:00PMAUTOMOTIVE FINE ARTS SOCIETY TO HOLD EXHIBIT AND SALE AT SAN MARINO MOTOR CLASSICNO COSTTwelve internationally renown automotive artists will display their most recent works at the Automotive Fine Arts Society (AFAS) Pavilion at the San Marino Motor Classic on Saturday afternoon\, August 21\, 2021\, from 4:00 PM to 6:00 PM. Wine and light snacks will be served. Admission is free. Guests are encouraged to purchase tickets for the Symphony of Cars Gala that immediately commences after the AFAS exposition. To learn more about the Symphony of Cars Gala and to order tickets\, click here.GALA SOLD OUT! \n\nSATURDAY\, AUGUST 21\, 2021 – 6:00PM – 10:00PMSYMPHONY OF CARS GALA AT LACY PARKTICKET PRICE: $250.00/PERSON The Gala Benefits the Cancer Support Community Pasadena. 15 cars will be presented and Gary Tole and the Legends of Swing Orchestra will play music of their era. There will be complimentary valet parking\, a hosted bar\, dinner and a performance. The Symphony of Cars Gala is sponsored by David Lee\, Hing Wa Lee Jewelers and Michael O. Healy RBC Wealth Management. \n\nSUNDAY\, AUGUST 22\, 2021 – 9:00AM – 3:00PMSAN MARINO MOTOR CLASSIC – GENERAL ADMISSIONGENERAL ADMISSION TICKETS ARE $30/PERSON (CHILDREN 12 AND UNDER FREE) UNTIL AUGUST 21\, 2021A number of food trucks will be onsite at the show. Sandwiches\, salads\, beverages\, and snacks will be available for purchase. \n\nSUNDAY\, AUGUST 22\, 2021 – 9:00AM – 3:00PMSAN MARINO MOTOR CLASSIC – VIP AREA$125/PERSON \nEnjoy a gourmet luncheon and an adult beverage while taking a rest or watching the awards ceremony. The VIP Reception opens at 10:00AM. Lunch is served from 11:30 AM – 1:30 PM. The VIP Reception area will remain open through the conclusion of the Awards Ceremony. \n\nSUNDAY\, AUGUST 22\, 2021 – 6:00AM – 5:00PMSAN MARINO MOTOR CLASSIC – EXHIBITORS$100.00/VEHICLE ENTRY FEEEntry fee includes two general admission passes and goody bag. Tickets will be inserted in Entry Envelope* presented when the car enters Lacy Park. *Subject to change \nCars may be placed on the field on: \n\nSaturday\, August 21\, 2021 from 12:00PM – 4:00PM\nSunday\, August 22\, 2021 from 6:00AM – 8:30AM.\n\n\n“Celebrity Jay Leno Visits The Show” \nOver 5\,000 Car Collectors & Enthusiasts and Over 400 Mint Rare Vintage Cars Will Be On Display At The San Marino Motor Classic \nVEHICLE AWARDS & CAR CLASSES \nThere will be sixteen awards given\, plus a first\, second and third place award given per class. Some of the prestigious awards this year include: \n\nBest In Show Pre WarBest In Show Post WarMost Exotic Sports Car AwardMuscle Car Review Editors Choice AwardMayor’s AwardMeguiar’s Award for Best Paint & FinishPasadena Humane Society AwardMost Elegant Closed Pre War Car AwardMost Elegant Open Pre War Car Award\nMost Elegant Closed Post War Car AwardMost Elegant Open Post War Car AwardSan Marino Rotary AwardChairman’s AwardGarage Style Magazine AwardExcellence in Innovation & DesignMost Elegant American Pre War Classic CarBest Super Car Award\n\n\nSAN MARINO MOTOR CLASSIC OVERVIEW \nThe San Marino Motor Classic: Design In Motion is an annual community event that brings increased public awareness of the history of the motor vehicle through a broad spectrum exhibition of historical automobiles from the early to mid-twentieth century. Proceeds raised from the event will benefit the Pasadena Humane Society & SPCA and the Rotary Club of San Marino\, both of which are 501(c)3 non-profit charities. \nEVENT LOCATION \nThe San Marino Motor Classic will take place at Lacy Park located at 1485 Virginia Road\, San Marino\, Calif.\, 91108. Lacy Park is an exclusive 30-acre park in the heart of San Marino. San Marino is also home to the world-renowned Huntington Library\, Art Collection and Botanical Gardens. \n2021 MASTER OF CEREMONIES \nCar enthusiast and KABC 7’s Automotive Specialists Dave Kunz and Ed Justice\, Jr. will be the Master of Ceremonies this year. \nEVENT FOOD & BEVERAGE \nFood will be available for attendees. A Midway consisting of 15 trade booths will be available for spectators to purchase gift items. The day concludes with an awards ceremony. \nWHERE TO PARK \nParking is available on neighborhood streets surrounding the east entrance to the park. Tram stops are marked and a tram will circulate through the neighborhood picking up spectators at the marked Tram Stops located at the ends of north-south streets. \nSan Marino Motor Classic Car Judges Looking For The Best Car In Each Car Class \nSPONSORS \nThe sponsors of the San Marino Motor Classic include San Marino Tribune\, Passport Transport\, Bacchelli & Villa\, Collezione by MAG\, Bonhams\, Newmark Knight Frank\, RM Sotheby’s\, RF\, MAG Mattioli Automotive Group\, Gooding & Company\, Hagerty\, Coldwell Banker\, Crevier\, J.J. Best Banc & Co.\, CHUBB\, Rusnak\, New Century BMW\, Great Matter\, Mercedes-Benz Classic Center\, Max Studio\, Bob Wondries\, Interscape\, Symes Cadillac\, and Wells Fargo. \nABOUT THE FOUNDER \nThe Motor Classic was started in 2011 by co-founders Aaron Weiss\, Ben Reiling\, and Paul Colony. It is the successor of the Los Angeles Concours d’Elegance. The inaugural event was a hybrid event combining the Classic Car Club of America Grand Classic with a contemporary Concours d’Elegance. \nLOCAL HOTELS FOR OUT OF TOWNERS \n\nLangham Pasadena – (626) 568-3900 (1 Mile From Lacy Park)\nCourtyard by Mariott – (626) 403-7600 – In Old Town Pasadena which is well located near 100 restaurants and bars. (3 Miles From Lacy Park)\nHilton Hotel Pasadena – (626) 577-1000 – Just outside of Old Town (3 Miles From Lacy Park)\nWestin Pasadena – (626) 792-2727 – Just outside of Old Town (3 Miles From Lacy Park)\nHoliday Inn Express Pasadena – East Pasadena. (4.3 Miles From Lacy Park)\nSheraton Pasadena – Outside of Old Town near the Paseo Pasadena – (844) 250-6934\n\n\n\nVIDEO: A Walk Around The 2018 San Marino Motor Classic
URL:https://carcollectorsclub.com/event/san-marino-motor-classic-concours-car-show-2021/
LOCATION:Lacy Park\, 1485 Virginia Road\, San Marino\, CA\, 91108\, United States
CATEGORIES:Car Show
ATTACH;FMTTYPE=image/jpeg:https://carcollectorsclub.com/wp-content/uploads/2021/08/San-Marino-Motor-Classic-Car-Show-August-21-2021-w1200-03-1.jpg
ORGANIZER;CN="San Marino Motor Classic":MAILTO:aaron.weiss@sanmarinomotorclassic.com
END:VEVENT
BEGIN:VEVENT
DTSTART;TZID=UTC:20210822T100000
DTEND;TZID=UTC:20210822T160000
DTSTAMP:20260421T154101
CREATED:20210814T183813Z
LAST-MODIFIED:20210817T060133Z
UID:7154-1629626400-1629648000@carcollectorsclub.com
SUMMARY:The Geneva Concours dElegance Celebrates The 100th Birthday of The Duesenberg on Aug 22. 2021 in Geneva\, Illinois
DESCRIPTION:Come visit the Geneva Concours d’Elegance (Car Show) in Geneva\, Illinois\, on August 22\, 2021. \nClassic Car enthusiasts and car collectors will gather together again to to proudly display a beautiful collection of antique cars\, classic vehicles\, and new exotic supercars. \nCar lovers from coast to coast will be displaying their classics prized mega-bucks automobiles and car collections on Third Street competing for the coveted “Benz” Trophies. \nA Fine Example of a Tucker Automobile That Was Built in Chicago 2021 \nThis year the Annual Geneva Concours d’Elegance will be featuring vehicles specifically manufactured in the Chicago area\, The Ford Motors model A thru T\, and the Chevrolet Corvair celebrating it’s 60th Birthday. \nThe main event will be the 100th Birthday Anniversary of both Duesenberg. Addition-themed events will be around the Citroen Automobile Manufacturing vehicle and the Sports Car Club of America which will be celebrating Seven \n \nThe 2021 Geneva Concours d’Elegance will include a usual fine display of vehicles and will feature; \n\nEarly Autos built in the Chicago area\nThe Ford Motor Company’s first time through the alphabet (that is A through T)\,\nHonor the 60th Birthday of the Chevrolet Corvair\nThe 100th Birthday of both Duesenberg and Citroen Automobile manufacturing Companies\nThe Sports Car Club of America celebrating Seven Decades of Motorsports. .Decades of Motorsports.\n\nThird Street is the heart of Geneva’s Charming Downtown downtown which includes a shopping district lined with retail shops\, wonderful restaurants\, rolling green parks and iconic historical buildings. This event is free to the public and is a wonderful extremely family event. \nSo come Celebrate the Geneva Concours d’Elegance & Car Show\, food\, and events on Sunday\, August 22\, 2021\, from 10:00\,am to 4:00 pm. \nThe beneficiary and donation of this year’s Concours will be the LivingWell Cancer Resource Center. \nTITLE: The Geneva Concours dElegance Celebrates The 100th Birthday Duesenberg on Aug 22. 2021 in Geneva\, Illinois \n\nWhat: Geneva Concours d’Elegance & Car Show \nWhen: August 22\, 2021\, from 10:00 am to 4:00 pm. \nWhere:  Geneva Concours d’Elegance – 202 Campbell Street Suite 1A Geneva\, Illinois 60134
URL:https://carcollectorsclub.com/event/geneva-concours-delegance-2021/
LOCATION:Geneva Concours d’Elegance NFP\, 202 Campbell Street Suite 1A\, Geneva\, IL\, 60134\, United States
CATEGORIES:Car Show
ATTACH;FMTTYPE=image/jpeg:https://carcollectorsclub.com/wp-content/uploads/2021/08/Geneva-Comcours-dElegance-Aug-22-2021-02.jpg
ORGANIZER;CN="Geneva Concours d'Elegance":MAILTO:Johnb@genevaconcours.net
END:VEVENT
END:VCALENDAR