BEGIN:VCALENDAR
VERSION:2.0
PRODID:-//Car Collectors Club - ECPv6.6.3//NONSGML v1.0//EN
CALSCALE:GREGORIAN
METHOD:PUBLISH
X-WR-CALNAME:Car Collectors Club
X-ORIGINAL-URL:https://carcollectorsclub.com
X-WR-CALDESC:Events for Car Collectors Club
REFRESH-INTERVAL;VALUE=DURATION:PT1H
X-Robots-Tag:noindex
X-PUBLISHED-TTL:PT1H
BEGIN:VTIMEZONE
TZID:UTC
BEGIN:STANDARD
TZOFFSETFROM:+0000
TZOFFSETTO:+0000
TZNAME:UTC
DTSTART:20210101T000000
END:STANDARD
END:VTIMEZONE
BEGIN:VEVENT
DTSTART;VALUE=DATE:20210416
DTEND;VALUE=DATE:20210419
DTSTAMP:20260421T222729
CREATED:20210416T053742Z
LAST-MODIFIED:20230514T180725Z
UID:4872-1618531200-1618790399@carcollectorsclub.com
SUMMARY:Don't Miss Supercar Weekend on The Waterfront in West Palm Beach Florida on April 16-18th\, 2021 (Rescheduled)
DESCRIPTION:The 11tth Annual Supercar Weekend is filled with exciting events\, auto enthusiasts\, car shows\, sponsors\, and parties all right here in West Palm Beach on the Waterfront\nGet ready for the new way to experience Supercar Week in West Palm Beach. This event that’s place every year in Palm Beach County making it the sole destination for car enthusiasts. It usually takes place in January\, but due to the Covid Virus concerns\, it has been scheduled to the new date of April 16th\, April 17th\, and April 18th of 2021. \nAt this event\, you will share and celebrate the art and car technology and the excitement of speed & design. Share stories with thousands of other car enthusiasts that have a passion for rare\, vintage\, and classic cars. Plus experience all the new uber-expensive luxury cars like Bently and Rolls Royce along with the newest super and hypercars from Ferrari\, Panini\, Lamborghini\, Jaguar\, Austin Martin\, Porsche\, BWM\, Tesla\, and more… \nIf you love cars\, this is not an event you are going to want to miss!  \nHundreds of supercars will be on display on the West Palm Beach waterfront. \nThis Event is Free to the Public.  1200-1500 vehicles will be on display in Downtown West Palm Beach with over 50\,000 planning to attend. All weekend they will offer Live Music and  Entertainment. It is a friends and family event so bring mom\, dad\, the kids\, and even the dog. \nThe Supercar Weekend Car Show annual event is the largest single supercar event in Palm Beach County and offers Waterfront Views\, Parties\, Car Themed Events. And best of all the Admission is FREE for all to attend. \nOn Sunday\, April 18th\, 2021\, the one-mile Flagler Drive Waterfront Avenue will entice all car enthusiasts to walk the beautiful grounds and browse hundreds of new and vintage cars and boats from downtown West Palm Beach to The Trump Towers. \nAttending will be car collectors\, car clubs\, car dealers\, vehicle owners\, sponsors\, food vendors\, spirit vendors\, and entertainment bands. \nSPECIAL EVENTS: This year the show will feature a SuperJeep Village display with more than 300 Jeeps on display in a Concours. \nLIVE ENTERTAINMENT EVENTS: This year you will see an event area with separate stages\, live music\, bands\, live entertainment\, and some very special attractions. \n2021 BONUS EVENT: New this year you will see a tribute to Larry Goldman Marine Village. \n ADDITIONAL EVENTS: There will be a very special Land\, Air\, and Sea display with airplanes and helicopters and a VIP Yacht Hop event.  The 11th Annual SUPERCAR WEEKEND celebrates on Saturday\, April 17th Hangar Party\, Wheels\, Wings & Fashion! \nTYPES OF CARS: On Supercar Street\, on the Lakeview Avenue Waterfront\, you will see Muscle Beach\, Memory Lane\, Green Street for Electrics\, Corvette Court\, Viper Blvd.\, Porsche Place\, Mustang Manor\, ArtCar Ave.\, Marine Village for Off-Shore PowerBoats\, and the Race Village of Race Teams and displays of race vehicles. \nOn April 18th\, Sunday SuperCar will offer a SuperShow that includes live music\, food\, 100’s of cars\, art exhibits\, and craft sponsors and vendors.  \n\nEvent Details\nHurry and Don’t Miss The Supercar Weekend on the Water Front in West Palm Beach Florida.\n\nPLAN YOUR EVENT HERE:\n\nWHEN? April 16-18\, 2021\, from 11:00 am to 5:30 pm.\nWHERE? At the end of Clematis on the Waterfront on Flagler Drive from Banyan Street to Lakeview Avenue.\nDON’T MISS THE AFTER PARTY: April 18th from 5:00 pm – 8:30 pm. at the SuperCar Weekend Event Waterfront. \n\nJoin thousands who celebrate the art and technology of speed & design with the passion of the creators\, collectors\, and individual and privileged owners showcasing the most spectacular cars in the world. Hundreds of supercars will be on display on the West Palm Beach waterfront. \n\nSchedule of Events\nCome Join us at  SuperCar Weekend 2021 event for 3 days for non-stop car-filled action! \nSunday\, April 18th\, 2021 – West Palm Beach Waterfront is the big car show and scheduled events.\nThe SuperCar Week’s Grand Finale Event and SuperCar SuperShow Sunday Will on the West Palm Beach Waterfront.\nAdmission if FREE \nSuperCar Week Facebook Page: https://facebook.com/supercarweek \nSuperCar Week Instagram Page: http://instagram.com/supercarweek \nCheck this link for detailed information about Supercar events throughout the county. \nEvent organizer Neil London \nA Quick Video of Supercar Weekend 2020\n\n \n\nALL APRIL\, 2021 SUPERCAR WEEKEND EVENTS ARE IN EFFECT WITH COVID19 and CDC COMPLIANCES. \nSee full schedule at http://supercarweek.com\nRegister your vehicle at http://supercarweek.com/registration and\nVIP Tix at http://supercarweek.com/vip \nCall 954-296-5204 for more information.\nMore Details:\nhttp://supercarweek.com/ \nSupercar Weekend Sponsors
URL:https://carcollectorsclub.com/event/supercar-week-in-west-palm-beach-florida-april-16-18th-2021/
LOCATION:West Palm Beach Waterfront\, 101 South Flagler Drive\, West Palm Beach\, FL\, 33401\, United States
CATEGORIES:Car Show
ATTACH;FMTTYPE=image/jpeg:https://carcollectorsclub.com/wp-content/uploads/2021/04/supercarweek-westpalmbeachflorida-2021-april-w1024.jpg
ORGANIZER;CN="SUPERCAR WEEK INC.":MAILTO:info@supercarweek.com
END:VEVENT
BEGIN:VEVENT
DTSTART;VALUE=DATE:20210421
DTEND;VALUE=DATE:20210426
DTSTAMP:20260421T222729
CREATED:20210414T193816Z
LAST-MODIFIED:20240126T165304Z
UID:4819-1618963200-1619395199@carcollectorsclub.com
SUMMARY:Come Celebrate The 30th Cavallino Classic Ferrari Car Show in Palm Beach\, FL (April 21-25\, 2021)
DESCRIPTION:Welcome to Cavallino Concours d’Elegance. It is what I would call “The Greatest Ferrari Show in the World”! Since 1947\, under the Ferrari brand name\, Enzo Ferrari has been creating some of the finest road and race cars that the world has ever seen. And on April 21-25\, 2021\, at the Palm Beach Breakers Hotel\, over 130 of the finest Ferrari’s that Enzo has ever created will be on display on the beautifully manicured golf grounds of the Palm Beach Breakers. \n\nALSO SEE 2024: Cavallino Concorso d’Eleganza Ferrari Car Show at the Palm Beach Breakers January 25-28\, 2024 \n\n\nThe Cavallino event has many names. The official name for the event is the “Cavallino Classis”\, but most car collectors call it the Cavallino Concours d’Elegance\, which is more in tune with the other 40 Concours d’Elegance that take place across the county each year. But I like to call it for what it is “The Palm Beach Breakers Ferrari Car Show”. \nThis year\, the car show will take place over four days including a race track day\, a Ferrari Tour of Palm Beach\, a car show\, and ending with an awards ceremony for the finest Ferrari’s of the show. \nCome Celebrate The 30th Cavallino Classic Ferrari Car Show in Palm Beach\, FL (April 21-25\, 2021). \nTickets must be purchased online prior to the event. Show digital ticket upon arrival. \nTicket price approximately $200. \n(Limited tickets available.) \nThe actual Cavallino Classic\, which is the main show day\, takes place at the Palm Beach Breakers Hotel & Resort on the front golf lawns on Saturday\, April 24\, from 10 am – 4 pm. \nHere is a Complete List of Activities and Scheduled Events For The Ferrari Concours Classic At The Palm Beach Breakers (April 2021) \nAddress: \nThe Breakers Hotel\n1 S. County Rd\, Palm Beach\, FL 33480\nPhone: (561) 655-6611\nTickets Available Here\n \nPalm Beach International Raceway Host The Cavallino Classic Ferrari GT Challenge (April 22\, 2021)
URL:https://carcollectorsclub.com/event/cavallino-ferrari-car-show-palm-beach/
LOCATION:The Breakers Palm Beach\, 1 S County Rd\, Palm Beach\, FL\, 33480\, United States
CATEGORIES:Car Show
ATTACH;FMTTYPE=image/jpeg:https://carcollectorsclub.com/wp-content/uploads/2021/04/Palm-Beach-Cavalino-Classic-2021-w1200.jpg
ORGANIZER;CN="Cavallino Events%2C Inc.":MAILTO:cavallino@cavallino.com
END:VEVENT
BEGIN:VEVENT
DTSTART;TZID=UTC:20210422T090000
DTEND;TZID=UTC:20210422T160000
DTSTAMP:20260421T222730
CREATED:20210421T045535Z
LAST-MODIFIED:20210423T215932Z
UID:5015-1619082000-1619107200@carcollectorsclub.com
SUMMARY:Palm Beach International Raceway Host The Cavallino Classic Ferrari GT Challenge (April 22\, 2021)
DESCRIPTION:If you own a Ferrari\, and want to let loose on a race track\, this event may be for you. \nOn Thursday\, April 22\, 2021\, the Cavallino Classic will feature the “Ferrari’s in Motion Challenge” at the Palm Beach International Raceway (PBIR) from 9am to 4am. \nAt this event\, wealth Ferrari owners can blow out the cob webs on some beautiful multimillion dollar vintage Ferrari’s. \nFerrari owners will able to push their cars  limits and accelerate\, brake\, pass\, and turn without fear of adding points to their record. \nThe Ferrari GT Challange at the Palm Beach International Raceway (PBIR) with cars from the Palm Beach Cavallino Concours \nThe PBIR raceway is a nationally sanctioned car racing track located just 40 minutes West of the Cavallino Classic that takes place in Palm Beach\, on April 24th\, where some of the track Ferrari’s will be on display. \nAnd PBIR is no joke! The raceway is a nationally sanctioned 2-mile long race track with wildly long straightaways\, multiple evelations\, numerous looping turns\, and a full pit crew. \nBut this race it’s for your average race car driver. Its specifically geared to Ferrari owners that can afford to chance racing a multi million dollar collectable car. \nA matter of fact\,  It’s more like a racing an event that was created for “The Lifestyles of the Rich and Famous” with Robin Leach. \nCars racing at the event are limited to models: Ferrari 348\, Ferrari 355\,  Ferrari 360\, Ferrari 430\, Ferrari 458\, Ferrari 488. \nSo\, what does it take to participate in the race? \nLet’s start with showing up with a rare vintage Ferrari GT (renters not accepted). Next there is a a heafty admission costs that must be paid up front. \nHere is a Complete List of Activities and Scheduled Events For The Ferrari Concours Classic At Palm BeachThe Breakers (April 2021) \nBut before they will take your money\, you must receive a  special invitation from the Cavallino Ferrari Concouse Car Event. \nAnd lastly\, you must have the willingness to gain some wear and tear on your multi million dollar Modena made investment\, and maybe even add a ding or two. \nCars racing at the event are limited to models: Ferrari 348\, Ferrari 355\,  Ferrari 360\, Ferrari 430\, Ferrari 458\, Ferrari 488. \nAnd for this event\, you must own one\, not just rent one. \nTo participate in the race you must have a Single Patron Package pass. The Pass costs $3\,500 which includes access to the track and a four-day pass for all the events at the Palm Beach Ferrari Concous (Cavallino Classic). \nBeyond the Thursady race\, with a four day pass\, you will be able to experience all of the Cavallino Classic Ferrari events. They include the Ferrari GT Challange on the PBIR Race Track on Thursday (April 22)\, The Grand Tour of Palm Beach on Friday (April 23)\, The Ferrari Concorso d’Eleganza car show on Saturday (April 24)\, and Classic Sports Sunday (April 25\, 2021). \nMost all activities and event days include breakfast\, lunch\, and dinner. There will be a lot of palm pressing and socializing at all the events and an opportunity to meet other Ferrari car collectors and enthusiasts. \nThe PBIR Racetrack is located at:\n17047 Bee Line Hwy\nJupiter\, FL 33478 \nGeneral Admission: $30 (race spectators) \nTime Open: 9:00am to 4:00pm. \nPalm Beach Cavallino Classic Returns to Palm Beach International Raceway (PBIR) on Thursday and Friday\, April 22nd.\nAlso\, if you want to participate in the racing event and Thursday\, you must have an older Ferrari GT. Models that will be racing this year are the Ferrari 348\, Ferrari 355\,  Ferrari 360\, Ferrari 430\, Ferrari 458\, Ferrari 488. \nThe race will be split into 3 driving groups and have limitations on both speed and safety. For instance\, the Ferrari GT Group\, which is the fastest group\, is limited to a maximum speed of 90 mph and requires helmets\, seatbelts\, and professional inspection of the vehicle.  Additionally\, the paddock is available for special purposes and transportation vehicles. \nAfterward\, there will be a catered lunch included for registered drivers and also restrooms and food service for the general public. \nThe good news is\, even if you cant’ participate in the race\, you can pay $30 admission on Thursday\, April\, 22. and watch from the grandstands. \nFerrari GT Challenge at the PBIR is an event included with the Cavallino Classic and The Palm Beach Breakers Resort. \nThe Ferrari Concors d’Eleganza Car Show at The Breaker Hotel and Resort on Saturday April 24\, 2021 \nEnjoy this opportunity to drive your Ferrari over the speed limit\, put you peddle to the meddle without fear of a ticket. \n\nYou Are Our Guest at PBIR! Your safety and well-being are our main priority and we have introduced a range of health and safety measures that will reduce the risks associated with the virus that is in line with all government and event industry guidelines. \nHere is a Complete List of Activities and Scheduled Events For The Ferrari Concours Classic At Palm BeachThe Breakers (April 2021) \n Please see PBIR Safety Measures. \nRegistration & Tickets Are available here. \nYou can also contact the Ferrari GT Challenge Cavallino Classic direct at classic@cavallino.com or 800-306-6937 \nDetailed information about the Cavallino Classic Concourse Car Show \nExperience the enjoyment of using your Ferrari as it was meant to be – Ferraris are meant to be driven! \nMedia: DSScc325xz
URL:https://carcollectorsclub.com/event/palm-beach-international-raceway-host-the-cavallino-classic-ferrari-gt-challenge-april-22-2021/
LOCATION:Palm Beach International Raceway\, 17047 Bee Line Hwy\, Jupiter\, FL\, 33478\, United States
CATEGORIES:Car Show
ATTACH;FMTTYPE=image/jpeg:https://carcollectorsclub.com/wp-content/uploads/2021/04/ferrari-palm-beach-raceway-02-w1024.jpg
ORGANIZER;CN="Cavallino Events%2C Inc.":MAILTO:cavallino@cavallino.com
END:VEVENT
END:VCALENDAR