BEGIN:VCALENDAR
VERSION:2.0
PRODID:-//Car Collectors Club - ECPv6.6.3//NONSGML v1.0//EN
CALSCALE:GREGORIAN
METHOD:PUBLISH
X-WR-CALNAME:Car Collectors Club
X-ORIGINAL-URL:https://carcollectorsclub.com
X-WR-CALDESC:Events for Car Collectors Club
REFRESH-INTERVAL;VALUE=DURATION:PT1H
X-Robots-Tag:noindex
X-PUBLISHED-TTL:PT1H
BEGIN:VTIMEZONE
TZID:America/New_York
BEGIN:DAYLIGHT
TZOFFSETFROM:-0500
TZOFFSETTO:-0400
TZNAME:EDT
DTSTART:20260308T070000
END:DAYLIGHT
BEGIN:STANDARD
TZOFFSETFROM:-0400
TZOFFSETTO:-0500
TZNAME:EST
DTSTART:20261101T060000
END:STANDARD
END:VTIMEZONE
BEGIN:VEVENT
DTSTART;TZID=America/New_York:20260306T050000
DTEND;TZID=America/New_York:20260307T050000
DTSTAMP:20260422T145513
CREATED:20260218T205744Z
LAST-MODIFIED:20260221T205452Z
UID:26219-1772773200-1772859600@carcollectorsclub.com
SUMMARY:Broad Arrow Auctions Presents 150+ Collector Cars at Amelia Island (March 6-7\, 2026)
DESCRIPTION:Broad Arrow Auctions will present more than 150 collector cars from the 1990s and 2000s on March 6–7\, 2026\, at the Ritz-Carlton on Amelia Island\, Florida. The two-day sale coincides with the Amelia Concours and emphasizes culturally significant performance models from the turn of the millennium. \nThis auction represents a concentrated lineup of high-performance icons that shaped enthusiast culture during the late 1990s and early 2000s. Broad Arrow’s focus on modern classics positions this sale as an exceptional opportunity for serious collectors seeking rare\, period-significant vehicles outside the ultra-high-end market segment. \n\nStarting Lineup\nThe sale features a 1996 Nissan NISMO 400R\, one of the most sought-after Japanese performance cars of its era. Produced in extremely limited numbers\, this example is number eight of 44 built and remains among a small number believed to be in the United States. \n \nThe NISMO 400R developed cult status long before legal U.S. importation became possible. Its reputation was fueled partly by appearances in late-1990s racing video games\, where it gained recognition among enthusiasts who had never encountered one in person. \n\nAlso headlining the sale is a 2006 Mercedes-Benz CLK DTM AMG Cabriolet\, an ultra-rare open-top variant. This model derived from the brand’s success in German touring car racing and combined race-inspired engineering with luxury finishes.The CLK DTM AMG Cabriolet was among the fastest four-seat convertibles of its time. The Amelia Island example was delivered new in Germany\, spent time overseas\, and was imported to the U.S. in 2024. \nPorsche models dominate the modern classic selection with 34 examples in the sale. Additionally\, four Rufs are included\, representing the German tuning house’s most desirable creations. \n\nTop 5 Highlight Vehicles\n\n1966 Ferrari 275 GTS: The top-estimated lot at Broad Arrow’s Amelia Auction 2026. This rare Pininfarina-bodied grand tourer features a 3.3-liter Colombo V12 engine producing 280 horsepower and a 5-speed manual transmission. Finished in silver over black leather with matching numbers and fresh restoration\, it exemplifies Ferrari’s grand touring heritage during the Enzo era.\n1997 Ruf BTR II: One of four Rufs in the sale\, estimated at $850\,000–$1.2 million. This twin-turbocharged 3.6-liter flat-six delivers over 500 horsepower with a 6-speed manual and wide-body aerodynamics. Legendary for sub-4-second 0–60 mph acceleration\, it represents the pinnacle of 1990s Porsche tuning.\n2006 Mercedes-Benz CLK DTM AMG Cabriolet: An ultra-rare open-top variant derived from German touring car racing success. This high-performance convertible combined race-inspired engineering with luxury finishes and was among the fastest four-seat convertibles of its era. The example was delivered new in Germany and imported to the U.S. in 2024.\n1996 Nissan NISMO 400R: Number eight of 44 produced. This sought-after Japanese performance icon gained cult recognition through late-1990s racing video games before becoming legally importable to the United States. It remains among a small number believed to be in American hands.\nView All Vehicles\n\n\nAbout the Venue\nThe Ritz-Carlton\, Amelia Island serves as the auction location at 4750 Amelia Island Parkway\, Amelia Island\, Florida 32034. The oceanfront setting provides an elegant backdrop for the two-day sale held on the property’s beautiful lawn. \nAdmission to preview sessions is complimentary and open to the general public during posted hours. Standing-room admission to the auction is also complimentary; however\, seating is reserved for registered bidders only. \nVisit The Ritz-Carlton\, Amelia Island Website \n\nAbout Broad Arrow Auctions\nBroad Arrow Auctions is the official auction house of The Amelia Concours. This is the firm’s fourth auction at the Ritz-Carlton Amelia Island. The house specializes in exceptional collector cars ranging from pre-war American and European classics to motorsport icons and modern supercars. \nBroad Arrow’s 2026 Amelia sale will present 119 lots with emphasis on the modern classic market segment (1980–2010). The firm has positioned itself as an accessible entry point for serious collectors beyond the ultra-high-end market dominated by competitors. \nVisit Broad Arrow Auctions Website \n\nTicket Prices & Event Schedule\n\nPreview Hours: Friday\, March 6: 9:00 AM–4:00 PM; Saturday\, March 7: 9:00 AM–3:00 PM. Preview admission is complimentary for the general public.\nAuction Hours: Friday\, March 6: Auction begins at 3:00 PM; Saturday\, March 7: Auction begins at 10:30 AM.\nBidder Registration: $250 for in-person bidding. Fee includes admission for two\, bidder paddle\, and auction catalog. Telephone\, absentee\, and internet bidding are complimentary.\nContact: Email info@broadarrowauctions.com or call +1-313-312-0780 for consignment information\, bidder registration\, and general inquiries.\n\n\nEvent Summary\n\nEvent: Broad Arrow Auctions at The Amelia Concours 2026\nDates: March 6–7\, 2026\nLocation: The Ritz-Carlton\, Amelia Island\, Florida\nVehicle Count: 119 lots featuring modern classics from the 1990s and 2000s\nHighlights: Japanese performance icons\, European grand tourers\, Porsche models\, and rare convertibles from the turn of the millennium\nAdmission: Complimentary preview for the general public; paid bidder registration required for in-person seating
URL:https://carcollectorsclub.com/event/broad-arrow-auctions-presents-150-collector-cars-at-amelia-island-march-6-7-2026/
LOCATION:The Ritz-Carlton\, Amelia Island\, 4750 Amelia Island Pkwy\, Amelia Island\, FL\, 32034\, United States
CATEGORIES:Auctions
ATTACH;FMTTYPE=image/jpeg:https://carcollectorsclub.com/wp-content/uploads/2026/02/BroadArrow-Action-Amilia-Island-1024.jpg
ORGANIZER;CN="Broad Arrow Auction":MAILTO:maddie.baker@broadarrowgroup.com
END:VEVENT
END:VCALENDAR