BEGIN:VCALENDAR
VERSION:2.0
PRODID:-//Car Collectors Club - ECPv6.6.3//NONSGML v1.0//EN
CALSCALE:GREGORIAN
METHOD:PUBLISH
X-ORIGINAL-URL:https://carcollectorsclub.com
X-WR-CALDESC:Events for Car Collectors Club
REFRESH-INTERVAL;VALUE=DURATION:PT1H
X-Robots-Tag:noindex
X-PUBLISHED-TTL:PT1H
BEGIN:VTIMEZONE
TZID:America/New_York
BEGIN:DAYLIGHT
TZOFFSETFROM:-0500
TZOFFSETTO:-0400
TZNAME:EDT
DTSTART:20260308T070000
END:DAYLIGHT
BEGIN:STANDARD
TZOFFSETFROM:-0400
TZOFFSETTO:-0500
TZNAME:EST
DTSTART:20261101T060000
END:STANDARD
END:VTIMEZONE
BEGIN:VEVENT
DTSTART;TZID=America/New_York:20260106T090000
DTEND;TZID=America/New_York:20260118T170000
DTSTAMP:20260422T180511
CREATED:20251205T215843Z
LAST-MODIFIED:20251205T232310Z
UID:25729-1767690000-1768755600@carcollectorsclub.com
SUMMARY:Mecum Auctions Kissimmee 2026 Featuring 4\,500 Collector Vehicles in Florida Lights Up Osceola Heritage Park
DESCRIPTION:Mecum Auctions Kissimmee 2026 will feature approximately 4\,500 vehicles at Osceola Heritage Park in Kissimmee\, Florida\, running from January 6 through January 18\, 2026. This event is one of the largest collector car auctions in the world\, attracting serious buyers and collectors looking for rare and historically significant automobiles. \nStar Cars Leading the Saturday Auction Lineup\nAmong the highly anticipated standout vehicles expected to cross the block is a diverse group spanning American muscle\, European racing pedigree\, and celebrity provenance: \n\n1967 Chevrolet Corvette L88 Coupe (Lot S275): This is a unique and immensely valuable piece of Corvette history\, recognized as the Only Known Rally Red on Red 1967 Corvette L88 and certified with the NCRS Duntov Mark of Excellence.\n1959 Porsche 718 RSK Center Seat (Lot S265): A true rarity for serious collectors\, this is 1 of only 6 examples produced in the distinctive Center-Seat configuration\, featuring its original Wendler Bodywork.\n\nThe ultra-rare 1966 Ford GT40 MkII Factory Lightweight (Chassis XGT-3)\, powered by a 427 CI V-8 engine and 5-Speed Manual transmission\, showcases its racing heritage in Red with a Black interior and is set to cross the Mecum Kissimmee 2026 auction block on Friday\, January 16th. \n\n1928 Bentley 4.5 Vanden Plas Tourer (Lot S273): Representing pre-war elegance\, this tourer features factory “Our Own Body Order” coachwork by Vanden Plas and a powerful 4398cc Inline-4 engine.\n2007 Ferrari F430 F1 (Lot S257): This specific modern supercar carries undeniable provenance\, having been Purchased New by President Donald J. Trump and showing just 9\,493 miles.\n\nUndoubtedly the star of the auction\, the 1962 Ferrari 250 GTO “Bianco Speciale” (Chassis 3729GT) is the only GTO ever built in factory-original white. This unrestored legend is anticipated to set a new world record. \n\n1967 Chevrolet Corvette Convertible: A prime example of originality\, this convertible features the 427/435 HP V-8 and remains Unrestored with only 13\,982 Miles\, holding a Bloomington Gold Benchmark Certification.\n1984 Chevrolet Camaro Race Car (Lot S278): A piece of motorsports history\, this Pro Stock Champion was Driven by 4-Time NHRA Pro Stock Champion Lee Shepherd and is offered at No Reserve.\n2016 Ford Shelby GT-H 50th Anniversary Coupe (Lot S255): An incredibly rare modern muscle car\, this is 1 of 16 Supercharged 6-Speed Examples with only 506 miles\, originally owned by the CEO of Hertz.\nVIEW ALL CARS HERE\n\n  \n**Read Article: Upcoming Car Auction & Concours d’Elegance \n\nFeatured Cars\n\n1962 Ferrari 250 GTO “Bianco Speciale” (Lot S204): The only factory-white 250 GTO ever produced (Chassis 3729GT). Maintained rather than restored\, this rare Ferrari has a racing lineage with Graham Hill and Roy Salvadori\, and is widely regarded as one of the most desirable Ferraris.\n1971 Plymouth Hemi Cuda Convertible (Lot S190): One of only five produced with automatic transmission in 1971\, featuring a 426/425 HP Hemi V-8\, restored by Julius Steuer.\n\nThe ultra-rare 1971 Plymouth Hemi Cuda Convertible (Lot S190)\, one of only five produced with the 426/425 HP Hemi V-8 and automatic transmission\, hits the block Saturday\, January 17th. \n\n1969 Chevrolet Yenko Camaro Prototype (Lot S109): The first pilot test car from Don Yenko’s crew\, powered by a 427/425 HP V-8 with full documented history.\n1965 Ford GT40 MkI (Lot F228): Shelby American show demonstrator\, driven by Carroll Shelby\, retains original chassis.\n1966 Ford GT40 MkII Factory Lightweight (Lot F206): One of three factory lightweight MkII examples\, recognized as the most original survivor.\n\nThe ultra-rare 1966 Ford GT40 MkII Factory Lightweight (Chassis XGT-3)\, powered by a 427 CI V-8 engine and 5-Speed Manual transmission\, showcases its racing heritage in Red with a Black interior and is set to cross the Mecum Kissimmee 2026 auction block on Friday\, January 16th. \nThe auction will take place at Osceola Heritage Park\, a spacious venue in Kissimmee\, FL\, equipped to handle large crowds and an extensive vehicle display. The park offers ample parking\, food and beverage options\, and facilities conducive to a full day of auction activities. \n\nEditors Featured Car Pick (Donald J. Trump 2007 Ferrari F430 F1 Coupe)\nThe Mecum Kissimmee auction will feature a unique piece of political and automotive history: a 2007 Ferrari F430 F1 Coupe originally purchased new by Donald J. Trump. Donald Trump’s 2007 Ferrari F430 F1 Coupe is a Rosso Corsa red supercar with a tan leather interior\, powered by a 4.3L V8 engine (483 hp) paired with a 6-speed F1 paddle-shift transmission \nThe stunning Corsa Red supercar shows just 9\,493 miles and is highly valued by collectors due to its presidential provenance. The sale includes a copy of the original title with his distinctive signature and the Trump Tower address\, confirming its time in his personal collection. \nThis is an extremely rare opportunity\, as the personal vehicles of former US presidents seldom come to auction\, often selling for significantly more than market value. \n** Read More About: President Donald Trump’s Car Collection Past and Future -The True Story \n﻿ \nThe 2007 Ferrari F430 F1 Coupe\, powered by a 4.3L V-8 engine and automatic transmission\, is presented in striking Corsa Red with a Beige interior and will be auctioned at Mecum Kissimmee 2026 on Saturday\, January 17th. \nKey Details:\n\nModel: 2007 Ferrari F430 F1 Coupe.\nColor: Rosso Corsa (Cherry Red) exterior.\nInterior: Beige leather with Daytona-style seats\, yellow instrument dials\, and carbon fiber dash inserts.\nEngine: 4.3L V8 producing around 483-490 horsepower.\nTransmission: 6-speed F1 automated manual (paddle-shift) gearbox.\nPerformance: 0-60 mph in ~3.6 seconds\, top speed near 196 mph.\nFeatures: Scuderia Ferrari shields on fenders\, red brake calipers\, CD changer\, Manettino dial for driving modes.\nUnique Provenance: Original title and delivery documents include Trump’s signature and Trump Tower address.\nMileage: Low mileage when sold\, under 9\,400 miles\nREAD FULL DETAILS\n\n\nSchedule & Ticket Information\nTickets are available for purchase online. A single-day ticket costs approximately $22.50 in advance or $56.25 for three days. Admission is free for children 12 years and younger. Prices rise to the regular rate if purchased on or after the event start date. \n\nVenue: Osceola Heritage Park\, Kissimmee\, FL\nAuction dates: January 6–18\, 2026\nDaily hours: Details available on Mecum’s website\nTicket prices: $22.50 single-day advance purchase; $56.25 for three days; free for children 12 and under\nBUY TICKS HERE\nContact information: Mecum Auctions\nPhone number: (262) 275-5050\nWebsite URL: Mecum.com/auctions/kissimmee-2026\n\n\n\nFeature Collections Up For Sale\nThe Mecum Kissimmee 2026 auction is defined by a staggering lineup of private and specialist collections that appeal to nearly every automotive niche.  \nThe most anticipated is The Bachman Ferrari Collection (48 Ferraris\, One Offering: The Legendary Bachman Collection Unveiled)\, featuring 48 pristine\, often low-mileage Ferraris\, including the legendary F40\, F50\, Enzo\, and LaFerrari\, many of which are in Phil Bachman’s signature yellow. \n \nAmerican muscle enthusiasts will flock to the assembly from the Cliff Ernst Collection\, which is heavily focused on rare Yenko Camaros and muscle machines\, highlighted by the original 1969 Yenko Camaro Prototype. \nOther significant offerings include The Carl Moyer Collection\, spanning eight decades from pre-war to modern performance\, and The Jack Shewmaker Collection\, which focuses on high-performance classics and mid-century stunners. \nRounding out the diversity are The Heritage Collection\, featuring a desirable mix of vintage muscle and modern supercars like the Ford GT\, and the unique custom builds from the Kindig Collection. \n \nThe following collections will also be up for sale:  \nThe Apex Collection\, The Pete Todo Collection\, The Frank Karabetsos Collection\, Great Lakes Collection\, MYGarage Museum\, From the Bender Muscle Car Collection\, The Peach State Muscle Collection\, The American Muscle Car Collection\, Johnson’s Horsepowered Garage Collection\, The “R” Code Collection\, The Jim Nagel Collection\, The Funkmaster Flex Collection\, The Medeiros Collection\, The Steve and Jewel Lamb Collection\, The US 30 Collection\, The Aberdeen Creek Collection\, From the Fleming Williams Collection\, Day Family Classic Car Collection\, The Lisa Darnaby Collection\, The Talbot Trail Collection\, and The Vogler Collection. \n\nMecum Kissimmee 2026 Viewing Schedule\nThe auction can be viewed live through two main channels: free continuous streaming and selective premium broadcast coverage. \n1. Live Block Cam (Free Streaming)\n\nCoverage: Uninterrupted live footage of the auction block from the first car to the last. No commentary or commercials.\nDates & Times: Live every day of the auction\, January 6–18\, 2026. (Generally starting at 10:00 AM ET).\nChannels: Available for free on Mecum.com and the Mecum Auctions YouTube channel.\nSee Full Broadcast Schedule\n\n2. ESPN+ (Premium Broadcast)\n\nCoverage: Select prime-time segments featuring full commentary\, professional hosts\, and analysis. (Subscription Required).\nChannel: ESPN+\nSchedule (12:00 PM – 6:00 PM ET):\n\nFriday\, January 9\nSaturday\, January 10\nWednesday\, January 14\nThursday\, January 15\nFriday\, January 16\nSaturday\, January 17\nSee Full Broadcast Schedule\n\n\n\n\n\n2024 Mecum Kissemme Results\nThe Mecum Kissimmee 2025 auction saw over 4\,000 vehicles cross the block\, generating more than $224 million in total sales. The top highlight was the sale of a 1966 Ford GT40 MkI Road Car (P/1034)\, which commanded a staggering $7\,040\,000. \nWhile the auction’s overall volume was slightly down from the previous year\, key results were record-setting in certain niches\, notably a 1967 Chevrolet Corvette L89 Coupe\, which sold for $1\,705\,000\, becoming one of the most expensive L89-equipped Corvettes ever sold. \n \n\nInterestingly\, the auction’s headline car\, the ex-Steve McQueen Porsche 917K\, failed to sell despite receiving a high bid of $25 million\, underscoring the selective nature of the ultra-high-end market. \n\nMecum Kissimmee 2025 takes the spotlight in this full-throttle highlight reel from the world’s largest collector car auction. Step into the high-stakes\, high-energy action at Osceola Heritage Park\, where over $224 million in total sales turned heads and broke records.  \nHosted by Scott Hoke\, Bill Stephens\, Chris Jacobs\, and Danielle Trotta\, this episode captures the essence of Mecum’s flagship event\, featuring dramatic bidding wars\, ultra-rare collector cars\, and behind-the-scenes access that only Mecum provides.  \nWhether you’re into classic muscle cars\, vintage exotics\, or million-dollar supercars\, Mecum Kissimmee 2025 delivers all the horsepower you crave. From Ford GT40 legends to one-of-a-kind Ruxtons\, it’s all here. Highlights include: \n\nExclusive behind-the-scenes footage from the auction floor \nExpert commentary from the Mecum broadcast team \nMillion-dollar bidding battles on rare and historic vehicles \nMuscle cars\, supercars\, and collector icons \nThe unmatched atmosphere of Mecum Kissimmee 2025\n\n\nAbout the Venue\nThe massive\, 200-acre Osceola Heritage Park provides a seamless experience for Mecum’s auction.This massive size helps Mecum run the auction smoothly. For instance\, the park offers lots of on-site parking\, which costs about $15 per day. They even have special parking spots just for Gold bidders. \nWhen you get hungry\, you’re in luck! The park has its own food service called SAVOR Kissimmee. This team runs concession stands all over the huge indoor and outdoor areas. To keep things moving fast\, all food and drink transactions are cashless. \nThis is great because it means serious car collectors spend less time waiting in line and more time hunting for the perfect classic car. \n\nAbout Mecum\nMecum Auctions is the organizer\, recognized globally as a premier auction house specializing in collector cars. They bring decades of experience in facilitating sales for high-value\, rare vehicles and providing detailed vehicle histories and provenance verification. READ MORE ABOUT MECUM AUCTION
URL:https://carcollectorsclub.com/event/mecum-auctions-kissimmee-2026-osceola-heritage-park/
LOCATION:Osceola Heritage Park\, 1875 Silver Spur Lane\, Kissimmee\, FL\, 34744\, United States
CATEGORIES:Auctions
ATTACH;FMTTYPE=image/jpeg:https://carcollectorsclub.com/wp-content/uploads/2025/12/2026-Kissimmee-Mecum-Auction-01-w1024-2026.jpg
ORGANIZER;CN="Mecum Auctions":MAILTO:info@mecum.com
END:VEVENT
BEGIN:VEVENT
DTSTART;TZID=America/New_York:20260117T090000
DTEND;TZID=America/New_York:20260125T170000
DTSTAMP:20260422T180511
CREATED:20260102T213351Z
LAST-MODIFIED:20260102T214404Z
UID:25944-1768640400-1769360400@carcollectorsclub.com
SUMMARY:Barrett-Jackson Auction Returns to WestWorld of Scottsdale with 1\,700+ Collector Cars (Jan. 17–25\, 2026)
DESCRIPTION:Celebrating 55 years in Arizona\, the Barrett-Jackson Auction returns to WestWorld of Scottsdale for its 37th consecutive year from January 17–25\, 2026.This nine-day “automotive lifestyle event” features over 2\,000 vehicles crossing the block at No Reserve\, including the first of only 25 2023 Brabus 900 Rocket R hypercars and the 2026 Chevrolet Corvette ZR1X “Stars and Steel” charity car.Beyond the auction block\, the event features the prestigious Barrett-Jackson Cup for custom builders\, thrill rides on the performance track\, and a live “Rock the Block” concert headlined by Cole Swindell. \n\n \n\nThis auction serves as the anchor for the broader 2026 Arizona Car Week\, which transforms the region into a global collector car hub from January 17–25. \nWhile Barrett-Jackson draws massive crowds to WestWorld\, enthusiasts can also attend curated sales at RM Sotheby’s at the Arizona Biltmore and Bonhams at the Westin Kierland Resort. \nOther major events throughout the week include the Arizona Concours d’Elegance at Scottsdale Civic Center and the MAG Collector Car Auction in Mesa\, offering a complete schedule of shows\, seminars\, and multi-million dollar sales. \n\nHeavy Hitters Crossing the Block\n\n2023 Brabus 900 Rocket R: This “Blue Magic” hypercar features a 3.8L flat-six producing 900hp and 774 lb-ft of torque\, mated to an 8-speed PDK. The exterior is Signature Gray with a Mondial Blue leather interior. It is one of only two street-legal units in the U.S..\n\nPowered by a 3.8L twin-turbo flat-6 producing 900 hp\, this BRABUS 900 Rocket R shows just 936 miles and features a Mexico Blue Masterpiece interior with Alcantara\, carbon trim\, and Shadow Chrome accents. \n  \n\n1970 Plymouth ‘Cuda Convertible: This Lemon Twist Yellow Mopar features a black vinyl interior and a rare V-code 440 Six-Barrel engine paired with a 4-speed manual. As one of only 17 produced with this drivetrain\, its professional rotisserie restoration makes it a blue-chip investment.\n2017 Ford GT: Powered by a 3.5L EcoBoost V6 and 7-speed dual-clutch transmission\, this Ingot Silver beast features a “Dark Energy” interior. Previously owned by Tim Allen\, it has only 937 miles and includes carbon-fiber wheels and titanium lug nuts.\nThis Ingot Silver 2017 Ford GT\, purchased new from Galpin Ford by comedian Tim Allen and showing 937 miles\, pairs a twin-turbo 3.5L V6 and 7-speed dual-clutch with carbon-fiber wheels and Brembo carbon-ceramic brakes with blue calipers. \n\n\n\n2005 Ford GTX1 (No. 24): Finished in Ebony Black with silver stripes and a black interior\, this targa-top conversion uses a 5.4L supercharged V8 and 6-speed manual. It is one of just 30 built by Genaddi and bears the unique signatures of Carroll Shelby and Mario Andretti.\n2026 Corvette ZR1X “Stars and Steel”: This one-of-one charity car boasts a 1\,064hp twin-turbo 5.5L LT7 V8 and 8-speed dual-clutch. It features a custom “Patriot Blue” finish and a “Liberty Red” interior\, created specifically to honor America’s 250th anniversary.\n\n\nLast Year’s Results\nThe 2025 Barrett-Jackson Scottsdale Auction achieved over $198 million in total sales with a 100% sell-through rate across 2\,013 vehicles. The event was headlined by the first retail 2025 Chevrolet Corvette ZR1 (VIN 001)\, which hammered at $3.7 million for charity. \n \nOther Modern hypercars dominated the leaderboard\, including a 2023 Hennessey Venom F5 Roadster that sold for $2.2 million and a 2014 Pagani Huayra at $1.925 million. Beyond the cars\, the auction also set records in its automobilia division\, moving nearly 1\,000 pieces for over $5.2 million. \n\nTop 5 Highlight Vehicles\n\n1951 MERCURY CUSTOM COUPE: This radical 1951 Mercury Custom Coupe\, known as “The Widow\,” stands as one of the most significant custom Mercs ever built. Designed and executed by legendary customizer Joe Bailon—the originator of Candy Apple Red—it features extensive hand-fabricated bodywork\, a deeply chopped roof\, and period-correct custom craftsmanship elevated by modern mechanical refinement.\nKnown as “The Widow\,” this 1951 Mercury Custom Coupe represents Joe Bailon’s most extensive Merc build. Powered by a 255ci flathead with Edelbrock heads and tri-power\, it’s finished in Bailon’s own Candy Apple Red\, a color he famously pioneered. \nHeadlining the Barrett-Jackson Scottsdale Auction\, it has earned recognition from Hagerty as one of the wildest customs ever built\, blending historic hot rod culture with show-stopping presence and street-driven capability at WestWorld.\n2005 CHEVROLET CORVETTE: A rebodied 2005 Chevrolet Corvette transformed into a bespoke supercar-like creation\, blending C6 mechanicals with radical custom fiberglass body\, aggressive aerodynamics\, and LS-powered performance. Highlighted in Hagerty’s wildest customs list for the 2026 Scottsdale auction\, offering LS V8 muscle\, modern suspension\, and unique styling destined for collector acclaim.\n2006 FORD GT (SUPERCHARGED): This 2006 Ford GT is powered by a supercharged 5.4L DOHC V8 and 6-speed manual. Showing 1\,306 miles\, it includes factory black stripes\, McIntosh stereo\, and forged BBS wheels. It is one of 31 in yellow with black calipers from a 2\,011-unit run. This low-mileage supercar blends iconic racing heritage with pristine\, investment-grade status.\n2008 FORD SHELBY GT500 SUPER SNAKE: This 2008 Ford Shelby GT500 Super Snake (CSM #08SS0409) features a supercharged 5.4L V8 producing 725hp. It is equipped with a polished Kenne Bell supercharger\, 6-speed manual\, and JBA long-tube headers. Finished in Torch Red with black stripes and Alcoa wheels\, it has 9\,972 miles and includes carbon-fiber accents with Super Snake embroidery.\nThis Super Snake is finished in Torch Red with black stripes and Alcoa wheels\, it has 9\,972 miles and includes carbon-fiber accents with Super Snake embroidery. \nFor a 2008 Shelby GT500 Super Snake with the Kenne Bell supercharger package (the more aggressive option): \n\n0–60 mph: ~3.5 seconds\nQuarter-mile: low 11-second range (high 10s with ideal conditions)\nTop speed: 190–200 mph\, depending on gearing and aero setup\nOutput: Typically 725–800+ horsepower\, depending on pulley and tune\n\n\n2011 FERRARI 458 ITALIA LIBERTY WALK CUSTOM COUPE: This custom 2011 Ferrari 458 Italia features a Liberty Walk widebody kit and “White Horse” paint over carbon fiber.\nThis 2011 Ferrari 458 Italia Liberty Walk features a 4.5L V8 with a 7-speed dual-clutch\, Liberty Walk carbon widebody\, HRE wheels\, FI valved exhaust\, Air Lift suspension\, and custom ECU tune. Built by Creative Bespoke with over $120K in modifications and 22\,954 miles. \nPowered by a 4.5L V8 with a 7-speed dual-clutch\, it includes a custom ECU tune and FI valved exhaust. Performance is matched by an Air Lift suspension and color-matched HRE wheels. Showing 22\,954 miles\, this bespoke coupe is a standout for the 2026 auction.\nView All Vehicles\n\n\nBarrett-Jackson VIP Experiences\nFor those seeking more than a front-row seat\, Barrett-Jackson offers elite VIP Hospitality Packages that provide unparalleled access to the “World’s Greatest Collector Car Auction”. \nExclusive Hospitality Suites\n\nCraig Jackson’s Skybox: Traditionally an invitation-only area\, this premium suite offers a direct vantage point of the auction block. It includes gourmet catering\, a hosted bar\, and access to the owner’s private lounge. (View VIP Packages) \nLuxury Lounge: Located high above the auction floor\, this suite provides panoramic views of the arena. Guests enjoy a curated menu\, private restrooms\, and a relaxed environment away from the crowds.\nThe Muscle Lounge: A high-energy social club situated at the north end of the pavilion\, perfect for entertaining clients with all-inclusive food and drinks throughout the week.\n\nInsider Access & Perks\n\nStaging Lane Hospitality: Get a behind-the-scenes look at the vehicles just moments before they roll onto the auction block. This package includes fast-pass entry to the Ford and Chevrolet thrill rides. (View VIP Packages) \nVIP Auction Block Tours: Led by a Barrett-Jackson representative\, these guided tours take you on the stage for an up-close look at the cars as they are being auctioned.\nOpening Night Gala: Most VIP credentials include invitations to this prestigious\, private party featuring live entertainment\, fine dining\, and networking with top collectors and celebrities.\n\n\nTicket Prices & Auction Schedule\nThe 2026 Barrett-Jackson Scottsdale Auction runs from January 17–25\, with gates opening daily at 8:00 AM. The “Rock the Block” kickoff concert featuring Cole Swindell starts the festivities on Friday\, January 16. \nDaily Ticket Pricing (Adult General Admission)\nPrices vary by day\, increasing as the week progresses toward the premium weekend lots. \n\nPreview & Family Day (Jan 17): Starting at $27.\n** Buy Tickets Here\nWeekdays (Jan 19–21): $47 – $70.\nPeak Auction Days (Jan 22–24): $88 – $139.\nFinale Sunday (Jan 25): Approximately $46.\nDiscounts: Seniors\, military\, and students (ages 13–college) receive discounted rates (approx. $10–$35); children 12 and under are free with a paying adult.\n\nEvent Schedule Highlights\n\n\n\nDate\nEvent Highlights\n\n\n\n\nJan 16\nRock the Block Concert: Cole Swindell & Chase Rice (8:30 PM).\n\n\nJan 17\nFamily Day & STEMfest: Preview of all 1\,800+ vehicles; no car auctions.\n\n\nJan 18\nAutomobilia Auction Begins: Opening of the collector car preview.\n\n\nJan 19–21\nCollector Car Auction: Early lots and daily Thrill Rides at the track.\n\n\nJan 22–24\nThe Main Event: High-profile supercars\, the Barrett-Jackson Cup\, and charity lots.\n\n\nJan 25\nFinale Sunday: Final vehicle lots and event wrap-up.\n\n\n\n. \n\nHOW TO REGISTER FOR THE AUCTION\nCan anyone go to the Barrett-Jackson auction as a guest with the price of a $30 ticket? But if you would like to purchase a car\, or register to possibly buy a car\, you can register on the Barrett-Jackson Website Registration Page here. \nHOW TO SELL A CAR AT A BARRETT-JACKSON AUCTION\nIf you would consign or sell a car at a Barrett-Jackson Auction\, you must first register your car on the Barrett-Jackson website. There are only a few simple steps to registration\, such as your car description\, photos\, and a copy of the car title. For more details on how to register your car\, please visit the Barrett-Jackson Car Registration Page Here. \n\nAbout the Venue\nWestWorld of Scottsdale is off SR-101 at Frank Lloyd Wright Blvd. It offers paid and free parking plus shuttles. Amenities include an Exhibitor Marketplace and food options. Rideshare drop-off is near the entrance. Accessibility supports all attendees. \nVisit Les Salles du Carrousel Website \n\nAbout Barrett-Jackson Auction\nBarrett-Jackson started in the 1960s by Tom Barrett and Russ Jackson. It specializes in collector car auctions. Now the world’s greatest\, it hosts thousands of vehicles yearly. Charity sales have raised over $163 million. \nVisit Barrett-Jackson Auction Website \n\nEvent Summary\n\nWho: Barrett-Jackson Auction Company for serious collectors.\nWhat: Over 1\,700 collector cars\, customs\, supercars crossing the block.\nWhen: January 17-25\, 2026.\nWhere: WestWorld of Scottsdale\, AZ.
URL:https://carcollectorsclub.com/event/barrett-jackson-auction-westworld-scottsdale/
LOCATION:Westworld of Scottsdale\, 16601 North Pima Road\, Scottsdale\, AL\, 85260\, United States
CATEGORIES:Auctions
ATTACH;FMTTYPE=image/jpeg:https://carcollectorsclub.com/wp-content/uploads/2026/01/Barret-Jackson-Auction-Scottsdale-2026-w1024-01.jpg
ORGANIZER;CN="Barrett-Jackson Auction":MAILTO:shop@barrett-jackson.com
END:VEVENT
END:VCALENDAR