BEGIN:VCALENDAR
VERSION:2.0
PRODID:-//Car Collectors Club - ECPv6.6.3//NONSGML v1.0//EN
CALSCALE:GREGORIAN
METHOD:PUBLISH
X-ORIGINAL-URL:https://carcollectorsclub.com
X-WR-CALDESC:Events for Car Collectors Club
REFRESH-INTERVAL;VALUE=DURATION:PT1H
X-Robots-Tag:noindex
X-PUBLISHED-TTL:PT1H
BEGIN:VTIMEZONE
TZID:America/New_York
BEGIN:DAYLIGHT
TZOFFSETFROM:-0500
TZOFFSETTO:-0400
TZNAME:EDT
DTSTART:20250309T070000
END:DAYLIGHT
BEGIN:STANDARD
TZOFFSETFROM:-0400
TZOFFSETTO:-0500
TZNAME:EST
DTSTART:20251102T060000
END:STANDARD
END:VTIMEZONE
BEGIN:VEVENT
DTSTART;TZID=America/New_York:20251205T090000
DTEND;TZID=America/New_York:20251206T170000
DTSTAMP:20260423T002209
CREATED:20251125T225014Z
LAST-MODIFIED:20260116T201853Z
UID:25657-1764925200-1765040400@carcollectorsclub.com
SUMMARY:Premier Auction Group’s Gulf Coast Classic Auction Features Over 100 Collector Cars in Punta Gorda
DESCRIPTION:Over 100 classic and collector cars will cross the block at the Premier Auction Group’s Gulf Coast Classic Auction\, held at the Charlotte Harbor Event Center in Punta Gorda\, Florida\, on December 5 and 6\, 2025. \nThis is one of the largest annual classic car auctions in Southwest Florida\, drawing serious collectors and enthusiasts from across the country.The auction features a wide range of vehicles\, including American muscle cars\, European classics\, custom cars\, and restomods. \nAttendees can expect everything from rare pre-war survivors to modern supercars and unique custom builds.The event also offers a preview party\, onsite vehicle viewing\, and options to register for bidding in person or online. \nThe Premier Auction Group Classic Car Auction Gulf Coast Classic will feature over 150 classic cars including a 1957 Chevrolet Nomad Custom\, a 1969 Chevrolet Corvette\, and a 1988 Porsche 911. \nFood and drink will be available on-site\, and the venue is pet-friendly with ample parking. There are no VIP packages\, but all attendees can enjoy the full auction and preview days. \n\nFEATURED CARS \nThe auction will showcase an impressive lineup of standout vehicles\, including: \n\n1967 Chevrolet Camaro Pro-Touring Convertible – This 1967 Chevrolet Camaro Pro-Touring Convertible is powered by a blue-printed 383 CI V-8 crate engine producing 436 HP\, paired with a built 4L60 overdrive transmission and Lokar shifter. Finished in Red over a Black Deluxe Houndstooth interior\, it shows 1\,079 miles and crosses the block as LOT #D25-511.\n1970 Plymouth Superbird Coupe – This 1970 Plymouth Superbird Coupe features its original 440 Six-Pack V-8 rated at 390 HP paired with a 4-speed manual transmission. Finished in Lemon Twist over a Black interior\, it shows 58\,169 actual miles. This high-wing aero icon is offered as LOT #D25-456.\n1967 Chevrolet Nova SS Survivor – This 1967 Chevrolet Nova SS Survivor is powered by a 327 CI Turbofire V-8 rated at 275 HP and paired with its original 4-speed manual transmission. Finished in Butternut Yellow (Code Y) over a Black interior with White accents\, it shows 96\,745 miles on the odometer. This well-preserved Super Sport retains its authentic presentation and crosses the block as LOT #D25-193.\n1967 Chevrolet Corvette Convertible Restomod – This 1967 Chevrolet Corvette Convertible Restomod is powered by an LS3 V-8 with a 495 HP Hot Cam\, paired with a 4L60E 4-speed automatic with overdrive. Finished in Silver Pearl over a Red leather interior\, it shows just 15 miles since completion and crosses the block as LOT #D25-453.\n1965 Shelby 427 Cobra Roadster Replica by Hurricane Motorsports – This 1965 Shelby 427 Cobra Roadster Replica features a Ford Super FE 452 CI engine producing 525 HP\, built by Southern Automotive in McDonough\, Georgia. It’s paired with a 4-speed Toploader manual transmission with a Hurst Cobra shifter. Finished in iconic Blue with White stripes over a Black interior\, it shows 1\,400 miles and is offered as LOT #D25-447.\n\nThis 1970 Dodge Challenger R/T Coupe retains its numbers-matching 383 CI 4-bbl V-8 and original 727 3-speed automatic transmission… \nThe Charlotte Harbor Event Center is a large\, modern facility with plenty of indoor and outdoor space. The venue offers food and drink options\, is pet-friendly\, and has ample parking for attendees. \n**Read Article: Upcoming Car Auction & Concours d’Elegance \n\nAbout The Charlotte Harbor Event Center \nThe Charlotte Harbor Event Center in Punta Gorda is a modern waterfront venue offering spacious indoor halls\, scenic harbor views\, and comfortable amenities. With full food and beverage service\, ample parking\, and easy access to downtown hotels and restaurants\, it provides a polished\, welcoming setting for major collector-car auctions. \nThe Charlotte Harbor Event & Conference Center is a modern waterfront venue offering 44\,000 square feet of flexible event space with panoramic views of Charlotte Harbor. \nAddress: 75 Taylor Street\, Punta Gorda\, FL 33950\nPhone: (941) 833-5444 \n\nHere is the event schedule and registration information: \n\nVenue: Charlotte Harbor Event Center\nAuction Dates: December 5–6\, 2025\nTime: Gates open at 8:30 AM\, auction starts at 9:30 AM\nTicket Price: $20 (Adults)\, $10 (Seniors & Military)\, Children 12 and under free\nContact: (844) 593-7355\nWebsite: www.premierauctiongroup.com\nEmail: info@premierauctiongroup.com
URL:https://carcollectorsclub.com/event/premier-auction-groups-gulf-coast-classic-auction-features-over-100-collector-cars-in-punta-gorda/
LOCATION:Charlotte Harbor Event Center\, 75 Taylor Street\, Punta Gorda\, FL\, 33950\, United States
CATEGORIES:Auctions
ATTACH;FMTTYPE=image/jpeg:https://carcollectorsclub.com/wp-content/uploads/2026/11/Premeir-Auction-Group-Dec-2025-w950.jpg
ORGANIZER;CN="Premier Auction Group":MAILTO:info@premierauctiongroup.com
END:VEVENT
END:VCALENDAR