BEGIN:VCALENDAR
VERSION:2.0
PRODID:-//Car Collectors Club - ECPv6.6.3//NONSGML v1.0//EN
CALSCALE:GREGORIAN
METHOD:PUBLISH
X-ORIGINAL-URL:https://carcollectorsclub.com
X-WR-CALDESC:Events for Car Collectors Club
REFRESH-INTERVAL;VALUE=DURATION:PT1H
X-Robots-Tag:noindex
X-PUBLISHED-TTL:PT1H
BEGIN:VTIMEZONE
TZID:UTC
BEGIN:STANDARD
TZOFFSETFROM:+0000
TZOFFSETTO:+0000
TZNAME:UTC
DTSTART:20250101T000000
END:STANDARD
END:VTIMEZONE
BEGIN:VEVENT
DTSTART;TZID=UTC:20251108T090000
DTEND;TZID=UTC:20251109T180000
DTSTAMP:20260425T021306
CREATED:20231004T123831Z
LAST-MODIFIED:20250915T010947Z
UID:8578-1762592400-1762711200@carcollectorsclub.com
SUMMARY:Arizona's Prestigious Bentley Scottsdale Polo Championships Teams Up With Barrett-Jackson November 8-9\, 2025
DESCRIPTION:(Updated: Sept. 2025) — Once again\, the luxury carmaker “Bentley” will host a glitzy one-day Polo Party at the annual Bentley Scottsdale Polo Championships on Saturday\, November 8-9\, 2025\, in Scottsdale\, Arizona. \nThis year’s gathering offers a unique blend of raw horsepower\, melding world-class horses and luxurious exotic cars. The day is packed with top-tier polo matches\, live shows\, and posh fashion—all set against a backdrop of dazzling exotic car exhibits. \nThe Bentley Scottsdale Polo Championship and Barrett Jackson Preview Party will take place at the luxurious Westworld november 8\, 2025\, from 9:00 am to 6:00 pm. \nTickets can range from $30 for general admission to over $2000 for all-access VIP passes. VIP tickets include private social seating and events\, gourmet appetizers\, fine dining\, top-notch spirits and libations\, and much more. \n\nTICKET PRICING \n\nGeneral Admission  $50.00\nSunset Ticket $35.00\nVIP All Access $525.00\nSideline Parking – From $125\nTo order tickets & tables by phone\, call 480.423-1414.\n\n\nBuy Tickets\n\nPolo matches\, rugby matches\, fashion shows\, art exhibits\, exotic car exhibits\, live performances\, charity functions\, car exhibits\, and a Barrett-Jackson Classic Car Auction are among the Scottsdale Polo Championship Events. \n\nSpeciality Events \nThe event is hailed as the “Greatest Polo Event in the World” because\, beyond a host of Bentley championship polo matches\, it boasts fashion shows\, art exhibits\, car exhibits\, live performances\, charity functions\, and a Barrett-Jackson auction preview party. \nThe event starts with a call for “CHEERS EVENT\,” with guests shouting “Bottoms-Up” as they reach for a frosty morning mug of beer to celebrate the opening of the day’s first event\, called the Morning Beer Festival. \nOnce guests have their morning “HAIR OF THE DOG EVENT” under their belts\, they are invited to enjoy the day’s events\, which include the world’s longest fashion catwalk show\, a canine couture dog fashion show\, and a hard-hitting collegiate rugby match. \n\nBarrett-Jackson Car Preview \nAdditionally\, guests can preview Barrett-Jackson’s “The World’s Greatest Car Collector” to see both the astounding rare collectable cars from the Barrett-Jackson car collection and over +200 classic cars that will be auctioned at the event from  Saturday\, November 8\, and Sunday\, November 9\, 2025. \nPreview for the Barrett-Jackson classic cars will take place at the Outdoor Polo & Jazz Lounge: The Lounge delivers an illuminating sideline experience\, including cocktails\, hors d’oeuvres\, and plenty of socializing. \nAt The Scottsdale Polo Championship\, There Will Be Parties\, Polo Matches\, Fashion Shows\, Car Events\, And A Gigantic Classic Car Auction From Barrett-Jackson. \nThis private event will feature glamorous tables that accommodate two to eight people\, all shaded by stylish umbrellas. While you’re enjoying the lounge watching polo\, you’ll have private access to a complimentary gourmet French Fry bar and live jazz music throughout the day. A convenient libations no-host bar will be available for all your thirst needs. \nAnd finally\, there will be halftime performances by the Scottsdale Arabian Horse Show Riders on the polo fields. \nGates will open for the event at 10:00 am on Saturday. \nThe Bentley Sponsored Polo Match at the Scottsdale Polo Grounds Celebrates its 14th Anniversary on November 8\, 2025. \nOn Saturday\, Nov. 8\, 2025\, the Bentley Scottsdale Polo Championships will mark their 13th anniversary. \nThe competition this year promises to be an unparalleled polo experience! Join the fun for event favorites including live performances\, opulent fashion shows\, and displays of exotic cars\, as well as brand-new activities available this year only. \n\n2025 POLO TEAM COMPETITION SCHEDULE \nSaturday 10:00 am\nEPR POLO vs. NARANJO \nSaturday 12:15 pm\nROYAL COUNTY OF BERKSHIRE POLO CLUB vs. WALES POLO TEAM \nSaturday 2:15 pm\nASPEN VALLEY POLO CLUB vs. SWITZERLAND POLO TEAM \nSaturday 3:45 pm\nUSA WOMEN’S TEAM vs. ARIZONA POLO CLUB\nTeam Details \n\n\nLOOK SHARP: (How Should I Dress?) \nNaturally\, we also want you to look your best! The dress code for the prestigious Bentley Scottsdale Polo Championships is outdoor elegance. \n The Shoes (Important): Since you will be walking on grass all day\, we advise you to wear comfortable shoes. \nWomen’s Shoes: Choose flats\, wedges\, boots\, or block heels. Avoid wearing footwear that will cause you to sink into the grass\, such as stilettos. Please be aware that grass can occasionally stain shoes. \nMen’s Shoes: Appropriate footwear includes oxfords\, boots\, and sneakers. Ultimately\, it’s all up to you! Caps are recommended\, Ladies: \nLadies may opt for dresses\, skirts\, dress pants\, colorful shirts\, or even jeans and cardigans. We refer to the dress code as outdoor elegance. \n Men: Men might dress casually in button-down shirts\, a jacket\, and vibrant shorts or pants. Wear whatever makes you feel attractive\, as this is a classy occasion! Shopping: \nThere are nearby luxury shoe and clothes shops at the event to pick out a new outfit. Shop includes\, but is not limited to:   My Sister’s Closet\, Being Dapper\, and Neiman Marcus. \n\nTHE CANINE COUTURE \nThe Couture runway show takes place on Saturday\, November 8th\, 2025\, at the Bentley Scottsdale Polo Championships presented by Talking Stick Resort. \nThis premier event will be a showcase of Scottsdale’s most stylish pooches. Participation in the fashion show is open to all breeds and ages of dogs. \nDogs will be judged on their appearance and the creativity of their outfits by a panel of canine couture experts. This year\, trophies\, as well as cash prizes\, will be awarded to the top dogs in three categories: Bow Tie Stud (boys)\, Fancy FiFi (girls)\, and Best Costume. \n\nAdmission Tickets: www.thepoloparty.com/tickets-tables \n\nTHE POLO PARTY \nTICKET PRICING OPTIONS EXPLAINED\n \n\nWill I be able to buy tickets at the door? \nYes. Tickets will be available at the door. If tables are not sold out\, they will also be available at the door. However\, we cannot guarantee availability.\nGeneral Admission Grass\, bleacher\, and picnic table seating are available as well as access to General Admission tents\, all four polo matches\, no-host bars including beer\, wine\, and cocktails\, DJs\, car displays\, and other event elements. Children under the age of 12 are FREE! \nTickets for general admission begin at $40.  \n (BUY TICKETS HERE)\n \n\nSideline Parking\nDrive your car to the field side and enjoy the matches. Each sideline parking space includes general admission for up to four guests. RV spaces include general admission for up to eight guests. All guests must enter the event in a single vehicle. Sideline Parking starts at $125. (BUY TICKETS HERE) \nThe Barrett-Jackson Champagne & Jazz Lounge\nIt is the only champagne bar on-site. This includes amazing views from mid-field and complimentary mimosas until noon and (1) additional complimentary mimosa before 4pm. Guests can enjoy complimentary French fries from 12 noon to 4 pm. Entry only (no reserved seats). The Barrett-Jackson Champagne & Jazz Lounge.  The Barrett-Jackson Champagne & Jazz Lounge Tickets Start At $88. (BUY TICKETS) HERE) \nMolina Fine Jewelers Drivers & Players VIP Lounge\nThe Molina Fine Jewelers Drivers & Players VIP Lounge includes complimentary food (12 noon to 4 pm)\, complimentary drink tickets per guest (valid until 4 pm)\, and a bottle of champagne for reserved tables. This is one of the most famous and fun tents in the world of Polo\, with exclusive access to drivers and players. Molina Fine Jewelers Drivers & Players VIP Lounge Ticket Start at $200. (BUY TICKETS HERE) \nPrime: A Luxury Tent Experience By Steak 44/Dominick’s Steakhouse\, Neiman Marcus & Barrett-Jackson\nOne of the best locations\, limited to only 250 VIP guests. This is an off-site culinary dinner and experience hosted by Arizona’s top steakhouse. It offers a Steak 44/Dominick’s Steakhouse gourmet meal and features a unique\, refined\, luxurious atmosphere courtesy of Neiman Marcus and Barrett-Jackson. Additionally\, lunch will be served between 12 p.m. and 4 p.m. Each VIP guest will receive five complimentary drink tickets valid until 4 pm.  The Luxury Tent Experience by Steak 44/Dominick’s Steakhouse Ticket costs $275. (BUY TICKETS HERE) \nSuper Prime: A Luxury Tent Experience by Steak 44\nThe All Access Ticket grants you access to Prime\, which is a Luxury Tent Experience by Steak 44\, plus to Neiman Marcus & Barrett-Jackson\, Molina Fine Jewelers\, Drivers & Players VIP Lounge\, The Barrett-Jackson Champagne & Jazz Lounge\, Sanderson Lincoln Black Label Lounge\, and Earnhardt Genesis Club: By Invitation Only. The ticket includes lunch (12noon to 4 pm) and drink vouchers (valid until 4 pm) in the VIP hospitality lounges listed above.  The Vip All Access Ticket starts at $275. (BUY TICKETS HERE) \n  \n\nHIGHLIGHTS \n\nThe Bentley Scottsdale Polo Championships: Presented by Talking Stick Resort is held at West Scottsdale\, Worldworld of Scottsdale’s Polo Field\nDate: Nnovember 8-9\, 2025\nScottsdale\, AZ\nLocation Description: “WestWorld of Scottsdale’s Polo Field”\nTickets & Admission: Adults $45\nFeatured: New Bentley Displays\, luxury fashion show\, Barrett-Jackson Auction\, Polo Matches\, and exotic car on displays.\nWebsite: www.thepoloparty.com\nFacebook\nContact Phone: (480) 423-1414\nYear founded: 2011\nCars on display: +150 Barrett-Jackson Classic Cars\, New Bentley Models\nBenefits / Donations / Charities.\nWhere to Park: WestWorld of Scottsdale\, the venue.\nHost hotel:\nTalking Stick Resort (AAA Four-Diamond Hotel) \n9800 Talking Stick Way\, Scottsdale\, AZ 85256\n480-850-7777\n\n\nWhere is The Bentley Scottsdale Polo Championship Located? \nThe WestWorld of Scottsdale’s Polo Field\, which is conveniently located right off the Loop 101 (Pima Freeway) at Frank Lloyd Wright Blvd. at 16601 N Pima Rd\, Scottsdale\, AZ 85260. \nThe Scottsdale Polo Championships Event Site Map\, Including Polo Field\, Vendors\, Entertainment Tents\, Parking\, And More…. \n\nList of Events \n\nPolo Matches\nFashion Shows\nArt Exhibits\nCar Exhibits\nLive Performances\nCharity Functions\nBarrett-Jackson\n\n\nEVENT SCHEDULE for SATURDAY\, November 8\, 2025 \nTime of Events Outline\n9:45 am – The Gates Open To One Of The Most Exclusive Polo Events In The World.\n10:00 am – Match 1: The Horse & Hound Charity Match benefiting Arizona Equine Rescue and Fetch Foundation (EPR vs El Paso – Naranjo).\n11:55 am – The World’s “Longest” Fashion Show\, produced by Phoenix Fashion Week.\n12:15 pm – Match 2: The King Charles III Salute Match featuring Royal County of Berkshire Polo Club vs. Wales Polo Team.\n1:45 pm – Canine Couture: A Dog Fashion Show Like No Other\, Presented by Lugari Pet Salon.\n2:15 pm – Match 3: The Molina Cup: Aspen Valley Polo Club vs. Switzerland Polo Team.\n3:45 pm – The Barbara Lennox Wyatt Memorial Match featuring the USA Women’s Team vs. Arizona Polo Club featuring Former NHL and Arizona Coyotes Star Shane Doan.\n6:00 pm – Hugs\, Kisses\, and Goodbyes. \n \nBarrett-Jackson brings a one-of-a-kind car auction to the WestWorld Arena in Scottsdale\, Arizona\, during the Bentley Scottsdale Polo Championship from January 18-26. 2025. Barrett-Jackson will hold a one-of-a-kind classic car auction during the Bentley Scottsdale Polo Championships at the WestWorld Arena\, occurring January 18-26\, 2025. At the auction\, Barrett-Jackson will auction antique\, vintage\, and classic Detroit Muscle cars from the ’60s and ’80s. \nThe Barrett-Jackson Automobilia Auction promises to offer an exquisite array of some of the finest and rarest one-of-a-kind vintage automotive collectibles. Automobilia items include hood mascots\, gas pumps\, dealership signs\, racing posters\, and garage relics. All the items are to be sold with No Reserve. \nYou can attend the Auction at the Westworld of Scottsdale Arena located at 16601 North Pima Road\, Scottsdale\, AZ 85260. \n\nCEO Craig Jackson issued a statement that the decision to hold the fall auction at Westworld allows the company to “better safeguard the health of guests and team members.” \n\n\nWhere is the Bentley Scottsdale Polo Championships located? \nThe event is held at WestWorld of Scottsdale\, a world-renowned equestrian venue and annual host to the Barrett-Jackson Collector Car Auction\, Scottsdale Arabian Horse Show\, and more! \nThe venue offers over 300\,000 sq. ft. of event space on 386 acres of pristine desert at the base of the McDowell Mountains. WestWorld is located at 16601 N. Pima Rd.\, Scottsdale\, AZ 85260. \n\nDIRECTIONS & PARKING INFORMATION \n\nRight off the Loop 101 (Pima Freeway) at Frank Lloyd Wright Blvd.\nGo to Bell Rd. Take a right onto 94th Street and drive straight.\nLeft Lane for General Parking (LOT H)\nRight Two Lanes for Sideline Parking\, VIP Polo Pass (Lot A and LOT C)\, and RideShare (Uber and Lyft- Be safe!)\nFollow signage to your designated lot. See the map for reference.\nGeneral Attendees – please proceed to LOT H\nLOT A and LOT C require parking passes\nRide Share pick-up and Drop-off is located in front of the big tent – accessible through LOT C\n(CLICK HERE FOR MORE PARKING DIRECTIONS & PARKING INFORMATION)\n\nPARKING IS CASH ONLY and costs $10 at Westworld (located at 16601 N. Pima Rd\, Scottsdale\, AZ 85260.) \n\nVIDEO: Bentley Scottsdale Polo Championships Preview \nhttps://youtube.com/watch?v=IGb81wfjIK4
URL:https://carcollectorsclub.com/event/bentley-scottsdale-polo-championships-car-show/
LOCATION:Westworld of Scottsdale\, 16601 North Pima Road\, Scottsdale\, AL\, 85260\, United States
CATEGORIES:Auctions,Car Show
ATTACH;FMTTYPE=image/jpeg:https://carcollectorsclub.com/wp-content/uploads/2021/10/Bentely-Scottsdale-Polo-Car-Show-2021.jpg
ORGANIZER;CN="Bentley Scottsdale Polo Championships":MAILTO:info@thepoloparty.com
END:VEVENT
END:VCALENDAR