BEGIN:VCALENDAR
VERSION:2.0
PRODID:-//Car Collectors Club - ECPv6.6.3//NONSGML v1.0//EN
CALSCALE:GREGORIAN
METHOD:PUBLISH
X-ORIGINAL-URL:https://carcollectorsclub.com
X-WR-CALDESC:Events for Car Collectors Club
REFRESH-INTERVAL;VALUE=DURATION:PT1H
X-Robots-Tag:noindex
X-PUBLISHED-TTL:PT1H
BEGIN:VTIMEZONE
TZID:UTC
BEGIN:STANDARD
TZOFFSETFROM:+0000
TZOFFSETTO:+0000
TZNAME:UTC
DTSTART:20220101T000000
END:STANDARD
END:VTIMEZONE
BEGIN:VEVENT
DTSTART;TZID=UTC:20220331T080000
DTEND;TZID=UTC:20220402T180000
DTSTAMP:20260422T001429
CREATED:20220323T230116Z
LAST-MODIFIED:20220324T021107Z
UID:11464-1648713600-1648922400@carcollectorsclub.com
SUMMARY:Mecum Auctioneers Ready To Hammer Out Over 1000 Classic Cars From The NRG Center In Houston Texas On March 31 - April 2 (2022)
DESCRIPTION:Mecum will auction over 1\,000 collector cars from four private collectors at the NRG Center in Houston Texas starting March 31 thru April 2\, 2022. Featured Car Collections include the vehicles from The Triple J Ranch Auto Car Collection\, The Dr. Sonny Rush Car Collection\, The Texas Metal Collection\, and A Private Car Collection at No Reserve. \nThe cars that will roll down the red carpet and past the auctioneers gavel at Houston NRG Center this year will include rare corvettes\, muscle cars\, street hot rods\, resto-mods\, trucks\, exotic cars\, hypercars\, famous movie cars\,  and filthy rich luxury vehicles. You can view all the cars here. \nThe Auction Will Be Broadcast Exclusively  Live Over The New MotorTrend Streaming Network From Houston’s 700\,000 sq. ft. NRG Center. \nThe three-day auction opens with auctioneers James O. Landis\, Russell Conklin\, and Matthew Frank Moravec banging the first hammer in hall at the NRG Center promptly at 8AM on March 31. The auction continues daily until April 2  and concludes when the last car is sold. \nIf you can’t make it to the LIVE AUCTION\, Mecum will be broadcasting the entire three-day auction through the MotorSports Plus Network Both LIVE and Recorded for Re-Broadcast. Below is the LIVE Broadcast Schedule day by day. \n \n\nDATE / SHOW DATE / TIME (ET) /  NETWORK CHANNEL\n\n\n\nHouston Friday\, April 1st at 2:00PM – 6:00PM Broadcast LIVE \nHouston Friday\, April 1st at 16:00PM – 12:00AM is a Recorded RE-AIR \nHouston Saturday\, April 2nd at 12:00AM – 6:00AM is a Recorded RE-AIR \nHouston Saturday\, April 2nd at 12:00PM – 6:00PM LIVE BROADCAST\nHouston Saturday\, April 2nd from 6:00PM – 12:00AM is a Recorded RE-AIR \nHouston Saturday\, April 3rd at 12:00AM – 6:00AMR is a Recorded RE-AIR \n\n\nA Note From The Editor – If you plan on attending the event in person\, make sure to wear comfortable walking shoes. The NRG Event Center is a monster at over 700\,000 square feet including 11 separate exhibit halls and 59 meeting rooms.  \nThe NRG Center includes many attendee comfortable and convenient amenities including WiFi\, 120 TV monitors\,  web-casting abilities\, security\, ample parking\, transportation services\, and lots of food and beverage locations. \nFeatured Vehicles for Sale  \nBeyound the traditional mass manufactured cars for sale\, several Famous Custom Film and Cartoon Vehicles will be for sale including the 2015 Flintstones Flint Mobile\, the 1992 GMC A-Team Vehicle\, The 1967 Pontiac Monkee Mobile\, The 1967 Scooby-Do Van\, and the 1967 Volkswagen Beetle “Love Bug “. \nSeveral Famous Film And Cartoon Vehicles Will Be For Sale Including A 2015 Flintstones Flint Mobile\, 1992 GMC A-Team Vehicle\, The 1967 Pontiac Monkee Mobile\, 1967 Scooby Do Van\, and the 1967 Volkswagen Beetle “Love Bug “. \nAuction Highlights\n\nDate: March 31 – April 2\, 2021\nVenue: NRG Center Houston\nAddress: 1 NRG Park\, Houston\, TX 77054\nFeatured Car Collections The Triple J Ranch Auto Car Collection\,  The Dr. Sonny Rush Car Collection\, The Texas Metal Collection\,  and\nA Private Collection a No Reserve\nCar Type in action: +1\,000 American Muscle Cars\, Classic & Vintage Cars\, Corvettes & Muscle Cars\, Trucks\, Hot Rods\, and Exotic Supercars.\nAdmission: ($20 in advance online) $30 at the Gate\nPreview: Gates open daily at 8 a.m. and close at 6 pm nightly\nAuction: Vehicle auction begins daily at 10 a.m. and entrance at 8 a.m.\nTV Schedule on MotorTrend Sports Network (See Compete TV Schedule)\nAuctioneer Website: www.mecum.com\nMecum Facebook\nMecum Instagram\nPhone: at 262-275-5050\nHotels Nearby: Hotels\n\n\n\nHOUSTON AUCTION SCHEDULE\nSELLER’S CHECK-IN\nThursday\, March 1 thru Saturday\, April 2\, 2022\, from 8 AM until 6 PM. (or last car sold) \nVEHICLE DROP-OFF AND CHECK-IN:\nSELLERS: Please enter your vehicle through Gate 12 from Stadium Drive. The gate 12 is reserved for vehicle check-in only. \nAUCTION\nThe Gates open daily at 8 AM.\nThe Gates close one hour after the final vehicle rolls across the auction block. \n\nSAFETY PROTOCOLS: \n\nDaily touch-free temperature screening will be required for all attendees and employees prior to entering the auction grounds. Anyone with a temperature greater than 100.4 degrees will not be permitted access.\nMasks will be mandatory for all Mecum employees\, exhibitors\, and all attendees.\nHand sanitizer stations will be conveniently located throughout the NRG Center. Frequent hand washing is highly recommended.\nAuction floor seating will be arranged to manage adequate social distancing.\n\n\nAUCTION ADMISSION & PARKING\nGENERAL ADMISSION\n$30 at the gate.\n$20 in advance \nBUY MECUM AUCTION TICKETS HERE \nDAILY TICKET PRICE \nAdvance Tickets: $30.00 per person\, per day.\n(Advance Tickets sales offered until 11:59 PM March 15th\, 2022 CDT)\n   Tickets at the Gate: $30 per person\, per day.\n     **Children 12 years and younger get in free. \nPARKING AND GATE INSTRUCTIONS\nParking is available through Gate 3 right off of Fannin Street at Holly Hall. Auction Parking will be available in the Orange Lot. \nDRIVING INSTRUCTIONS FROM THE NORTH \n• Take I-45 (south) or Hwy. 59 (south) to Hwy. 288 (south)\n• Take Hwy. 288 (south) to 610 Loop (west)\n• Take 610 (west) to Fannin or South Main exit\n• Exit and turn right on Fannin or South Main\n• From Fannin turn left on Naomi or Holly Hall\n• From South Main turn right on McNee\n• Enter the main gate at NRG Park \nHOTEL & OVER NIGHT INFORMATION\nSpecial: Houston 2022 Host Hotel Packages\nHoliday Inn Houston S – NRG Area\n8111 Kirby Drive  Houston\, TX 77054 \nMECUM SPECIAL PACKAGE INCLUDES THE FOLLOWING \n\n4 Nights Package\nHotel Check-In will be March 30\, 2022\nHotel Check-Out will be on April 3\, 2022\n$175.00/per night plus 17% tax\n\n\nROAD ART SHIPPING SERVICES\nNational Logistics Services\n(800) 737-9240\nMarc Oxford\, 214 215-3162\nEmail: mecum@trustnls.com \n\nAbout Mecum Auctions \nThe Mecum Auction Company is the world leader in collector car\, vintage and antique motorcycle\, and Road Art sales\, hosting auctions throughout the United States. The company has been specializing in the sale of collector cars for more than 30 years\, now offering more than 20\,000 lots per year and averaging more than one auction each month. The company today has expanded its catalog of offerings to include a wide array of collectibles encompassing entry-level to investment-grade classic and collector cars\, vintage and antique motorcycles\, signs\, and memorabilia items like gas pumps\, pedal cars and clocks\, and even collector-grade tractors and farm relics. Mecum Auctions is headquartered in Walworth\, Wisconsin\, and since 2011 has been ranked No. 1 in the world with a number of collector cars offered at auction\, No. 1 in the world with a number of collector cars sold at auction\, No. 1 in the U.S. with a number of auction venues\, No. 1 in the U.S. in total dollar volume of sales\, and is host to the world’s largest collector car auction held annually in Kissimmee\, Florida\, as well as the world’s largest motorcycle auction held annually in Las Vegas. \n  \nMORE INFORMATION LISTED BELOW \n 
URL:https://carcollectorsclub.com/event/mecum-classic-auto-auction-glendale-ca-march-16-19-2022/
LOCATION:NRG Center\, 1 NRG Park\, Houston\, TX\, 77054\, United States
CATEGORIES:Auctions
ATTACH;FMTTYPE=image/jpeg:https://carcollectorsclub.com/wp-content/uploads/2022/03/Mecum-Auto-Auction-March-31-2022-Houston-Texas-01-w1146.jpg
END:VEVENT
END:VCALENDAR