BEGIN:VCALENDAR
VERSION:2.0
PRODID:-//Car Collectors Club - ECPv6.6.3//NONSGML v1.0//EN
CALSCALE:GREGORIAN
METHOD:PUBLISH
X-ORIGINAL-URL:https://carcollectorsclub.com
X-WR-CALDESC:Events for Car Collectors Club
REFRESH-INTERVAL;VALUE=DURATION:PT1H
X-Robots-Tag:noindex
X-PUBLISHED-TTL:PT1H
BEGIN:VTIMEZONE
TZID:UTC
BEGIN:STANDARD
TZOFFSETFROM:+0000
TZOFFSETTO:+0000
TZNAME:UTC
DTSTART:20220101T000000
END:STANDARD
END:VTIMEZONE
BEGIN:VEVENT
DTSTART;TZID=UTC:20220303T100000
DTEND;TZID=UTC:20220306T180000
DTSTAMP:20260422T015637
CREATED:20220210T024904Z
LAST-MODIFIED:20230514T163936Z
UID:10974-1646301600-1646589600@carcollectorsclub.com
SUMMARY:Russo And Steele Is Driving East To Auction Over 250 Ultra-Premium Cars At The Famed Amelia Island Concours March 3-5th 2022
DESCRIPTION:One of the Most Exciting Car Collector Auctions in the World will be returning to the Ritz Carlton\, Amelia Island\, Florida to auction off over 250 ultra-premium rare collector cars. \nThe auction runs concurrently with the prestigious Amelia Island Concours d”Elegance Car Show and three other prestigious auctions. As usual\, the Russo & Steele Auction will stand out with a one-of-a-kind\, fast-paced\, high-energy “Auction-In-The-Round” style auction. \nAUCTION UPDATE: This 2010 Ferrari P4 Rod Tempero Professional replica race car is up for auction by Russo & Steel Consignment #: 8256. Under the hood is a 4-cam Ferrari V-12 engine with Six Weber carburetors and a ZF 5-speed gearbox. \n  \nUPDATE ( March 1\, 2022) Some collectible cars you will be able to bid on at the Russo & Steele Auction will include a 1967 Ferrari P4 Replica\, 1972 De Tomaso Pantera\, 2004 Lamborghini Gallardo\, 1986 Porsche 930\, 1994 Dodge Viper\, 1965 Triumph TR4\, and a 1971 Ford Boss 351 Coupe just to name a few. (To view a complete list of cars visit the Russo & Steele page here.) \nAlong with Russo & Steele\, there will be three other luxury collectible car auctions taking place during the Amelia Island Concours event. The other auctions take place March 3-6\, and include RM Sotheby’s Auction (2 Auction) on March 5th\, Gooding and Company Car Auction on March 4th\, and Bonhams Auction House on March 3rd. You can see all the events here. \nRusso and Steele / Ritz Carlton Auction Highlights \n\nVenue Location: Ritz Carlton\, Amelia Island Florida\nAddress: 4750 Amelia Island Pkwy\, Fernandina Beach\, FL 32034\nDate: March 3-6\, 2022\nCost: $30 Admission\nCars For Auction: Approx. 250\nWebsite: https://russoandsteele.com/ameliaisland/\nPhone: 602-252-2697\n\n\nFULL SCHEDULE OF EVENTS\nTHE AUCTION BEGINS WITH A RECEPTION\nThursday\, March 3rd – Saturday\, March 5th\n• Gates Open at 9:00 A.M.\n• Extended Credential Holder Hours Preview is 9:00 A.M. – Close\n• Thursday Car Auction Begins Promptly at 3:00 P.M.\n• Friday Car Auction Begins Promptly at 5:00 P.M.\n• General Admission is only $30.00 for all attendees \nThe Auction Reception\nThursday\, March 3rd – 5th\n• The Auction Reception is only open to Credentialed Holders\, Consignors\, Bidders\, and VIP Attendees\n• There will be Hosted Bar and Buffet on Thursday\, March 3rd from 3:00 PM to 5:00 PM\n• Another Hosted Bar and Buffet Event will happen on Friday\, March 4th from 5:00 PM – 7:00 PM \nSELLERS VEHICLE CHECK-IN\nMonday\, February 28th – Tuesday\, March 1st\nCheck-in hours are from 0:00 A.M. – 4:00 P.M. \nVEHICLE CHECK OUT\nSunday\, March 6th – Monday\, March 7th (NO EXCEPTIONS)\nCheck-out hours are from 10:00 A.M. – 4:00 P.M. \nON-SITE BUYER AND BIDDER REGISTRATION\nTuesday\, March 1st – Saturday\, March 5th\n • The 1st Gates opens and closes at 9:00 A.M. – 5:00 P.M.\n• The 2nd to 5th Gates open and close 9:00 A.M. – 10:30 P.M. \n\nAbout The Amelia Island Concours d’Elegance \nThis year The Russo Steel Auction will be held in conjunction with the Amelia Island Concours d’Elegance from March 3-6\, 2022. The Concours is held in Amelia Island Florida at the Ritz Carlton Hotel and hosts a car show of over 200 of the finest cars in the world. It is one of the top car shows in the world. \nThe  Russo & Steele auction will take place on Thursday\, March 3rd  through Saturday\, March 5th at the Ritz-Carlton Hotel. You can find more details on this page or visit the Ritz Carlton Russo & Steele Website. \nAlong with Russo & Steele\, three other collector car auctions will take place during the Amelia Island Concours event. They include RM Sotheby’s Auction (2 Auction) on March 5th\, Gooding and Company Car Auction on March 4th\, and Bonhams Auction House on March 3rd. \nEVENT VENUE:  Amelia Island Concours d’ Elegance.\nWeb: www.ameliaconcours.org\nEmail: info@ameliaconcours.org \n\nRECOMMENDED HOTELS\nRitz Carlton\, Amelia Island\n4750 Amelia Island Pkwy\, Fernandina Beach\, FL 32034\n\nPhone: 904-277-1100 \nThe Ritz-Carlton\, Amelia Island is Northeast Florida’s premier oceanfront resort. Known for its unique natural beauty and warm Southern charm\, this luxury resort is home to the award-winning restaurant\, Salt\, and The Ritz Carlton Spa\, Amelia Island\, named one of the top spas in the world by the readers of Condé Nast Traveler. \n\nMORE INFORMATION ON THE VENUE: (Ritz-Carlton)\nRitz Carlton on Amelia Island\n4750 Amelia Island Pkwy\, Fernandina Beach\, FL 32034\n(MAP TO HOTEL)\nPhone: 904-277-1100\n(WEBSITE FOR: Ritz Carlton\, Amelia Island) \nRECOMMENDED HOTELS\nRitz Carlton\, Amelia Island\n4750 Amelia Island Pkwy\, Fernandina Beach\, FL 32034\n\n \nPhone: 904-277-1100\nABOUT THE HOTEL: The Ritz-Carlton in Amelia Island is one of Florida’s premier oceanfront resorts. Known for its ocean-front beauty and warm Southern charm\, the Ritz-Carlton luxury resort is home to an award-winning restaurant called The Salt. Additional luxuries include The Ritz Carlton Spa which was voted as one of the top spas in the world by the readers of Condé Nast Traveler. \n\nLIST OF AIRPORTS CLOSE TO AMELIA ISLAND\, FL\nJacksonville (33miles)\nSt. Augustine (69 miles)\nHilton Head (159 miles)\nOrlando (177 miles)\nSavannah (127 miles) \n\nShuttle Service\nConcours’ Shuttles will run round-trip from the Russo and Steele Auction Site to the Ritz -Carlton resort entrance\, Omni Amelia Island Plantation\, and Fernandina Beach Golf Club on Amelia Island Parkway from 12:00 pm to 10:00 pm on Thursday\, March 3rd\, and Saturday\, March 5th. \nThe Downtown Shuttle will run round-trip from the Ritz-Carlton and Russo and Steel Auction Site down Amelia Island Parkway to Downtown Fernandina Beach. The shuttle runs from 3:00 pm to 9:00 pm on Thursday\, March 3rd\, and Saturday\, March 5th. (BUY TICKET) \n\nALSO SEE: PAST RUSSO & STEELE AUCTION ARTICLE:  Russo & Steele Five Day +800 Classic Car Auction Live From Scottsdale\, AZ January 22-25\, 2022 \n\nMORE EVENTS AT THIS AMELIA ISLAND CONCOURS \n\nRM Sotheby’s Auction  March 5\, 2022\nBonhams Auction  March 3\, 2022\nGooding and Company  March 4\, 2022\nThe Amelia Island Concours d’Elegance  March 3-6 (2022)\n\nVIDEO: EXPERIENCE A LIVE RUSSO & STEELE AUCTION \nhttps://youtube.com/watch?v=kbpYBZRgr4g
URL:https://carcollectorsclub.com/event/russo-and-steeles-collector-auction-at-amelia-island-concours-march-3-5th-2022/
LOCATION:The Ritz Carlton – Amelia Island\, 4750 Amelia Island Parkway\, Amelia Island\, FL\, 32034\, United States
CATEGORIES:Auctions
ATTACH;FMTTYPE=image/jpeg:https://carcollectorsclub.com/wp-content/uploads/2022/02/russo-steele-at-amelia-island-concouse-march-2022-w1020.jpg
ORGANIZER;CN="Russo and Steele Auctions":MAILTO:info@russoandsteele.com
END:VEVENT
BEGIN:VEVENT
DTSTART;TZID=UTC:20220304T110000
DTEND;TZID=UTC:20220304T170000
DTSTAMP:20260422T015637
CREATED:20220128T074917Z
LAST-MODIFIED:20230421T185202Z
UID:10995-1646391600-1646413200@carcollectorsclub.com
SUMMARY:Gooding and Company Will Auction Dozens of High Net Worth Luxury Cars In Amelia Island Florida March 4 2022
DESCRIPTION:Gooding & Company will auction over 100 rare and vintage vehicles at the Omni Amelia Island Resort in Fernandina Beach\, FL on March 4\, 2022. The auction will take place the same weekend as the famous Amelia Island Concours and three other renowned collectible car auctions. This auction will drive thousand of car collectors to bid on some of the finest classic collector cars on the market. \nThree other auctions will take place from March 3 through March 6th\, 2022 in Amelia Island. The three other auctions include Bonhams Vehicle Auction on March 3rd\, The RM Sotheby’s Auction on March 5th\, and the Russo & Steel Auctionhttps://russoandsteele.com/ameliaisland/ on March 3-5th 2022.  (You can see all the events here.) \n \nThe 1967 Toyota-Shelby 2000 GT Is One Of The Most Significant Japanese Cars Ever Built. It is The First Serial-numbered Toyota 2000 GT And One Of Three 2000 GTS Prepared By Shelby For SCCA C-Production Racing. It Is Expected To Sell For An Estimated $2\,750\,000 – $3\,500\,000.Three highly anticipated hyper-rare cars that will be up for auction on March 4th include a 1937 TALBOT-LAGO T150-C-SS TEARDROP COUPE (estimated to sell for over $10\,000\,000)\, a 1967 TOYOTA-SHELBY 2000 GT (estimated value $3\,500\,000\,) and a 1959 PORSCHE 718 RSK Coachwork by Wendler (Estimated value $2\,500\,000 – $3\,500\,000). \nLooking back\, some other notable collectible cars that sold at a Gooding/Amelia Island auction were a 1955 PORSCHE 550 SPYDER (SOLD for $5\,335\,000)\, a 1998 PORSCHE 911 GT1 STRASSENVERSION (SOLD for $5\,665\,000)\, and a 1961 FERRARI 250 GT SWB CALIFORNIA SPIDER Coachwork by Scaglietti that SOLD for $17\,160\,000. \nTICKET PRICE: General Admission for the Gooding & Company vehicle auction on March 4th\, 2022 is $30 for one person. You can also purchase tickets for two people for $75 which includes a full event catalog.  As usual\, all children un 12 are admitted for free. \n\nAUCTION DATE\, TIME & LOCATION: The Gooding & Company auction takes place at the Racquet Park\, Omni Amelia Island Resort on Friday\, March 4 from 9:00 am – 4:00 pm. Sneak previews of the cars take place on Thursday\, March 3 from 9:00 am – 6:00 pm. \n\n\n\n\nRECENT NEWS: Santa Monica\, Calif. (February 9\, 2022) – This year you will see show-quality stunning cars including a priceless 1937 Talbot-Lago T150-C-SS Teardrop Coupe (Estimate: In excess of $10\,000\,000)\, 1954 Bentley R-Type Continental Fastback\, and 1939 Bentley 4 1/4 Litre Sports Coupe dubbed “The Honeymoon Express\,”. (Read More) \n1937 Talbot Lago T150 C SS Teardrop Coupe (Estimate: In excess of $10\,000\,000) and a 1965 Porsche 904/6 (Estimate: $2\,500\,000 – $3\,250\,000) \nRECENT NEWS: Santa Monica\, Calif. (February 3\, 2022) – Amelia Island / Gooding & Company Auction highlights include a 1965 Porsche 904/6 (Estimate: $2\,500\,000 – $3\,250\,000)\, a historic 1967 Toyota-Shelby 2000 GT\, a rare garage-find with a1959 BMW 507 Series II. (Read More) \nVIEW THE FULL CAR AUCTION CATALOG \n\nGENERAL ADMISSION & TICKET PRICE\n•  TICKET – $30\, Admits one to all events\n•  Catalog – $75\, Admits two to all events\n•  Payment: Cash or credit card only.\n• **Children under 12 free. \nPREVIEWING THE CARS TIMES\n• First Preview is on Thursday\, March 3 from 9:00 am – 6:00 pm\n• The Auction Starts Friday\, March 4 – 9:00 am – 4:00 pm\n(Preview the cars online here) \nBIDDER REGISTRATION\n• $200 includes a catalog\, admission for two to the viewing\, and an auction with two reserved seats\, subject to availability. \nCONTACT INFORMATION\nTelephone: 310-899-1960\nFax: 310-526-6594\nEmail: info@goodingco.com \nTHE AUCTION DATE AND TIME\nFriday\, March 4 at 11:00 am EST\n1 mile south of Amelia Island Parkway \nRacquet Park\, Omni Amelia Island Resort\nAmelia Island FL US\nAddress: Racquet Park Dr\, Fernandina Beach\, FL 32034 \nVENUE: AUCTION LOCATION:\nRacquet Park\, Omni Amelia Island Resort\n39 Beach Lagoon Road\nFernandina Beach\, FL 32034\nPhone: (904) 277-5145 \nEVENT VENUE: Amelia Island Concours d’ Elegance.\nWeb: www.ameliaconcours.org\nEmail: info@ameliaconcours.org \nMORE INFORMATION ON THE VENUE: (Ritz-Carlton) \nRitz Carlton on Amelia Island\n4750 Amelia Island Pkwy\, Fernandina Beach\, FL 32034\n(MAP TO HOTEL)\nPhone: 904-277-1100\n(WEBSITE FOR: Ritz Carlton\, Amelia Island) \n\nOTHER AUCTIONS AT THIS AMELIA ISLAND CONCOURS \n\nRM Sotheby’s Auction  March 5\, 2022\nBonhams Auction  March 3\, 2022\nRusso And Steele  March 3-5th 2022\nGooding and Company  March 4\, 2022\nThe Amelia Island Concours d’Elegance  March 3-6 (2022)\n\n\nRECOMMENDED HOTELS \nRitz Carlton\, Amelia Island\n4750 Amelia Island Pkwy\, Fernandina Beach\, FL 32034\n\nPhone: 904-277-1100 \nThe Amelia Island Ritz-Carlton is Northeast Florida’s premier oceanfront hotel and resort. The luxury resort is known for their award-winning restaurant (called the “Salt”)\, The Ritz Carlton Spa\, and it’s southern hospitality and ocean views. \n\nPRESS CONTACT: Pauline Pechakjian (Publicist) at  310-526-0584 \nA NOTE OF PRIVACY: The Gooding & Company has managed the private sale of hundreds of the world’s finest rare collectible and exotic vehicles. Gooding & Company is very understanding of both buyers and sellers. As such\, Gooding & Company does not always offer all the details of private buyers and sellers. For detailed information\, Gooding management asks that you contact them directly.
URL:https://carcollectorsclub.com/event/gooding-and-company-auction-amelia-island-florida-march-4-2022/
LOCATION:Racquet Park\, Omni Amelia Island Resort\, 6800 First Coast Hwy\, Fernandina Beach\, FL\, 32034\, United States
CATEGORIES:Auctions
ATTACH;FMTTYPE=image/jpeg:https://carcollectorsclub.com/wp-content/uploads/2022/02/GoodingandCompanyAmeliaIslandAuctionMarch2022-w1024.jpg
ORGANIZER;CN="Gooding and Company Auctions":MAILTO:info@goodingco.com
END:VEVENT
END:VCALENDAR