BEGIN:VCALENDAR
VERSION:2.0
PRODID:-//Car Collectors Club - ECPv6.6.3//NONSGML v1.0//EN
CALSCALE:GREGORIAN
METHOD:PUBLISH
X-WR-CALNAME:Car Collectors Club
X-ORIGINAL-URL:https://carcollectorsclub.com
X-WR-CALDESC:Events for Car Collectors Club
REFRESH-INTERVAL;VALUE=DURATION:PT1H
X-Robots-Tag:noindex
X-PUBLISHED-TTL:PT1H
BEGIN:VTIMEZONE
TZID:UTC
BEGIN:STANDARD
TZOFFSETFROM:+0000
TZOFFSETTO:+0000
TZNAME:UTC
DTSTART:20210101T000000
END:STANDARD
END:VTIMEZONE
BEGIN:VEVENT
DTSTART;TZID=UTC:20210902T090000
DTEND;TZID=UTC:20210905T170000
DTSTAMP:20260422T143002
CREATED:20210831T093003Z
LAST-MODIFIED:20230514T200621Z
UID:7393-1630573200-1630861200@carcollectorsclub.com
SUMMARY:RM Sothebys Auction House To Auction Over 500 Diverse Collector Cars And Historic Automobilia In Auburn\, Indiana (Sept. 2-5\, 2021)
DESCRIPTION:RM Auctions Auburn Fall auction will see more than 500 diverse collector cars along with hundreds of lots of automobilia go under the hammer on September 2nd\, 2021. \nThose interested in consigning are asked to contact an RM Car Specialist to discuss opportunities\, ranging from American classics to European sports cars\, muscle\, hot rods\, customs\, and modern collectibles. \nRM Sotheby Car Auction Best of Show \nThe Auburn Auction Park has fostered a culture of devoted fans since 1970. Many would make the bi-annual pilgrimage to join the thousands of enthusiasts and collectors who witnessed and bought across the dual ring auction block\, while others filled their golf carts and bags amassed with treasure troves from the swap meet that covered acres across the park. \nFor 50 years the “Tradition” of Auburn has been celebrated across the hobby\, and this year RM is pleased to celebrate its 51st Auburn auction anniversary at The Auburn Auction Park\, in Auburn\, Indiana\, proudly known as the “Home of the Classics.” \nFEATURED CAR COLLECTIONS TO BE AUCTIONED \nThere are over 500 vintage\, historic\, and classic cars and motorcycles to cross the auction block over labor day weekend. \nAdditionally\, the will be over 400 items and automobilia for sale dating back to the early 1900s. The bulk of the cars\, motorcycles\, and auto memorabilia come from six major car collections. \nThe car collections are listed below with links directing you to a detailed page on the RM Sotheby website explaining each of the collections. \n\n#1 The Glen Hague Car Collection\n#2 The Cayman Island Motor Museum Car Collection\n#3 The Favazzo Car Collection\n#4 The Michigan Car Collection\n#5 The North American Motor Car Collection\n#6 The King Car Collection\n\nHolding true of many lifelong memories for collectors old and young\, The Auburn Auction Park has come to be the best gathering of American automobiles-from rare split-window Corvettes and MoPar muscle cars to heavily customized hot rods. \nWe invite you to celebrate with us as The Auburn Auction Park passes on another year of memories and legacy that has become a true part of automotive auction history. \nView The Complete RM AUCTION BUYERS GUIDE (Includes all the vehicles for far) \nOver 400 Lots Will Be Available At The Auction From All Six Car Collections That Will Be Sold At The Autumn Auction At Nor Reserve \n\nLIST OF EVENTS AT THE AUCTION \nThursday\, September 2\, 2021\n10:00 Am Is The Automobilia Auction Starts\n11:00 Am Starts The Automobiles Auction Starts \nFriday\, September 3\, 2021\n10:00 Am Is The Automobilia Auction Starts\n11:00 Am Starts The Automobiles Auction Starts \nSaturday\, September 4\, 2021\n10:00 Am Is The Automobilia Auction Starts\n11:00 Am Starts The Automobiles Auction Starts \nSunday\, September 5\, 2021\n10:00 Am  Is The Hague Automobilia Auction Starts \n(For further details on the dates and times for this car auction click this link) \n\n#1 FEATURED HYPER RARE CLASSIC CAR TO BE AUCTIONED \n1932 Chrysler Cl Imperial Convertible Sedan \n“This 1932 Chrysler CL Imperial was owned by one family since 1947 and has never before been up for sale. This rare historic car is only one of 11 known to survive with the LeBaron Coachwork. The car is a Full Classic approved by the Classic Car Club of America (CCCA) Full Classic.” \n1932 Chrysler Cl Imperial Convertible Sedan Will Be Sold At The Auction At An Estimated $150\,000 – $200\,000 USD\, Over 500 Additional Classic Cars Will Be Sold At The Auction In Indiana \nThe Chrysler Imperial was first introduced in 1926. It was Chrysler‘s top-of-the-line luxury vehicle and production continued until 1954 and then became a standalone brand The company positioned the cars as a luxury expensive prestige brand to rival Cadillac\, Continental\, Lincoln\, Duesenberg\, Pierce Arrow\, Cord\, and Packard.  \nAccording to Antique Automobile\, \n“The adjective ‘imperial’ according to Webster’s Dictionary means sovereign\, supreme\, superior or of unusual size or excellence. The word imperial thus justly befits Chrysler’s highest priced model.”[2] \nThe 1932 Series CL (as in the above example) remained the most prestigious Chrysler Imperial and all deluxe coachwork was custom-made by LeBaron. \nIt offered four convertible body styles along with a stretch conventional seven-passenger luxury sedan – similar to an eight-passenger limousine. \nIn 1932 the 32 Series CL Sedan Limousine Coach Builder by LeBaron retailed for  $3\,295 or $62\,501 in 2021 dollars. \n\nTICKETS AND ADMISSION\nAdmission to the auctions on Thursday\, 2 September\, Friday\, 3 September\, Saturday\, 4 September\, and Sunday\, 5 September requires the purchase of a day\, event\, or bidder pass. \nONSITE TICKETS (BEGINS 2 SEPTEMBER) \nDay Pass – $20 per person\nKids 16 and under are FREE with paid adult \nEvent Pass – $50 per person\nKids 16 and under are FREE with paid adult \n\nBIDDER REGISTRATION\nBidder registration includes admission for one bidder and one guest to all four auction days and 1 VIP parking pass. All additional guests are $20 per person\nBefore 30 August – $100\nAfter 30 August – $120 \n\nCLASSIC CAR SHIPPING SERVICES\nBuyers are required to make immediate arrangements for the collection and transport of purchased lots. It is the buyer’s responsibility to make their own arrangements\, but RMS is pleased to offer our clients the services of the following companies: \nReliable Carriers & Transport\nContact – Bob Sellers\n+1 413 537 3354 – bsellers@reliable-carriers.com \nVIDEO: WATCH HOW THE PROFESSIONALS SHIP MULTI-MILLION DOLLAR CAR COLLECTIONS \nhttps://youtube.com/watch?v=OSSj-1JOd9c \nRM Sotheby’s Client Service and Administration Contacts\nClient Service: Jera Presley\n260 927 9797 – jpresley@rmsothebys.com \nGeneral Detail & Administration:\nTanya Pawlak\n519 437 3029 – tpawlak@rmsothebys.com \n\nRV Parking\nClients interested in RV parking at the Auburn Auction Park can contact Brian Miller at bmiller@rmsothebys.com or +1 260 927 9797 to arrange it. Please note there is no electricity or water available. \nEvent RV Pass\nThe event RV pass includes two (2) event passes and 1 passenger vehicle. Please note that daily camping rates are not available. All additional guests are $20 per person \n\nRM SOTHEBY AUTO AUCTION LOCATION \nThe Auburn Auction Park\n5536 County Road 11A\nAuburn\, Indiana\nUnited States 46706 \nMAP LINK \n\nThose interested in consigning are asked to contact an RM Car Specialist to discuss opportunities.
URL:https://carcollectorsclub.com/event/rm-sothebys-auction-house-to-auction-over-500-diverse-collector-cars-and-historic-automobilia-in-auburn-indiana-sept-2-5-2021/
LOCATION:The Auburn Auction Park\, 5536 County Road 11A\, Auburn\, IN\, 46706\, United States
CATEGORIES:Auctions
ATTACH;FMTTYPE=image/jpeg:https://carcollectorsclub.com/wp-content/uploads/2021/08/RM-Sothebys-Collector-Car-Auction-September-2021-01-w1200.jpg
ORGANIZER;CN="RM Sothebys Auctions":MAILTO:info@rmsothebys.com
END:VEVENT
BEGIN:VEVENT
DTSTART;TZID=UTC:20210903T100000
DTEND;TZID=UTC:20210904T170000
DTSTAMP:20260422T143002
CREATED:20210831T110120Z
LAST-MODIFIED:20210831T224335Z
UID:7405-1630663200-1630774800@carcollectorsclub.com
SUMMARY:Worldwide Auctioneer To Auction  The Fort Lauderdale Antique Car Museum Collection In Auburn Indiana (September 3-4th\, 2021)
DESCRIPTION:For all those enthusiasts and collectors eager to buy and sell great cars this summer\, the road leads right back to Auburn\, Indiana\, the original “Classic Car Capital of the World” and birthplace of the collector car auction industry in America. \nClassic Car Capital of the World\nAs the “Classic Car Capital of the World” and the birthplace of the collector car auction industry in the United States\, Auburn has long been a mecca for automobile collectors and enthusiasts. \nMany of the most important cars ever made have been bought and sold here\, at The Auburn Automobile Company in the 1920’s and ’30s and in later years\, at auction. And that is why Worldwide Auctioneers is located in Auburn Indiana. \nThe Fort Lauderdale Antique Car Museum Auction Selling On Friday\, September 3 \n“View The Beautiful Catalog Of The Fort Lauderdale Car Museum Car Collection HERE” \nSome of the inventory to be auctioned from The Fort Lauderdale Antique Car Museum Auction are historic\, vintage\, classic collectible cars such as: \n\n1932 Auburn 8-100A Boattail Speedster\,\n1956 Austin-Healey 100 M ‘Le Mans’\n1953 Bentley R-Type Empress Saloon\n1938 Bugatti Type 57C Atalante Coupe\n1931 Cadillac 452B V-16 Roadster\n1953 Chevrolet Corvette Roadster\n1936 Cord 810 Phaeton\nJust To Name A few…..\nVIEW THE COMPLETE AUCTION COLLECTABLE AUTO INVENTORY WEB PAGES\n\nThe celebrated Auburn Cord Duesenberg Museum and annual Auburn Cord Duesenberg Festival held over Labor Day Weekend attracts visitors from across the USA and overseas\, bearing testament to the town’s unique motoring heritage. \nOver the past 13 years\, Worldwide Auctioneer has sold some of the most iconic cars and finest private collections in Auburn and broken a few records along the way. We look forward to another carefully curated offering of outstanding pre-war automobiles\, select muscle cars\, American and European sports cars\, classics\, and racers\, as well as an exceptional selection of the best automobilia and memorabilia to be found. \nThe Fort Lauderdale Antique Car Collection From The Museum Will Be Auctioned On September 4th. The Car Above Is A Gentlemen’s Runabout Speedster With Kerosene Illuminated Headlights. It Sold In 1909 For A Whopping Cost $3200. \n\nFeatured Car Collection On The Auction Block \n“The Fort Lauderdale Antique Car Museum Auction and Car Collection” \nSchedule of Events\nPreview • Wednesday – Saturday\, September 1st – 4th 9 AM Daily – Preview of Auction Cars and Memorabilia \nPreview of Auction Cars from 9 AM to 6 PM – Preview and test drive (by appointment) the auction cars and meet with representatives of the Worldwide Auctioneers’ team onsite to answer questions about this year’s selection of vehicles prior to the auction. \nAuction Office and Bidder Registration from 9 am to 6pm. \nAuction Day 1 – Friday\, September 3rd  \n\n12 pm to 4 PM  featuring The Fort Lauderdale Antique Car Museum Auction for sale.\n\nAuction Day 2 – Saturday\, September \n\n3 PM  is  the Memorabilia Auction\n3 – 5 PM There will be a complimentary VIP Bar for Registered Bidders\, Consignors\, Guests\, and Credentialed Media will be available.\n5 PM • Complete Automobile Auction\n\n\nLocation & Directions Of The Auction\nWorldwide Auctioneers HQ\n5634 Opportunity Blvd\nAuburn\, IN 46706 \nMap Link
URL:https://carcollectorsclub.com/event/worldwide-auctioneer-to-auction-the-fort-lauderdale-antique-car-museum-collection-in-auburn-indiana-on-september-3-4th-2021/
LOCATION:Worldwide Auctioneers HQ\, 5634 Opportunity Blvd Suite A\, Auburn\, IN\, 46706\, United States
CATEGORIES:Auctions
ATTACH;FMTTYPE=image/jpeg:https://carcollectorsclub.com/wp-content/uploads/2021/08/World-Wid-Auctioneers-Auburn-Indiana-2021.jpg
ORGANIZER;CN="Worldwide Auctioneers":MAILTO:info@worldwideauctioneers.com
END:VEVENT
END:VCALENDAR