BEGIN:VCALENDAR
VERSION:2.0
PRODID:-//Car Collectors Club - ECPv6.6.3//NONSGML v1.0//EN
CALSCALE:GREGORIAN
METHOD:PUBLISH
X-ORIGINAL-URL:https://carcollectorsclub.com
X-WR-CALDESC:Events for Car Collectors Club
REFRESH-INTERVAL;VALUE=DURATION:PT1H
X-Robots-Tag:noindex
X-PUBLISHED-TTL:PT1H
BEGIN:VTIMEZONE
TZID:America/Denver
BEGIN:DAYLIGHT
TZOFFSETFROM:-0700
TZOFFSETTO:-0600
TZNAME:MDT
DTSTART:20210314T090000
END:DAYLIGHT
BEGIN:STANDARD
TZOFFSETFROM:-0600
TZOFFSETTO:-0700
TZNAME:MST
DTSTART:20211107T080000
END:STANDARD
TZID:UTC
BEGIN:STANDARD
TZOFFSETFROM:+0000
TZOFFSETTO:+0000
TZNAME:UTC
DTSTART:20210101T000000
END:STANDARD
END:VTIMEZONE
BEGIN:VEVENT
DTSTART;TZID=America/Denver:20210811T110000
DTEND;TZID=America/Denver:20210813T170000
DTSTAMP:20260422T143008
CREATED:20210807T045501Z
LAST-MODIFIED:20210811T185238Z
UID:7041-1628679600-1628874000@carcollectorsclub.com
SUMMARY:24th Annual Bonhams Quail Lodge Auction Starts During Monterey Car Week Aug 11-13 2021
DESCRIPTION:For eighteen years\, The Quail\, A Motorsports Gathering has provided an unparalleled and exclusive experience for motorsports enthusiasts and collectors from around the world to enjoy rare collections of fine automobiles and motorcycles in a garden-party setting on the rolling greens of Quail Lodge & Golf Club. \n \nThe Quail and Motorsports Gathering 2021 \nHeld in conjunction with The Quail\, A Motorsports Gathering\, is the 24th Annual Bonhams Motorcar Auction on the western grounds of Quail Lodge & Golf Club offering easy access\, plenty of convenient parking\, and lots of sunshine amidst the famous Carmel scenery. \nThe Quail will continue to create an enhanced experience for attendees and sponsors alike. Guests will enjoy exquisite motorcars on display and culinary pavilions\, with the ease of onsite parking. \n1952 Maserati A6G 2000 Frua Spider \nTraditional Auto Auction Classes \n\nPre-War Sports & Racing\nPost-War Sports\nPost-War Racing\nThe Evolution of the Supercar\nThe Great Ferraris\nCustom Coachwork\nSports and Racing Motorcycles\n\nFeatured Themes for 2021 are: \n\n50th Anniversary of the Lamborghini Urraco and Jarama\n50th Anniversary of the Alfa Romeo Montreal\nAutomotive Couture\, French Cars Featuring the 50th Anniversary of the Citroën SM\n\n  \nFEATURE IMAGE CAR DETAILS \n1948 TALBOT-LAGO T26 RECORD SPORT CABRIOLET DÉCAPOTABLE\nCoachwork by Figoni et Falaschi \nAuction Location: Carmel\, Quail Lodge & Golf Club Carmel Ca\, 93923 \nSale Date: 13 Aug 2021\, 11:00 PDT \nExpected Selling Price:  US$ 1\,800\,000 – 2\,300\,000 \nCar Description: \n\n1948 TALBOT-LAGO T26 RECORD SPORT CABRIOLET DÉCAPOTABLE\nCOACHWORK BY FIGONI ET FALASCHI\nCHASSIS NO. 3179\nTALBOT-LAGO CAR NO. 100234\nENGINE NO. 26179\n\n  \nMore CAr Details: \n\n4\,482cc Twin-Cam 6-Cylinder Engine\n3 Zenith-Stromberg Carburetors\n190bhp at 4\,200rpm\n4-Speed Wilson Pre-Selector Transmission\nIndependent Front Suspension – Live Rear Axle\n4-Wheel Drum Brakes
URL:https://carcollectorsclub.com/event/24th-annual-bonhams-quail-lodge-auction-starts-during-monterey-car-week-aug-11-13-2021/
LOCATION:Quail Lodge & Golf Club\, 8205 Valley Greens Drive\, Carmel\, CA\, 93923\, United States
CATEGORIES:Auctions
ATTACH;FMTTYPE=image/jpeg:https://carcollectorsclub.com/wp-content/uploads/2021/08/Bonhams-Auciton-Quail-Lodge-Golf-Club-w1100.jpg
ORGANIZER;CN="Bonhams Auction":MAILTO:bids.us@bonhams.com
END:VEVENT
BEGIN:VEVENT
DTSTART;TZID=UTC:20210812T050000
DTEND;TZID=UTC:20210813T220000
DTSTAMP:20260422T143008
CREATED:20210806T015744Z
LAST-MODIFIED:20210812T175509Z
UID:7019-1628744400-1628892000@carcollectorsclub.com
SUMMARY:Russo & Steele 21st Annual Auto Auction At Fisherman's Wharf For Monterey Car Week On August 11-13\, 2021
DESCRIPTION:Russo and Steele will be auctioning off dozens of luxury collectible cars from the Historic Fisherman’s Wharf in downtown Monterey on August 11-13\, 2021. This will be the first auction of the day after the Pebble Beach Concourse d’Elegance on Sunday August 13th\, 2021 \nThe auction is an “Experiential Auction” and takes place in a highly interactive private arena where buyers\, sellers\, and spectators can get up close and personal with the cars to cars while the auctioneer paces the crowd and works the microphone. It is a one-of-a-kind experience and highly interactive. This is what makes the Russo and Steele \nThe “Experiential Auction” Is What Makes Russo Steele’s Auctions “The Most Exciting Auto Auctions In The World” \nAs a staple to the historic Monterey Car Week\, and on its twenty-first year\, Russo and Steele is billed as the “Mecca of Collector Automobile Auctions.”  The Russo and Steele auction offers only the highest quality\, most luxurious\, and top collectible automobiles. They always include a diverse mixture of European sports cars\, American-made muscle cars\, custom hot rods\, and custom-built all-types. Additionally\, Russo and Steele’s auctions offer both reserve and no-reserve automobiles. \nAfter having to cancel the 2020 Auction\, The Russo and Steele’s auction will lead the much anticipated Pebble Beach Concours d’Elegance event on Sunday\, August 15\, and will be conveniently located in the heart of downtown Monterey and is very excited to be back. \n“We couldn’t be more excited to return to live auction action\, with our jam-packed annual event in Monterey\,” said Drew Alcazar\, auction president\, and CEO. “Not only does this represent a real and safe return to the collector car lifestyle that we all love so much\, but the incredible selection of collectible automobiles we are unveiling this year are sure to dazzle every type of auto-enthusiast.” \n  \nRusso Steele Leads The Sunday Pebble Beach Events With An Interactive Auto Auction \nSome unique cars collectible cars to be auctioned off this year are a 1964 JAGUAR “S” TYPE 3.8L SIX CYLINDER ENGINE\, 1961 Morgan Roadster RD\, 1969 Shelby GT350 Sportsroof SCCA B Prod Race Car\, and an antique. 1911 Thomas Roadster. \nSCHEDULE OF EVENTS \n\nWednesday\, August 11 with gates opening 9 a.m. until 5 p.m.\, This is a preview day for credentialed buyers and sellers.\nThursday\, August 12 is open from 9 a.m. to 3 p.m. to the public for a preview of the cars. The auto auction starts at 5 p.m.  (General admission  tickets are $30 each day.)\nFriday\, August 13\, is a public preview and is open from 9 a.m. to 3 p.m.\, Again\, the auto auction starts at 5 p.m. sharp. General admission  tickets are $30 each day.)\n\n\nAUCTION LOCATION \n\nThe experiential auto auction takes place in downtown Monterey.\nLocation: Waterfront by Fisherman’s Wharf\, 290 Figueroa Street\, Monterey\, CA\nFor more information about Russo and Steele\, visit russoandsteele.com.\nTime: 5 P.M.-10 P.M.\nPrice: $30\n\n\nAUCTION PREVIEW \n\nWednesday\, August 11th\nPublic Preview Day\nGates open at 9:00 A.M. close at 5:00 P.M.\n\n  \nGUEST PARKING for Russo and Steele Auction \nParking is available in public many local parking garages located around Del Monte Avenue between Alvarado Street and Tyler Street. Additional parking is available around Del Monte Avenue between Tyler Street and Fisherman’s Wharf. PLEASE ARRIVE EARLY BECAUSE PARKING IS EXTREMELY LIMITED! \n\nAbout Russo and Steele Collector Automobile Auctions \nOne of the nation’s premier collector-car auction houses\, Russo and Steele Collector Automobile Auctions continues to set records and attract a discerning global clientele. In addition to its reputation for offering stellar collector automobiles\, the unique high-energy auction experience is simply unattainable anywhere else. Auctions include a signature event in Scottsdale\, Ariz. every January\, followed by March at Amelia Island and August at Monterey\, California. For additional information\, please visit www.russoandsteele.com or call 602.252.2697. \n\nADDITIONAL INFORMATION \n\n\nHOTEL AND TRAVEL ASSISTANCE\nKimberley at: California Vacation Center\nPhone: 1-800-466-6283\nWebsite: www.stayinmonterey.com\n \n\n\n\n\n\nOTHER FEATURED CAR WEEK EVENTS\nPebble Beach Concours d’ Elegance\nWeb: www.pebblebeachconcours.net\nEmail: info@pebblebeachconcours.net \nRolex Motorsports Reunion\nLaguna Seca Raceway\nPhone: (800) 327-7322\nWeb: www.laguna-seca.com \nRusso & Steele 21st Annual Auto Auction At Fisherman’s Wharf For Monterey Car Week On August 11-13\, 2021 \n\n\n\nCOMPLETE EVENT DETAILS LISTED BELOW
URL:https://carcollectorsclub.com/event/russo-steele-21st-annual-auto-auction-returns-to-monterey-car-week-on-august-11-13-2021/
LOCATION:Waterfront by Fisherman’s Wharf\, 290 Figueroa Street\, Monterey\, CA\, 93940\, United States
CATEGORIES:Auctions
ATTACH;FMTTYPE=image/jpeg:https://carcollectorsclub.com/wp-content/uploads/2021/08/RussoandSteele-drew-01-W1200.jpg
ORGANIZER;CN="Russo and Steele Auctions":MAILTO:info@russoandsteele.com
END:VEVENT
BEGIN:VEVENT
DTSTART;TZID=UTC:20210812T090000
DTEND;TZID=UTC:20210814T180000
DTSTAMP:20260422T143008
CREATED:20210805T193534Z
LAST-MODIFIED:20230514T172354Z
UID:6979-1628758800-1628964000@carcollectorsclub.com
SUMMARY:Mecum Auction At Monterey Car Week Selling Over 600 Vehicle & 100 Motorcycles Starting August 12-14\, 2021
DESCRIPTION:Mecum will auction over 600 vehicles over three days (valued at over $5 million) in Monterey California during the famed Monterey Car Week from August 12 – August 14\, 2021. \nMecum will broadcast the auction for over 15 hours over the NBCSN (Sports Network) and Peacock TV Network from Aug\, 12-14\, 2021. NBC will also broadcast a special “Main Attraction” and a preview of the vehicles prior to the auction. \nLIVE BROADCAST: LIVE STREAMING MECUM AUCTION AUG. 14th 2021 FROM MONTEREY CAR WEEK ( See Below) \nMecum Auctions\, which is the world’s largest car collector vehicle auction company\, will auction more than 600 consignment vehicles from the Annual three-day Daytime Auction. This auction will be held at the Hyatt Regency Hotel and Spa on Del Monte Golf Course in Monterey California.⁠\nCollectible cars that will be auctioned will range from prewar classics and vintage muscle cars. Also included are modern supercars\, high-end luxury exotics\, and over 100 vintage and antique motorcycles.⁠⁠ \nBut\, whether you attend\, or just watch the broadcast\, don’t miss the Featured Event Vehicles. Featured Vehicles are some of the rarest\, collectibles\, and pricey vehicles to come to be auctioned. The two main attractions at the auction are rare one-of-a-kind cars that are sure to bring a very big dollar. \nPAY ATTENTION TO THE FEATURED LOTS. \nHere are the three top cars to be auctioned from the Featured Lots and Collections. \n\nMUST SEE CAR NUMBER #1. \nThe first “Must See Car” is this rare “1936 Delahaye Type 135 Competition Court Teardrop Coupe” with Coachwork by Figoni et Falaschi. This Coupe is only one-of-six Delahaye examples to be manufactured in this style. It sports an elegant 1930’s art deco style and a right-hand drive Lightweight “Goutte D’Eau” style and sunroof. Additionally\, it is the only 1936 Delahaye Type 135 with headlamps integrated in between the front fenders. \n \nTo Be Auctioned At The As A Main Featured Car Is The Hyper-rare 1936 Delahaye Type 135 Competition Court Teardrop CoupeThis Delahaye won many awards including a Class Award at the Pebble Beach Concours d’Elegance in 2001. Additionally\, it garnered The “Best of Show” at the 2003 Indianapolis Celebration of Automobiles\,  The “Best of Show” at the 2003 Texas Concours d’Elegance and the “Best of Show”\, and “People’s Choice” at the Ontario 2014 Cobble Beach Concours d’Elegance\, \nWith Chassis No. 47242\, this rare collectible car should sell between five and six million dollars and the Mecum auction. \n\nMUST SEE CAR NUMBER #2. \nA second main attraction up for auction is a  This Cobra SC 427 was listed as the last concept car to be designed with Carol Shelby and referred to as the “Last Shelby Cobra” It is estimated to sell for between $2 to $3 million dollars. \n2004 Ford Shelby Cobra Concept \nThis Cobra SC Debuted at the Detroit North American International Auto Show and was awarded “Best in Show” by Autoweek magazine in 2001. This Cobra SC came from Ford’s desire to create an ultimate Cobra package. But as with most American Car Companies\, politics intervened\, and the light went out. This is the only one to ever be produced. \nThe car world has lived up to the Cobra Name. Under the hood is a powerful 6.4-liter V10 engine that produces 605 HP. It supports itself with a front and rear suspension from the 2005 Ford GT and comes with a power-assisted rack-and-pinion steering system\, Brembo custom disc brakes\, and BF Goodrich Racing Rubber that read “Not for use on public roads.” \n\nMUST SEE CAR NUMBER #3. \nA third contender is the “SFM5R538” This car was the winningest 1965 Shelby GT350R Fastback ever to be built\, One of only 36 factory competition models ever built and this should sell for over $1million.This Shebly won 17 straight wins from 1968-1969 with Charlie Kemp driving the car.  Through 1971\, Kemp entered 54 races\, finished 42\, and won 32 Ran at a clocked 184 MPH at Daytona at 1968\, the highest speed is known for any 289-powered Shelby. \n \nA Must See Car T Be Auctioned Is “The Winningest Shelby Ever” a 1965 Shelby GT350R Fastback SFM5R538 \nThis Shelby has a one of a kind build including a  289/325 HP V-8 engine\, Holley 4-barrel carburetor\nCobra high-rise intake manifold\, Tri-Y headers\, Oil cooler\, and high capacity radiators\, and a Borg-Warner T10 4-speed manual transmission to spin the tires. \nTwo groups of cars that may dominate the auction are the Corvette’s and Porsche’s. \nBeyond the Featured Main Event:\nMany more collector cars will be auctioned by Mecum in August. “This year’s Monterey Mecum Auction will be heavy on Corvette’s and Porsche’s”\, says John Kraman Mecums’ spokesperson at public events. “Vehicles to be offered range from prewar classics and vintage muscle cars to luxury and high-end exotics\, modern supercars and more\, along with approximately 100 vintage and antique motorcycles”  “Come out early to look at all the cars\, tickets are only $20 in advance and $30 the day of the auction (Kids are Free) and bidders pass is $200.” Kraman continues\, “This is a return to Monterey after not being there last year but there 12 years.” \nOTHER VEHICLE COLLECTIONS TO BE AUCTIONED\nThe Jim Zanardi Collection\, The Don Wallace Collection\, Big Al’s Collection\, The Northern California Superbike Collection\, and the Ducati Bellevue Collection. \n  \n\n\nWatch the Mecum Auction Live & Past Recorded Episodes From Monterey Car Week & Pebble Beach on August 14\, 2021. (Top Results)\n\n\n\nLIVE: Streaming Mecum Auto Auction\n\nDay 3 – Watch Saturday\, August 14\, 2021\, LIVE from Monterey California ….. Over 600 Cars\nhttps://youtube.com/watch?v=dt1mCMoGD0Y \nLIVE STREAMING \nLive Streaming August 14\, Mecum Collector Car Auction – Monterey 2021 Day 3\n\n\n\n\nVIDEO: Streaming Mecum Auto Auction\n\nDay 2 – Friday\, August 13\, 2021\, from Monterey California \nhttps://youtube.com/watch?v=dt1mCMoGD0Y \n  \nRECORDED \nMecum Collector Car Auction – Monterey 2021 Day 2\n\n\n\n\nVIDEO: Streaming Mecum Auto Auction\n\nDay 1 – Saturday\, August 12\, 2021 from Monterey California \nhttps://youtube.com/watch?v=X-x4pBJjk6Y \nRECORDED \nMecum Collector Car Auction – Monterey 2021 Day 1\n\nxxx xxxxxxxxxxxxxxxx \n\n\nBROADCAST SCHEDULE:\nThe Peacock Network with broadcast the Meacou Auction Live and the NBCSN Broadcast Network will re-broadcast the auction later that day. The times\, dates\, and schedule are listed below. CarCollectorsClub.com live also be delivering both a live youtube feed and provide on-demand video replay. \n(Below is the Mecum Auction Live\, Delray\, and Re-broadcast TV Schedule From Monterey California) \nThursday\, Aug 12\, 2021\n1:30 PM – 6:30 PM LIVE on Peacock Network\n7:00PM – 12:00AM DELAYED on NBCSN Broadcast Network \nFriday\, Aug 13\, 2021\n12:30 PM – 6:30 PM – LIVE on the Peacock Broadcast Network\n10:30 PM – 2:30 AM – DELAYED on the NBCSN Broadcast Network \nSaturday\, Aug 14\, 2021\n12:30 PM – 5:30 PM LIVE on the Peacock Broadcast Network\n11:00 PM – 1:00 AM DELAYED on the NBCSN Broadcast Network \n\n  \nMecum Live Auction Monterey Car Week 2021 \n\nABOUT THE AUCTION \nThis is Monterey Car Week’s only Daytime Auction\, It includes the sale of over 600 vehicles and over 100 vintage motorcycles.  Vehicle price range from $5\,000 to $5\,000\,000. The auction is a three-day event and will be broadcast live on both the Peacock Network and NBCSN Broadcast Network. \nTYPES OF VEHICLES TO BE AUCTIONED INCLUDE:  \n\nPrewar classics\nModern supercars\nVintage muscle cars\nLuxury exotics\nHigh-end exotics\nMuch more\nPlus: Over 100 vintage and antique motorcycles.\n\nWHEN:\nVehicles will be auctioned on Thursday\, August 12 at 10 AM and\nFriday and Saturday\, August 13-14 at 9 AM \nWHERE:\nThe Auctions will take place at the\nHyatt Regency Monterey Hotel and Spa – Del Monte Golf Course\n1 Old Golf Course Road Monterey\, CA 93940\n(831) 372-1234 \nGENERAL ADMISSION  AND DAILY TICKET PRICE” \nTicket price at the gate: $30 per person  (Per Day)\nChildren 12 years and younger get in free. \nAdvance Ticket: $20 per person\, per day. (Advance Tickets are available until 11:59 PM August 11\, 2021\, CDT) \n\nHOTEL INFORMATION\nMonterey 2021 Host Hotel Packages\nHyatt Regency Monterey Hotel & Spa\n1 Old Golf Course Rd\nMonterey\, CA 93940 \nLINK TO HOTEL \n\nCOMPLETE EVENT DETAILS LISTED BELOW
URL:https://carcollectorsclub.com/event/mecum-auction-returns-to-monterey-car-week-offering-over-600-vehicles-starts-august-12-14-2021/
LOCATION:Hyatt Regency Monterey Hotel and Spa\, 1 Old Golf Course Road\, Monterey\, CA\, 93940\, United States
CATEGORIES:Auctions
ATTACH;FMTTYPE=image/jpeg:https://carcollectorsclub.com/wp-content/uploads/2021/08/Mecum-Auction-Monterey-Week-August-2021-W1000-02.jpg
ORGANIZER;CN="Mecum Auctions":MAILTO:info@mecum.com
END:VEVENT
BEGIN:VEVENT
DTSTART;TZID=UTC:20210812T100000
DTEND;TZID=UTC:20210814T170000
DTSTAMP:20260422T143008
CREATED:20210721T191643Z
LAST-MODIFIED:20210721T192557Z
UID:6873-1628762400-1628960400@carcollectorsclub.com
SUMMARY:RM Sotheby's Auction at Pebble Beach August 12-14 2021
DESCRIPTION:The Pebble Beach RM Sotheby’s Auction will take place this year on August 12-14 2021 during Monterey Week in Pebble Beach California. \nAs the longest-standing tradition of the Monterey Car Week\, RM Sotheby’s flagship Monterey auction remains a pinnacle event year after year. This year we are thrilled to present a three-day auction weekend event with the expansion of our sale featuring the incomparable Paul Andrews Estate Collection. Offered almost entirely without reserve\, the impressive collection will kick-off RM’s flagship auction weekend on Thursday\, 12 August. \nHeld at the Monterey Conference Center\, set on the spectacular central California coast\, the multi-level property offers a breathtaking\, modern\, and state-of-the-art facility perfect for this year’s high caliber auction weekend. Simply put\, the energy of this year’s RM Sotheby’s Monterey auction is unmatched and one not to be missed. \nRM Sotheby Auction Pebble Beach August 12-14 2021 \nIf you require assistance in registering to bid or would like any information on the lots we are presenting at auction\, please contact one of our Client Service Representatives today. \n  \nCars and collections to be auctioned at the Pebble Beach RM Sotheby’s auction on August 12-14\, 2021 include:\n1935 Duesenberg Model J ‘Sweep Panel’ Dual-Cowl Phaeton\n1981 Ferrari 512 BB/LM\n2020 McLaren Speedtail\n1994 Bugatti EB110 Super Sport\n1929 Duesenberg Model J ‘Butterfly’ Dual-Cowl Phaeton \nThe Paul Andrews Estate Collection – Offered Without Reserve\n2015 Ferrari LaFerrari \nThe Fox Collection – Offered Without Reserve\n1932 Alfa Romeo 8C 2300 Monza\n1968 Ferrari 330 GTS\n1965 Aston Martin DB5 Convertible \nThe Peter Giddings Collection\n1927 Delage 15-S-8 Grand Prix\n2003 Ferrari Enzo \nThe Paul Andrews Estate Collection – Offered Without Reserve\n1991 Ferrari F40\n1971 Lamborghini Miura P400 S \nOffered Without Reserve\n1974 Porsche 911 Carrera RSR 3.0 IROC\n1991 Jaguar XJR-15\n1977 Porsche 935 K3\n1930 Cadillac V-16 Convertible Phaeton\n1963 Ferrari 250 GT/L Berlinetta Lusso \nThe Paul Andrews Estate Collection – Offered Without Reserve\n1963 Jaguar E-Type Lightweight Continuation\n1953 Bentley R-Type Continental Fastback Sports Saloon\n1957 Mercedes-Benz 300 SL Roadster\n1961 Ferrari 250 GT Cabriolet Series II\n1961 Ferrari 250 GT Cabriolet Series II\n2008 Bugatti Veyron 16.4 \nThe Fox Collection – Offered Without Reserve\n2011 Ferrari SA Aperta \nPublic Preview\nAdmission to Public Preview is $40 per person. \nAdmission to Public Preview is free for onsite bidders\, consignors\, and qualified media. \nThe Auction will take place at the Monterey Conference Center \nMonterey Conference Center\n2 Portola Plaza\nMonterey\, California\nUnited States 93940 \nhttps://rmsothebys.com/en/auctions/mo21
URL:https://carcollectorsclub.com/event/rm-sothebys-auction-at-pebble-beach-august-12-14-2021/
LOCATION:Monterey Conference Center\, 2 Portola Plaza\, Monterey\, CA\, 93940\, United States
CATEGORIES:Auctions
ATTACH;FMTTYPE=image/jpeg:https://carcollectorsclub.com/wp-content/uploads/2021/07/RMSothbeysAuctionPebbleBeach-July12-14-l2021.jpg
ORGANIZER;CN="RM Sothebys Auctions":MAILTO:info@rmsothebys.com
END:VEVENT
END:VCALENDAR