BEGIN:VCALENDAR
VERSION:2.0
PRODID:-//Car Collectors Club - ECPv6.6.3//NONSGML v1.0//EN
CALSCALE:GREGORIAN
METHOD:PUBLISH
X-WR-CALNAME:Car Collectors Club
X-ORIGINAL-URL:https://carcollectorsclub.com
X-WR-CALDESC:Events for Car Collectors Club
REFRESH-INTERVAL;VALUE=DURATION:PT1H
X-Robots-Tag:noindex
X-PUBLISHED-TTL:PT1H
BEGIN:VTIMEZONE
TZID:America/New_York
BEGIN:DAYLIGHT
TZOFFSETFROM:-0500
TZOFFSETTO:-0400
TZNAME:EDT
DTSTART:20260308T070000
END:DAYLIGHT
BEGIN:STANDARD
TZOFFSETFROM:-0400
TZOFFSETTO:-0500
TZNAME:EST
DTSTART:20261101T060000
END:STANDARD
END:VTIMEZONE
BEGIN:VEVENT
DTSTART;TZID=America/New_York:20260227T090000
DTEND;TZID=America/New_York:20260227T090000
DTSTAMP:20260422T145152
CREATED:20260223T205054Z
LAST-MODIFIED:20260223T205054Z
UID:26260-1772182800-1772182800@carcollectorsclub.com
SUMMARY:RM Sotheby’s Miami Auction at The Biltmore Offers a Rare Chance to Acquire Legendary Classics and Modern Hypercars (February 27\, 2026)
DESCRIPTION:RM Sotheby’s Miami 2026 is a premier automotive event held on February 27\, 2026\, at the historic The Biltmore Hotel in Coral Gables\, Florida. \nThis sophisticated\, blue-chip auction features a curated selection of approximately 60 high-value lots\, including pre-war classics\, 1960s sports icons\, and modern supercars with world-class provenance. Whether for the cinematic bidding floor or the VIP social atmosphere\, this sale is a landmark on the global collector calendar. \nThis auction kicks off alongside ModaMiami\, a massive multi-day automotive takeover that has completely flipped the script on the traditional concours. Often called the “Art Basel of car culture\,” ModaMiami is quickly becoming the Pebble Beach of the East Coast. It turns the Biltmore into a high-octane playground featuring over 400 world-class machines\, blending rare vintage metal with the ultimate South Florida lifestyle. \n\nTop Featured Cars\nLeading the docket is a 1967 Ford GT40 Mk I\, representing the pinnacle of American-led international racing dominance. This rare road-specification example\, identified as Lot 172\, is estimated between $6.5M – $8.0M. It remains a definitive acquisition for collectors prioritizing motorsport lineage and “as-delivered” mechanical purity. 1967 Ford GT40 Mk I \nIn addition to American muscle\, the auction features a 1959 Ferrari 250 GT LWB California Spider by Scaglietti\, an immaculate example of open-top European elegance. This Ferrari Classiche certified masterpiece\, cataloged as Lot 145 and estimated at $6.5M – $7.5M\, features the desirable covered-headlamp configuration and a numbers-matching drivetrain. Its sophisticated presence makes it a primary candidate for any top-tier Concours d’Elegance event. 1959 Ferrari 250 GT LWB California Spider \nSimilarly\, the 2015 Ferrari LaFerrari offers a transition into the realm of modern hybrid hypercars. This limited-production flagship\, cataloged as Lot 183\, is estimated between $6.0M – $7.0M\, representing a flawless fusion of Formula 1 technology and road-going prestige. This vehicle stands as a testament to Ferrari’s enduring engineering significance in the 21st century. 2015 Ferrari LaFerrari \nFour of the top featured cars up for auction at RM Sotheby’s Miami include the 1937 Delage D8-120 Coach Aérosport by Letourneur et Marchand\, 1969 Lamborghini Miura P400S by Bertone\, 1967 Ford GT40 Mk I\, and 1992 Ferrari F40. \nContrasting the hybrid elegance of the LaFerrari is the 1992 Ferrari F40\, an undisputed icon of analog performance and the final car commissioned by Enzo Ferrari. This pristine example\, Lot 164\, is estimated at $4.0M – $5.0M and features the raw\, twin-turbocharged V-8 that defined the supercar era. Its documented provenance and low-mileage status ensure its position as a blue-chip investment. 1992 Ferrari F40 \nFinally\, the 1937 Delage D8-120 Coach Aérosport by Letourneur et Marchand showcases Gatsby-era opulence and avant-garde French coachwork. Estimated at $2.5M – $3.5M as Lot 125\, this pre-war classic is one of very few surviving examples featuring the streamlined “Aérosport” body. Having undergone a meticulous restoration\, it remains a concours-ready masterpiece. 1937 Delage D8-120 Coach Aérosport \n\nPopular Muscle & Sports Cars\n\n1969 Lamborghini Miura P400S by Bertone: An iconic mid-engine supercar finished in a period-correct aesthetic. This Lot 169 example is estimated between $2.0M – $2.25M and represents the first true “poster car” in automotive history. 1969 Lamborghini Miura P400S\nThe 1933 Chrysler CL Imperial Dual-Windshield Phaeton by LeBaron represents the apex of classic-era styling. One of just 36 produced\, Lot 130 features documented provenance including the Harrah’s Collection. This CCCA Full Classic\, estimated at $275\,000–$350\,000\, remains a premier acquisition for those seeking historical significance and impeccable pre-war engineering. More on the 1933 Chrysler CL Imperial.\n2005 Porsche Carrera GT: A pristine example of analog engineering\, Lot 185 features the legendary V-10 engine derived from Porsche’s racing program. Estimated at $2.2M – $2.8M\, it remains a cornerstone for modern supercar collectors. 2005 Porsche Carrera GT\n1994 Lamborghini Diablo SE30: A limited-production 30th-anniversary special\, cataloged as Lot 165. With an estimate of $1.3M – $1.6M\, it is a rare\, high-performance evolution of the legendary Diablo lineup. 1994 Lamborghini Diablo SE30\n2006 Ford GT Heritage Edition: Finished in the iconic Gulf Oil livery\, this Lot 187 example pays homage to the GT40’s Le Mans victories. Estimated at $750\,000 – $950\,000\, it is offered without reserve. 2006 Ford GT Heritage Edition\n\n \n\nSotheby’s Miami 2025 Results\nThe 2025 RM Sotheby’s Miami sale was an absolute powerhouse\, hammering away a staggering $48.5 million with an elite 90% sell-through rate. The weekend was headlined by a 1955 Mercedes-Benz 300 SL Gullwing that crushed the competition\, setting a new world record at $3\,415\,000. From the surge in high-value “Youngtimer” supercars to the electric\, high-stakes atmosphere at The Biltmore\, 2025 proved that Miami has officially become the epicenter of the global collector market. The momentum heading into 2026 is undeniable. \n\nAdditional Events\nThe RM Sotheby’s Miami event is an immersive luxury experience. Attendees can enjoy VIP hospitality suites overlooking the Biltmore’s iconic pool\, featuring curated concessions and specialty foods. The auction weekend provides exclusive networking opportunities for high-net-worth collectors and industry experts in a dedicated\, sophisticated social environment. \n\nMedia & Live Broadcasts\nFor those unable to attend in person\, the auction will be available to view via a high-definition live stream on the official RM Sotheby’s website. Real-time bidding is supported through their digital platform\, ensuring global participation for serious collectors. View Live Auction Details \n\nAbout the Venue\nThe Biltmore Hotel is located at 1200 Anastasia Ave\, Coral Gables\, FL. This National Historic Landmark\, opened in 1926\, offers world-class amenities including a championship golf course and one of the largest hotel pools in the United States. Historically\, it has hosted royalty and world leaders\, making it a fitting stage for the world’s most valuable automobiles. Visit The Biltmore Hotel Homepage \n\nAbout RM Sotheby’s\nRM Sotheby’s is the world’s largest collector car auction house by total sales\, specializing in the investment-grade segment of the market. For over 40 years\, they have set the standard for transparency and expertise\, frequently handling the sale of the world’s most expensive vehicles. Their partnership with the Sotheby’s auction house provides a global platform for high-net-worth collectors. Visit RM Sotheby’s Website \n\nTicket Prices & Event Schedule\n\nTicket Price: $150–$300 (Registered bidders receive complimentary admission). Purchase Tickets\nDate: February 27\, 2026\nHours: Doors open at 10:00 AM; Auction begins at 4:00 PM\nVenue: The Biltmore Hotel\nAddress: 1200 Anastasia Ave\, Coral Gables\, FL 33134\nURL: The Biltmore Hotel\n\n\nEvent Summary\nRM Sotheby’s Miami 2026 is a premier collector car auction taking place February 27 at The Biltmore Hotel in Coral Gables\, Florida. The event features a highly curated selection of approximately 60 lots\, primarily focusing on blue-chip Ferraris\, pre-war classics\, and modern hypercars. It is widely considered the most significant high-value boutique auction in the South Florida region. \n\nWho: RM Sotheby’s\nWhat: Luxury Collector Car Auction\nWhen: February 27\, 2026\nWhere: 1200 Anastasia Ave\, Coral Gables\, FL 33134
URL:https://carcollectorsclub.com/event/rm-sothebys-miami-2026/
LOCATION:The Biltmore Hotel\, 1200 Anastasia Ave\, Coral Gables\, FL\, 33134\, United States
CATEGORIES:Auctions
ATTACH;FMTTYPE=image/jpeg:https://carcollectorsclub.com/wp-content/uploads/2026/02/RM-Sothebys-Miami-Auction-01-w1014.jpg
ORGANIZER;CN="RM Sothebys Auctions":MAILTO:info@rmsothebys.com
END:VEVENT
END:VCALENDAR