BEGIN:VCALENDAR
VERSION:2.0
PRODID:-//Car Collectors Club - ECPv6.6.3//NONSGML v1.0//EN
CALSCALE:GREGORIAN
METHOD:PUBLISH
X-ORIGINAL-URL:https://carcollectorsclub.com
X-WR-CALDESC:Events for Car Collectors Club
REFRESH-INTERVAL;VALUE=DURATION:PT1H
X-Robots-Tag:noindex
X-PUBLISHED-TTL:PT1H
BEGIN:VTIMEZONE
TZID:UTC
BEGIN:STANDARD
TZOFFSETFROM:+0000
TZOFFSETTO:+0000
TZNAME:UTC
DTSTART:20210101T000000
END:STANDARD
END:VTIMEZONE
BEGIN:VEVENT
DTSTART;TZID=UTC:20211104T100000
DTEND;TZID=UTC:20211106T170000
DTSTAMP:20260422T071614
CREATED:20211027T092937Z
LAST-MODIFIED:20211027T093758Z
UID:8908-1636020000-1636218000@carcollectorsclub.com
SUMMARY:GAA Auto Auctions Hosting Over 600 Collectible Cars & Memorabilia November 4-6\, 2021
DESCRIPTION:GAA will auction over 600 classic\, muscle\, and unique vehicles – and over 400 individual memorabilia items – in their headquarters location in Greensboro NC on November 4-6\, 2021. GAA Classic Cars Auctions is no traveling car auction. GAA  has a dedicated facility for hosting and selling car collections. \nThe Greensboro location hosts 3-4 auctions per year and has comfortable seating for over 500 guests. Additionally\, the facility offers quality food service options and maintains a full-time staff making your selling and buying experience a memorabilia experience. \nThe GAACC location is set up to sell vehicles\, with a registration and lobby area\, security\, and the main sales arena that can house over 320 vehicles on the main floor. They have two additional enclosed buildings that allow for the majority of the 650 vehicles to be viewed comfortably no matter the weather. \nThe facility also offers a restaurant upstairs and is made available on sale day to bidders\, sellers\, and their guests only.\nThe vintage Car Diner is open to all who are attending the sale. \nThe Greensboro location hosts 3-4 auctions per year and has comfortable seating for over 500 guests \nEvent parking is free and we invite dealers and the general public to sell\, buy or simply attend. (General admission tickets are not for sale at this time due to COVID19 guidelines.) \nGAA Classic Cars Auction (GAACC) is a subsidiary of the Greensboro Auto Auction (GAA). GAA is one of the largest independently owned\, dealer-exclusive auto auctions in the country. Over 30 years in the automotive auction business gives GAA a unique perspective on how to operate a customer-oriented sale. \nSTREAMING LIVE  \nWatch the GAA Auction STREAMING LIVE on the Youtube feed below. \nhttps://www.youtube.com/watch?v=OjUUHarGNXw \n**GAACC is following the CDC’s guidelines to avoid the spread of COVID19. Please adhere to the following: Temperature checks upon arrival\, face masks are mandatory for everyone\, and practice social distancing of 6ft throughout the facility. \nGAACC will continue to have hand sanitizers available and staff will disinfect frequently used areas before\, during and after the auction. iWave air purifiers are installed on all HVAC units in the sales area\, skyboxes\, and offices. These are the same units installed in hospitals and healthcare facilities to kill viruses\, bacteria\, mold\, etc. as air flows through the HVAC. \nCARS FOR SALE \nYou can view the cars that are up for auction on the GAA website under the Nov.4-6 Auction then click on inventory. (Click Here To View Inventory) \nTo register as an online bidder click “Bid Online” which will direct you to Proxibid\, our Online Bidding Platform \n\nEVENT INFORMATION \nADDRESS:  301 Norwalk Street\, Greensboro\, NC  27407 \nPHONE: 855.862.2257 \nFOOD & BEVERAGES: Complimentary food and beverages will be provided at the Classic Car Diner for all registered bidders\, consignors and their guests. \nFREE PARKING: Over 2\,000 spaces! (For safety reasons no strollers or pets are allowed. No outside food or coolers are allowed.) \nAUCTION SEATING: Our seating area is spaced to meet social distancing guidelines. \nSECURITY MEASURES: All those who attend a GAA Classic Cars Auction event must enter through the main gate/entrance(off Norwalk).  All guests must pass through a security checkpoint.  All bags: purses\, diaper bags\, backpacks…etc will be searched prior to entry.  All guests will receive a hand stamp (good for that day only) that shows they have passed through the security checkpoint. If you return to your vehicle or pass through the main gate and return you will have to go through the security checkpoints again. \nNOTICE TO ALL WHO ATTEND GAA CLASSIC CAR EVENTS: This is an automobile auction.  Vehicles for sale should be run through the auction.  GAA’s parking lot is not a sale lot.  Vehicles cannot be displayed as for sale or sold on our premises unless running through the auction.  Violators will be asked to remove all “for sale” items from their vehicles.  If the owner fails to do so they will be asked to leave\, no refunds on gate entry.  If the owner cannot be located GAA reserves the right to tow the vehicle. \n2021 AUCTION DATES: November 4 – 6 \n2022 AUCTION DATES: February 24 – 26  l  July 21 – 23  l  November 3 – 5 \n\nAUCTION SCHEDULE \nThursday \n\n8:00 am: Gates Open\n1:00 pm: Auction Starts with 30-40 Pieces of Classic Memorabilia\nFollowed by Approximately 157 Vehicles\n\nFriday \n\n8:00 am: Gates open\n10:00 am: Auction Begins; Approximately 275 Vehicles\n\nSaturday \n\n8:00 am: Gates Open\n10:00 am: Auction Begins with 15 Mini Bikes\nFollowed by Approximately 179 Vehicles\n\n\nLodging Location Nearby \nSheraton Hotel\n3121 Gate City Blvd.\,\nGreensboro\, NC 27407\n336-292-9161\nMAP \nMOTOR HOME & RV ACCOMMODATIONS:\nGAACC has motor homes & RV spots with connections for power\, water\, and sewer.\nSpots are limited and reserved on a first come first serve basis. Call 1.855.862.2257 or emailinfo@gaaclassiccars.com\nGAA Classic Cars offers consignors/sellers a beautiful dedicated facility\, a growing buyer base and one on one customer care.  Below is important information on selling a vehicle at GAA Classic Cars. \n\nSUBMIT A VEHICLE \nONLINE SUBMISSION \nPlease review the Terms & Conditions prior to submitting your vehicle for auction. To submit a vehicle online for the upcoming auction simply click on the “Seller Forms” tab on the left or CLICK HERE.   \n(IMPORTANT: Online Seller Forms will not process on Internet Explorer.  Please use a different browser such as Google Chrome or Mozilla Firefox to complete the forms) \n\n 
URL:https://carcollectorsclub.com/event/gaa-auto-auctions-hosting-over-600-collectible-cars-memorabilia-november-4-6-2021/
LOCATION:GAA Auto Auctions\, 301 Norwalk St.\, Greensboro\, NC\, 27407\, United States
CATEGORIES:Auctions
ATTACH;FMTTYPE=image/jpeg:https://carcollectorsclub.com/wp-content/uploads/2021/10/2021-GREENSBORO-AUTO-AUCTION-nov-2021-w1024.jpg
ORGANIZER;CN="GAA Greensboro Auction":MAILTO:info@gaaclassiccars.com
END:VEVENT
BEGIN:VEVENT
DTSTART;TZID=UTC:20211106T093000
DTEND;TZID=UTC:20211107T120000
DTSTAMP:20260422T071614
CREATED:20211027T095127Z
LAST-MODIFIED:20211027T101814Z
UID:8918-1636191000-1636286400@carcollectorsclub.com
SUMMARY:Worldwide Auctioneers Selling The Fort Lauderdale Antique Car Museum Part II Starts Saturday\, November 6th\, 2021
DESCRIPTION:Worldwide Auctioneers Selling The Fort Lauderdale Antique Car Museum Auction Saturday\, November 6th\, 2021.\nOn Saturday\, November 6\, over 700+ lots will be offered without reserve. Rare car collectible items include automobilia\, hood ornaments\, gas station signs\, neons\, lamps\, and pedal cars. \nView Inventory \n\n\n\n\n\n\n\n\nAll lots are available for online bidding\n\n\n\n\nPREVIEW OF AUCTION: \n✓ Thursday\, Nov. 4 • 10 AM – 7 PM\n✓ Friday\, Nov. 5 • 9 AM – 5 PM\n✓ Saturday\, Nov. 6 • 9 AM – 5 PM \n\n\n\n\nLOCATION OF ITEMS: \n1527 SW 1st Ave\nFort Lauderdale\, FL 33315 \nClick Here for Directions \n\n\n\n  \nDetails Currently Being Updated….. Please Stand By….
URL:https://carcollectorsclub.com/event/worldwide-auctioneers-selling-the-fort-lauderdale-antique-car-museum-auction-saturday-november-6th-2021/
LOCATION:Worldwide Auctioneers HQ\, 5634 Opportunity Blvd Suite A\, Auburn\, IN\, 46706\, United States
CATEGORIES:Auctions
ATTACH;FMTTYPE=image/jpeg:https://carcollectorsclub.com/wp-content/uploads/2021/10/WWG-PI.jpg
ORGANIZER;CN="Worldwide Auctioneers":MAILTO:info@worldwideauctioneers.com
END:VEVENT
END:VCALENDAR