BEGIN:VCALENDAR
VERSION:2.0
PRODID:-//Car Collectors Club - ECPv6.6.3//NONSGML v1.0//EN
CALSCALE:GREGORIAN
METHOD:PUBLISH
X-WR-CALNAME:Car Collectors Club
X-ORIGINAL-URL:https://carcollectorsclub.com
X-WR-CALDESC:Events for Car Collectors Club
REFRESH-INTERVAL;VALUE=DURATION:PT1H
X-Robots-Tag:noindex
X-PUBLISHED-TTL:PT1H
BEGIN:VTIMEZONE
TZID:UTC
BEGIN:STANDARD
TZOFFSETFROM:+0000
TZOFFSETTO:+0000
TZNAME:UTC
DTSTART:20210101T000000
END:STANDARD
END:VTIMEZONE
BEGIN:VEVENT
DTSTART;TZID=UTC:20211007T080000
DTEND;TZID=UTC:20211008T170000
DTSTAMP:20260422T090536
CREATED:20210926T001829Z
LAST-MODIFIED:20210927T235205Z
UID:7574-1633593600-1633712400@carcollectorsclub.com
SUMMARY:RM Sotheby's 15th Annual Brass Era & Pre-War Auto Auction Takes Place in Hershey\, PA On October 7-8\, 2021
DESCRIPTION:RM Sotheby’s 15th annual Hershey sale\, the official auction of the AACA Eastern Division Fall Meet\, will return to the Hershey Lodge in Hershey\, Pennsylvania\, 7–8 October. \nHeld annually\, RM Sotheby’s Hershey sale is the benchmark for early collectibles\, ranging from Brass Era through to Pre-War cars; new auction records are achieved each year at this very unique sale venue. \nThe Hershey sale coincides with the Antique Automobile Club of America’s Eastern Division Fall Meet\, one of the largest automobilia shows and flea markets in the world. Collectors come from across the globe to Hershey each year in search of the rarest and most sought-after parts and collectibles. \nThe Hershey Lodge in Hershey\, Pennsylvania Is Where The RM Sotheby’s Auction Will Take Place on October 7 & 8\, 2021 \nHershey\, Pennsylvania is rich in car culture\, home to the world headquarters of the AACA and the AACA Museum\, and a truly world-class automotive experience.RM Sotheby’s Hershey PA \n\nSCHEDULE AND TIMES OF EVENTS \nWED 6 OCT 2021\nPREVIEW from 4:00 PM – 8:00 PM\nPREVIEW & BBQ at: 5:00 PM – 7:00 PM \nTHURSDAY OCTOBER 7th\, 2021\nPREVIEW: 9:00 AM – 5:00 PM\nAUCTION: 5:00 PM – CLOSE \nFRIDAY OCTOBER 8th\, 2021\nPREVIEW: 9:00 AM – 5:00 PM\nAUCTION: 5:00 PM – CLOSE \n(CHECK SOTHEBY’S OFFICIAL SCHEDULE) \n\nABOUT THE AUTO AUCTION\nThree outstanding American classics\, offered from a single-owner collection\, are set to cross the block\, all offered without reserve. Longer than any Packard and lower than any Duesenberg\, this 1931 Duesenberg Model J Roadster known as the “Green Hornet” sits among the most remarkable examples available on the market\, wearing unique and rakish Packard Roadster bodywork fitted by Duesenberg in 1931. \nThis important and bespoke Duesenberg claimed an award at the prestigious Amelia Island Concours d’Elegance (Estimate: $1\,400\,000 – $1\,800\,000). It would be an outstanding addition to any world-class collection. Accompanying the Duesenberg is a 1935 Auburn Eight Supercharged Speedster\, one of the most instantly recognizable and striking of all the iconic pre-war American sports cars. \n1931 Duesenberg Model J Roadster \nA model much in demand with collectors\, this stunning example on offer in Hershey was a best-in-class winner at the Amelia Island Concours d’Elegance and will undoubtedly attract significant interest (Estimate: $700\,000 – $900\,000). \nRounding out the third American classic offered from this collection is a 1930 Packard 745 Deluxe Eight Roadster by LeBaron. Exhibited at the 2015 Pebble Beach Concours d’Elegance\, this car is one of just a handful of authentic examples believed to still be in existence (Estimate: $350\,000 – $450\,000). \nAmong the American classics crossing the block in Hershey is one of the most collectible\, rare\, and highly desired Packard models\, notable for its striking coachwork\, this 1940 Packard Custom Super Eight One Eighty Sport Sedan by Darrin is one of just four examples believed to have been produced. \nThis Super Eight has been awarded first place at the Packard Automobile Classics National and was a first prize winner at a CCCA National Senior event. Offered from one of the world’s preeminent Packard collections\, this example has a pre-sale estimate of $325\,000 – $375\,000. \n1930 Packard 745 Deluxe Eight Roadster by LeBaron \nNo Hershey sale is complete without a selection of fine brass era cars. This year is no exception with a stand-out lot being the 1912 Stanley Roadster Tribute\, a fascinating tribute to Chassis 6700; the bespoke Roadster commissioned by company heir Raymond Stanley. \nThis example was constructed using the chassis\, running gear\, steam engine\, and underpinnings of the 1912 Stanley which was driven by Jay Leno in 2017 to the summit of Mount Washington\, recreating the famous 1899 summitting by company founder Freelan Oscar Stanley (Estimate: $150\,000 – $200\,000). \nOther notable entries set to cross the block in Hershey include a supremely rare and impeccably presented 1909 Peerless Model 19 Touring. With correct and desirable fittings throughout\, this Peerless is one of just two examples believed to be produced by the Peerless Motor Car Company of Cleveland\, Ohio. \nThis example was awarded the “Early Pioneer” Award during the 2015 Elegance at the Hershey Concours d’Elegance and will cross the block as an AACA National First Prize Winner (Estimate: $100\,000 – $150\,000). \nThis year’s Hershey sale is also notable for an excellent selection of classic American ‘Woodies’. The high-quality selection of Woodies is led by a beautiful 1947 Ford Super Deluxe Sportsman Convertible. This Certified Milestone Car is among the rarest and most reliable of all Ford ‘Woodies’ (Estimate: $100\,000 – $125\,000). \nHOTEL ACCOMMODATIONS AT THE HERSEY HOTEL & RESORT \nRESERVATIONS (844) 330-1802\nADDRESS: HERSHEY LODGE 325 UNIVERSITY DRIVE\, HERSHEY\, PA 17033 \n\nClient Service and Administration Contacts\nClient Service: Jera Presley\njpresley@rmsothebys.com\n+1 260 927 9797 \nAdministration: Allie Brydges\nabrydges@rmsothebys.com\n+1 519 437 3049
URL:https://carcollectorsclub.com/event/rm-sothebys-hershey-pennsylvania-auto-auction-on-october-7-8-2021/
LOCATION:The Hershey Lodge\, 325 University Drive\, Hershey\, PA\, 17033\, United States
CATEGORIES:Auctions
ATTACH;FMTTYPE=image/jpeg:https://carcollectorsclub.com/wp-content/uploads/2021/09/RM-Sothobys-AutoAuction-Septin-Hersey-Pa-2021-02-w1024.jpg
ORGANIZER;CN="RM Sothebys Auctions":MAILTO:info@rmsothebys.com
END:VEVENT
BEGIN:VEVENT
DTSTART;TZID=UTC:20211015T090000
DTEND;TZID=UTC:20211016T180000
DTSTAMP:20260422T090536
CREATED:20211007T010056Z
LAST-MODIFIED:20211017T160900Z
UID:8180-1634288400-1634407200@carcollectorsclub.com
SUMMARY:Mecum Auction in Chattanooga Selling Over 600 Classic Vehicles Over Weekend October 15-16\, 2021
DESCRIPTION:Live from Chattanooga and new to the auction world in 2021 is the Mecum Auction scheduled to take place at the Convention Center in Chattanooga\, Tennessee\, October 15-16\, 2021. \nOver a two-day weekend\, Mecum auctioners will swing the gavel at more than 600 classic and vintage collectible cars  trying to find a new home. \nWith the addition of the Chattanooga to Mecum’s October Auction portfolio\, Mecum will truly be the king of auctioneers for October. \nCar Collectors are calling it the “MECUM OCTOBER TAKEOVER”. It is a trifecta that includes the Mecum’s Las Vegas Auction on October 7th\, The Chattanooga/Mecum Auction on October 15-16\, and the Mecum Chicago auction scheduled for October 23\, 2021. \nWith record sales from all the auction houses\, its hard to tell if people are collecting more cars\, or everyone is just swapping among themselves. \nThe Mecum Auction Is Held Along Side The Chattanooga Motor Festival & Concours d’Elegance Three Day Event. Both Take Place The Weekend of October 15-17\, 2021 \nAlso See: The Chattanooga Motor Festival & Concours d’Elegance Three Day Event Celebrates The Weekend of October 15-17\, 2021 \nThis year celebrates the 2nd annual  Chattanooga Festival in combination with a Mecum Auction. The three day combination event will  feature a unique car themed experience for both young and old. \nThe festival and auction will take place at the Chattanooga Convention Center One Carter Plaza in Chattanooga Tennessee. \nBoth the festival and auction are themed friends and family events offering events\, rides\, classic cars experiences\, food\, and libations. All this among Chattanooga’s Majestic views of the Tennessee River and Appalachian Mountain views. \nThe Mecum Chattanooga two-day Auction will include over 600 cars and motorcycles including five private collections. Most will sell with “No Reserve”. \nThe five notable car collections to be sold at the auction are from The Walter Hawk Car Collection\, The Jin Arneet Jr. Car Collection\, The Defoor Brothers Collection\, The North Lakes Private Mustang And Shelby Car Collection\, and The Moss Car Correction. \nOne magnificent car that will roll down Mecum’s Red Carpet will be from the “THE DEFOOR BROTHERS COLLECTION”. This rare one of a kind race car is a 1965 Lola T70 MkI Spyder and should command top dollar. \nThe hidden jem has significant historical value\, rarity\, and petagree. Matter of fact\, it was once owned by both Carroll Shelby and Dan Gurney.  The car was even campaigned by Dan Gurney’s and his All-American Racing team. \nAnd if looks could kill? This Lola has a beautiful two-tone\, light on dark\, custom paint job complimented by a jet black custom hand stitched leather racing interior. \nThe Racer is powered by a 5.0L Chevrolet V-8 engine which torques a Hewland 4-speed manual transmission. “Wicked Fast!” \nIn this picture is a 1968 Shelby GT500 KR Convertible and a The Carroll Shelby and Dan Gurney 1965 Lola T70 MkI Spyder. Both will Be Auctioned In Chatanooga on October 16\, 2021 \nAnother amazing car entering the auction block in Chattanooga is Lot number S110. \nThis Wimbledon White 1968 Shelby GT500KR Convertible has a Shelby Serial No. 03452 and sports a 428 CI engine and automatic transmission. These Shelby’s always garner big buck at auctions with fierce bidding competition and is expected to sell for well above the asking price.. \nMecum chief operating officer Sam Murtaugh said in the announcement.: “With Chattanooga’s prime\, central location near the heart of the US\, coupled with the excitement already stirred by the Chattanooga Motorcar Festival\, this new event is certain to be a welcome addition to the Mecum auction calendar\, one appreciated by both our current customers as well as by the attendees of the festival\,”  \n\nMECUM AUCTION QUICK OVERVIEW FOR OCTOBER 15-16\, 2021 FROM CHATTANOOGA\, TN.\n\nDate: October 15-16\, 2021\nTime: Begins each day at 10 AM\nChattanooga Convention Center\nAddress: One Carter Plaza Chattanooga\, TN 37402\nAuction Tickets: Purchased through the Chattanooga Motorcar Festival\nTicket Price: 0-$350 BUY TICKETS HERE\nFeatured Car Collections: The Walter Hawk Car Collection\, The Jin Arneet Jr. Car Collection\, The Defoor Brothers Collection\, The North Lakes Private Mustang And Shelby Car Collection\, and The Moss Car Correction.\nNumber of vehicles: +600 Vehicles\n  PDF (Download A Complete List For Cars For Sale PDF)\nWebsite: www.MECUM.com\nFacebook\nPhone: (262) 275-5050\nViewing: Broadcast on TV and Internet Streaming Youtube.com NBCSN & Peacock (TV Broadcast)\nParking: Public parking is offered at the Chattanooga Convention Center Parking Map\nHOTEL INFORMATION\nThe Westin Chattanooga \n801 Pine Street\, Chattanooga\, TN 37402\nPhone: (423) 531-4653\n\n\nThe Mecum Auction is taking place on the same weekend as the “The Chattanooga Motor Festival & Concours d’Elegance” on the same dates.For for information: (Read This Article: The Chattanooga Motor Festival & Concours d’Elegance) \nMECUM LAS VEGAS AUCTION OCTOBER 7-9\, 2021 FULL SCHEDULE OF EVENTS AND DETAILS.\nThursday – October 7\, 2021 (Day 1) \n\nAuction Time: 9 am to Close\nCar Auction\nMotorcycle Auction\nRoad Art Auction\n\nFriday – October 15\, 2021 (Day1) \n\nThe auction starts and 10 am and closed at 6 pm\nCar Auction Starts\nMotorcycle Auction Starts\n(NO) Road Art Auction\n\nSaturday – October 16\, 2021 (Day 2) \n\nOpens at 10 am and closes when the last car sells around 6 pm\nCars are Auction\nMore Motorcycle Auctioned\nMecum Official Website Event Details\n\n\nADMISSION & PARKING\nBIDDER REGISTRATION INFORMATION\nTo bid at the Action\, you must preregister by 5 PM CT on Monday\, October 4th. at the event or online. \nBidders not preregistered by 5 PM CT on Monday\, October 4th will be required to purchase a 2021 Chattanooga Motorcar Festival ticket (Cost: $39) to gain access to the auction. \nGENERAL ADMISSION\nThe Mecum auction dates and its close location in the heart of Chattanooga downtown position the event perfectly to complement the action. and excitement of the Chattanooga Motorcar Festival\, an expansive event that takes over the streets of downtown Chattanooga for three days\, Oct. 15-17\, for a wheel-to-wheel race\, a road rally\, and the culmination of an organized Concours d’elegance. \nGeneral Admission tickets for the event can be purchased through the Chattanooga Motorcar Festival. These tickets will provide full access to the Motorcar Festival and the Mecum Auction. Registered Bidders who present their bidding credentials will also have access to the entire event. \n\nBROADCAST SCHEDULE \n \n  \nCable and TV Broadcast of Standard NBCSN Network\nYou can find your local broadcast station here. (NBCSN SPORTS CHANNEL FINDER) \n\nVEHICLE UNLOADING & TRAILER PARKING LOCATION\n931 Reggie White Blvd\nChattanooga\, TN 37408 \nEVENT LOCATION\nChattanooga Convention Center\nOne Carter Plaza\nChattanooga\, TN 37402 \nThe Chattanooga Motor Festival & Concours d’Elegance Three Day Event Celebrates The Weekend of October 15-17\, 2021
URL:https://carcollectorsclub.com/event/mecum-auction-in-chattanooga-october-15-16-2021/
LOCATION:Chattanooga Convention Center\, 1150 Carter St\, Chattanooga\, TN\, 37402\, United States
CATEGORIES:Auctions
ATTACH;FMTTYPE=image/jpeg:https://carcollectorsclub.com/wp-content/uploads/2021/10/Mecum-Auction-CHATTANOOGA-2021-03.jpg
ORGANIZER;CN="Mecum Auctions":MAILTO:info@mecum.com
END:VEVENT
BEGIN:VEVENT
DTSTART;TZID=UTC:20211021T100000
DTEND;TZID=UTC:20211024T170000
DTSTAMP:20260422T090536
CREATED:20211020T030645Z
LAST-MODIFIED:20230514T173940Z
UID:8633-1634810400-1635094800@carcollectorsclub.com
SUMMARY:Mecum Auction Live Broadcast From The Chicago Schaumburg Convention Center  (October 21-23\, 2021)
DESCRIPTION:(Updated Oct. 23\, 2021) The Mecum Classic Car Auction returns to Chicago\, Illinois from October 21-23\, 2021 to auction an estimated 1\,000 classic\, vintage\, and Detroit Muscles collectible cars. Watch LIVE Streaming Feed Here plus Thursday and Friday recorded videos. The Three-day car auction and automobilia auction start on October 21st and ends on October 23rd\, 2021. \n2022 UPDATE: Watch Mecum’s 1\,000 Vehicle Auction Streaming Live On MotorTrend TV From Chicago\, IL on Oct. 13-15\, 2022\nWatch The Mecum Auction Live Or Replay The Video On Demand Anytime. The Auction Starts On October 21 And Concludes On October 23\, 2021. \nDAY 3 STREAMING LIVE (SCROLL DOWN) \nJump to LIVE Stream \nAdditionally\,  Mecum will Live Stream the auction over the Internet and be available for viewing from Youtube.com and CarCollectorsClub.com. Lastly\, the auction can be watched (in full) on-demand in its entirety from both Youtube and CarCollectorsClub.com. \n\n“Welcome to Mecum’s October TAKEOVER Featuring Three Classic Back-to-Back Classic Car Auctions Throughout The Country.” \n\n\nBELOW IS A COMPLETE GUIDE TO THE MECUM CHICAGO AUCTION 2021. \n  \n  \nTwo Featured Collectible Cars To Be Auctioned? \nTwo rare Corvettes that are featured at the auction are a 1968 Chevrolet Corvette Convertible and a 1966 Chevrolet Corvette Convertible. In total\, there are over 1\,000 classic cars that may find new owners and most of them are cars from the 30’s\, 40’s\, 50’s\, 60’s and 70’s. \n  \n \n\nLIVE BROADCAST DATES AND TIMES SCHEDULED FOR THE CHICAGO MECUM AUCTION 2021 \nThe Mecum Auction will be broadcast “LIVE” over both the NBCSN and Peacock Cable and TV Networks.  \nAdditionally\, the auction will be STREAMING LIVE both over Youtube.com and here and CarCollectorsClub.com \nThe auction starts on Thursday\, October 21st\, and concludes on Saturday\, October 23rd. \nBelow are all of the dates\, times\, and networks the auction is available. \nOn the first day\, on Thursday\, October 21\, the auction will be broadcast both the NBCSN (NBC Sports Network) and Peacock networks from 2:00 to 6:00 pm. \nOn Thursday the auction will also be streaming “Live” on youtube.com and here on CarCollectorsClub.com. And for those who miss the Live Broadcast\, a recorded version of the auction will be available “on-demand” rewatching at any time on this website and Youtube.com. \nOn Friday\, October 22\, the auction will again be broadcast LIVE on both the NBCSN and Peacock networks. The LIVE broadcast will run from 12:00 pm to 2:00 on both NBCSN and Peacock. The broadcast will continue only on the Peacock Network from 2:00 pm to 6 pm. \nOn Saturday the 23rd\, the Mecum Chicago Auction will start broadcasting LIVE between 12:30 and 5:30 pm on both the NBCSN and Peacock Networks. There will be a (Next Day Delay)\, or delayed recording\, broadcast from 8:00 pm to 10:00 pm Saturday night. \nAnd lastly\, on Sunday\, October 24\, (the last day)\, the auction will be broadcast with a Delay over the NBCSN and Peacock Networks from 8:30 to 10:30 pm. \n*Additional dates and times the Chicago Auction will RE-AIR (recorded broadcast) are Wednesday\, Oct 27 from 10:00 PM – 2:00 AM\, Friday\, Oct 29 from 1:00 PM – 6:00 PM\, and more on Fri Oct 29 at 6:00 PM – 8:30 PM. \n\nDay 3 Streaming LIVE\n STREAMING LIVE : (Day 3) Mecum Auction Streaming Live From Chicago Saturday\, Oct. 23rd\, 2021 \n \n\nDAY 3 STREAMING LIVE \n\n\n \n\n STREAMING LIVE : (Day 2) Mecum Auction Streaming Live Recording From Chicago October 22st\, 2021 \n \nDAY 2 VIDEO \n\n\nSTREAMING LIVE : (Day 1) Mecum Auction Recorded Live  IN Chicago October 21st\, 2021 \n \nDAY 1 VIDEO \n\nwww.CarCollectorsClub.com \n\nTHIS IS WHEN THE MECUM AUCTION WILL  BROADCAST “LIVE”\, AND REBROADCAST. \n\nThursday\, Oct 21\, 2:00 PM – 6:00 PM LIVE On NBCSN & Peacock Network.\nFriday\, Oct 22\, 12:00PM – 2:00PM LIVE On NBCSN & Peacock Network.\n**Friday\, Oct 22\, 2:00 PM – 6:00 PM LIVE on Peacock.\nSaturday\, Oct 23\, 12:30PM – 5:30PM LIVE Peacock & NBCSN Networks\n**Saturday Oct 23\, 8:00PM – 10:00PM NDD ( Next Day Delay) NBCSN\nSunday\, Oct 24\, 8:30 PM – 10:30 PM NDD ( Next Day Delay) NBCSNComplete Auction Rebroadcast Schedule\n\nWed Oct 27  from 10:00 PM – 2:00 AM RE-AIR NBCSN NetworkFri Oct 29 1:00PM – 6:00PM RE-AIR NBCSNFri Oct 29 6:00PM – 8:30PM RE-AIR NBCSN\n\n\n\n\nFeatured Car Collections To Be Auctioned \n\nThe Patrick M. Hurst Collection\nThe Reenders Collection\nThe Lake Collection\nThe Jimmy Vasquez Collection\nThe Luczak Collection\nLuczak Collection – Road Art\nPrivate Collection at No Reserve\n\n\nHere Is A Full List Of Cars To Be Auctioned. (Click Here) \nTwo featured cars at the auction are a Two-tone Tahitian Coral and White finish 1956 Buick Century Convertible and a 1936 Ford Deluxe Phaeton painted in a  beautiful Washington Blue. \nTwo classic cars that will wheel across the red carpet are a Two-tone Tahitian Coral and White finish 1956 Buick Century Convertible with a 322 CI V-8 engine and Dynaflow automatic transmission. The 1936 Ford Deluxe Phaeton is a beautiful Washington Blue and has a 221 CI Flathead V-8 engine with a Stromberg 97 downdraft carburetor under the hood that drives a 3-speed manual transmission. \n\nAUCTION DETAILSGates open daily at 8 AM dailyGates will close one hour after the final vehicle of the day crosses the block.AUCTION SCHEDULE AND SELLER’S CHECK-INTuesday and Wednesday\, October 19-20 from 8 AM until 6 PM \nVEHICLES:Thursday\, October 21 at 1 PMFriday and Saturday\, October 22-23 at 10 AM \nROAD ART SHIPPINGNavis Pack & ShipContact: George Tourville(815) 630-5673Email: IL1101@goNavis.com(MORE INFORMATION) \n\n**ADMISSION & PARKING /// GENERAL ADMISSION \nDAILY TICKET PRICE (How much do tickets cost?) \nAdvance Ticket Cost $20 per person\, per day but you can purchase advance tickets at a discount offered until 11:59 PM Oct 20\, 2021\, CDT. Once Auction Begins tickets will cost $30 per person\, per day\, at the gate\, and children under 12 years and younger get in free. \n\nAUCTION LOCATION?Schaumburg Convention Center1551 Thoreau Drive N Schaumburg\, IL 60173https://www.schaumburgconventioncenter.com/MAPPhone: 847-303-4100 \nABOUT THE SCHAUMBURG CONVENTION CENTERThe Schaumburg Convention Center stands out in Chicago as a ground-breaking showpiece for conventions and trade shows. Effortlessly blending modern elegance with expansive and fully-integrated facilities\, the Schaumburg Convention Center provides an inspiring setting where everything for your event comes together—seamlessly. Here\, everything runs smoothly\, especially with the ease of your arrival. \nWhile at the Schaumburg Convention Center\, don’t miss the nearby attractions. Close by the center is the Woodfield Mall\, and The Arlinton Park Race Track. Inside the center is the luxurious “Sam & Harry’s Restaurant” for fine dining\, gourmet food\, and a tranquil ambiance. \n\nHOTEL INFORMATION \nChicago 2021 Host Hotel PackagesRenaissance Schaumburg Convention Center Hotel1551 Thoreau Drive NSchaumburg\, IL 60173(847) 303-4100For special Mecum rate and reservations\, click [HERE] \n 
URL:https://carcollectorsclub.com/event/mecum-auction-chicago-schaumburg-convention-center-october-21-23-2021/
LOCATION:Schaumburg Convention Center\, 1551 Thoreau Drive N\, Schaumburg\, IL\, 60173\, United States
CATEGORIES:Auctions
ATTACH;FMTTYPE=image/jpeg:https://carcollectorsclub.com/wp-content/uploads/2021/10/Mecum-Chicago-Oct-2021-02-w1024.jpg
ORGANIZER;CN="Mecum Auctions":MAILTO:info@mecum.com
END:VEVENT
BEGIN:VEVENT
DTSTART;TZID=UTC:20211023T100000
DTEND;TZID=UTC:20211024T180000
DTSTAMP:20260422T090536
CREATED:20211020T190952Z
LAST-MODIFIED:20211023T214205Z
UID:8764-1634983200-1635098400@carcollectorsclub.com
SUMMARY:Barrett-Jackson's Westwood Auction Car Preview At The Bentley Scottsdale Polo Championships Event
DESCRIPTION:Whether it’s a Barrett-Jackson Car Auction Preview or luxury classic cars on display from world-class car clubs\, there will be no shortage of car horsepower at the 10th Anniversary celebration of The Bentley Scottsdale Polo Championships. The event is presented by Talking Stick Resort in Scottsdale AZ on October 23rd\, 2021 at WestWorld of Scottsdale. \nYou can visit the Barrett Jackson Preview and The Bentley Scottsdale Polo Championships at :\nWestworld of Scottsdale\, 16601 North Pima Road\, Scottsdale\, Arizona 85260 \n \nAbout The Barrett-Jackson Car Collection Auction Preview \nThe Barrett-Jackson Collector Car Auction preview is an opportunity to get an early look at some of the classic\, vintage and exotic cars that will be up for auction at the world-famous Scottsdale Auction taking place on January 22nd through the 30th\, 2022\, at WestWorld of Scottsdale. \nPreview information for the cars will be available at the show’s front gate. \nFor more information about consigning a vehicle\, attending the auction\, or becoming a bidder… call  (480) 421-6694. \nHorsepower Car Displays \nAdditional car collections will be on display from multiple car clubs such as Bentley of Scottsdale\, Scottsdale of Maserati\, Sanderson Lincoln\, Scottsdale Corvette Car Club\, and Earnhardt Genesis of North Scottsdale. \nSpecialty car clubs will feature car collections from the Ferrari Club of America Car Club\, the Arizona Lamborghini Car Club\,  the Arizona AMG Car Club\, the APEX Car Club\, and some vintage car owners too. \nAnd for EV lovers\, Polestar will be debuting an all-electric high-performance. \nThe Barrett-Jackson Champagne & Jazz Lounge. \nBoy and car\, enjoy the Barrett-Jackson “Champagne & Jazz Lounge” in a mid-field luxury covered tent that includes a luxury champagne bar. The bar serves complimentary mimosas through half-time of the first match and (1) complimentary mimosa thereafter. And if you get the munchies\, there is a bottomless pit of French fries for all guests to enjoy. \n \nGuests and VIP Ticket Holders will be able to enjoy The Polo Party from the many beautiful VIP tents. VIP Ticket holders will be able to enjoy A Luxury Tent Experience by Steak 44\, Neiman Marcus Fashion\, The Barrett-Jackson & Bentley Scottsdale Car Collection Show\, and the Private Molina Fine Jewelers Drivers & Players Exclusive VIP Lounge. \nTo take the party to its limits\, visit the Talking Stick Polo DayClub VIP Party Tent that will offer bottle service\, DJs\, and dancing and private tables. \nAbout The The Bentley Scottsdale Polo Championship \nThe Bentley Scottsdale Polo Championship is the highest attended polo event in the country. the event is Presented by Talking Stick Resort and has grown to more than 12\,000 attendees annually. The event celebrates the 10th anniversary with the return of the leading American polo player Nic Roldan. Nic will play in the featured polo match. \nEnjoy 4 thrilling and action-packed sets of polo matches with Ruby matches at halftime. Additional events include The World’s “Longest” Fashion Show\, produced by Phoenix Fashion Week\, the Canine Couture: A Dog Fashion Show Like No Other presented by Lugari Pet Salon\, a preview of Barrett-Jackson’s 2022 Collector Car Auction\, half-time appearances by the Scottsdale Arabian Horse Show and more! \nThe event features the following schedule:  \n\nComplimentary Zipline taking guests from parking lot to the field.\nFeaturing a Morning Beer Festival offering 5 of the best morning beers on tap (10am to noon).\nFeaturing th New Teams from Argentina\, Bogota\, Santa Fe and Medellin\nPolo Player Nic Roldan (USA’s # 1 Player) returns to play a featured polo match.\nThere will be more tents than ever last shows.\nFeatured Rugby matchs between ASU and Prescott’s Black Sheep at popo halftime.\nNew this year: Displays from Polestar\, including an electric performance car.\nA VIP Charro Lounge featuring good causes.\n\nFor more information about the event visit thepoloparty.com. \nSchedule of Events Saturday\, October 23rd: \n\n9:45 am The Gates Open\n10:00 am Celebrate a Morning Beer Festival\n10:00 am First Polo Match staring with Arizona vs Medellin\n11:55 am The World’s “Longest” Fashion Show begins\n12:15 pm Second Polo Match featuring Grand Champions vs Bogota\n1:45 pm Canine Couture Starts featuring a Dog Fashion Show Like No Other\n2:15 pm Another Featured Polo Match featuring Aspen Valley vs Argentina\n3:45 pm Rugby Match starts watching ASU vs Prescott\n4:15 pm Final polo Match  featuring Jet Set vs Santa Fe\n6:00 pm The Events Starts to Conclude\n\nGeneral Admission tickets start at $35. Tickets include field-side experiences with the Sanderson Lincoln Black Label Lounge and a DJ-infused party tent including the Talking Stick Resort Polo Day Club with tables and bottle service.
URL:https://carcollectorsclub.com/event/barrett-jackson-auction-preview-at-the-bentley-scottsdale-polo-championships/
LOCATION:Westworld of Scottsdale\, 16601 North Pima Road\, Scottsdale\, AL\, 85260\, United States
CATEGORIES:Auctions,Car Show
ATTACH;FMTTYPE=image/jpeg:https://carcollectorsclub.com/wp-content/uploads/2021/10/Auction-Preview-Barrett-Jackson-Scottsdale-2021-Featured-03-w1024.jpg
ORGANIZER;CN="Barrett-Jackson Auction":MAILTO:shop@barrett-jackson.com
END:VEVENT
END:VCALENDAR