BEGIN:VCALENDAR
VERSION:2.0
PRODID:-//Car Collectors Club - ECPv6.6.3//NONSGML v1.0//EN
CALSCALE:GREGORIAN
METHOD:PUBLISH
X-ORIGINAL-URL:https://carcollectorsclub.com
X-WR-CALDESC:Events for Car Collectors Club
REFRESH-INTERVAL;VALUE=DURATION:PT1H
X-Robots-Tag:noindex
X-PUBLISHED-TTL:PT1H
BEGIN:VTIMEZONE
TZID:UTC
BEGIN:STANDARD
TZOFFSETFROM:+0000
TZOFFSETTO:+0000
TZNAME:UTC
DTSTART:20210101T000000
END:STANDARD
END:VTIMEZONE
BEGIN:VEVENT
DTSTART;TZID=UTC:20210317T080000
DTEND;TZID=UTC:20210320T170000
DTSTAMP:20260422T221354
CREATED:20210319T194003Z
LAST-MODIFIED:20210319T222611Z
UID:3791-1615968000-1616259600@carcollectorsclub.com
SUMMARY:Mecum Glendale Arizona Auction
DESCRIPTION:In 2019\, Mecum Auctions held its first annual Glendale\, Arizona\, collector-car auction. The immediate and overwhelming response elicited by the inaugural auction’s announcement was so great that within 24 hours of going public\, the event schedule had to be extended to accommodate the eager throngs of participants. Now slated to return to the State Farm Stadium this March 11-14\, Mecum’s second annual auction in Glendale will feature 1\,500 vehicles\, and the high-energy environment and family-friendly atmosphere are certain to make for another can’t-miss event that welcomes all sellers\, bidders and spectators.
URL:https://carcollectorsclub.com/event/mecum-glendale-auction/
LOCATION:FL
CATEGORIES:Auctions
ATTACH;FMTTYPE=image/jpeg:https://carcollectorsclub.com/wp-content/uploads/2021/03/Mecum-Auto-Auction-Glendale-Arizona-w1068.jpg
ORGANIZER;CN="Mecum Auctions":MAILTO:info@mecum.com
END:VEVENT
BEGIN:VEVENT
DTSTART;TZID=UTC:20210319T080000
DTEND;TZID=UTC:20210320T170000
DTSTAMP:20260422T221354
CREATED:20210319T204724Z
LAST-MODIFIED:20210319T223552Z
UID:3796-1616140800-1616259600@carcollectorsclub.com
SUMMARY:Premier Auction Group Gulf Coast Classic Florida
DESCRIPTION:Charlotte Harbor Event Center\n75 Taylor St.\nPunta Gorda\, FL 33950\nW 941-833-5444\nF 941-833-5451 \nExit 164 off of I-75 from the North – Exit 161 off of I-75 from the South \nLocal Hotel \nWyvern Hotel\n101 East Retta Esplanade\nPunta Gorda\, FL 33950\n941-639-7700
URL:https://carcollectorsclub.com/event/premier-auction-group-gulf-coast-classic/
LOCATION:Charlotte Harbor Event Center\, 75 Taylor Street\, Punta Gorda\, FL\, 33950\, United States
CATEGORIES:Auctions
ATTACH;FMTTYPE=image/jpeg:https://carcollectorsclub.com/wp-content/uploads/2021/03/PREMIER-AUTO-GROUP-01-W1200.jpg
ORGANIZER;CN="Premier Auction Group":MAILTO:info@premierauctiongroup.com
END:VEVENT
BEGIN:VEVENT
DTSTART;TZID=UTC:20210320T080000
DTEND;TZID=UTC:20210327T170000
DTSTAMP:20260422T221354
CREATED:20210319T211149Z
LAST-MODIFIED:20210319T222752Z
UID:3802-1616227200-1616864400@carcollectorsclub.com
SUMMARY:Barrett-Jackson Scottsdale Arizona Auction
DESCRIPTION:Advance Online Tickets \n\nAvailable through Mar 19\, 2021\nAdult $25.00\nSenior\, Military\, Student $18.00\nChild $0.00\n\nDay-Of Online Tickets \n\nAvailable through Mar 20\, 2021\nAdult $30.00\nSenior\, Military\, Student $20.00\nChild $0.00
URL:https://carcollectorsclub.com/event/barrett-jackson-scottsdale-auction/
LOCATION:Westworld of Scottsdale\, 16601 North Pima Road\, Scottsdale\, AL\, 85260\, United States
CATEGORIES:Auctions
ATTACH;FMTTYPE=image/jpeg:https://carcollectorsclub.com/wp-content/uploads/2021/03/Barrett-Jackson-Scottsdale-Auction-w1200.jpg
ORGANIZER;CN="Barrett-Jackson Auction":MAILTO:shop@barrett-jackson.com
END:VEVENT
BEGIN:VEVENT
DTSTART;TZID=UTC:20210327T140000
DTEND;TZID=UTC:20210327T220000
DTSTAMP:20260422T221354
CREATED:20210319T220632Z
LAST-MODIFIED:20210326T205123Z
UID:3810-1616853600-1616882400@carcollectorsclub.com
SUMMARY:Russo and Steele Scottsdale Arizona Auction
DESCRIPTION:RSVP – 2021 RS COLLECTOR AUTOMOBILE INVITATIONAL – PRIVATE EVENT \nWe enthusiastically anticipate you joining us Saturday\, March 27\, 2021 at our Headquarters Facility. \nPrepare for an extraordinary evening of collector car passions\, comraderies\, Josephine’s famous fully catered food and beverage extravaganza\, and\, of course\, the Car Stars: \nA select group of 80 extraordinary collector automobiles ALL will be SOLD – No Reserve! \nTHE MOST EXCITING COLLECTOR AUTOMOBILE AUCTION IN THE WORLD \nRusso and Steele was created to provide a highly targeted alternative to the world of collector car auctions. Specializing in European sports cars\, American muscle cars\, hot rods and customs\, Russo and Steele delivers a unique\, highly personal and visceral experience in an intimate environment. It is an auction that focuses on the specific needs of primarily the buyers and sellers of high-quality collector automobiles. \nEmbracing decades of experience in collector car restoration and harboring a true passion for quality cars\, co-owners Drew and Josephine Alcazar had a very specific design for the type of auction experience they wanted Russo and Steele to embody. Drew developed an auction block that has never been created before or since\, and the “Auction in the Round” concept was born. \nWhen:\nSaturday\, March 27\, 2021 \nWhere:\nRusso and Steele Scottsdale Headquarters\n7722 E Gray Road\nScottsdale\, AZ 85260 \nSchedule: \n\nVehicle Private Preview Reception begins at 2:00 PM\nFull course Dinner Service commences at 4:00 PM\nLive Auction In The Round – featuring 80 select collector vehicles\, ALL at NO RESERVE. Begins promptly at 5:00 PM.\nComplimentary Valet Parking Service provided.
URL:https://carcollectorsclub.com/event/russo-and-steele-scottsdale-az-auction/
LOCATION:Russo and Steele Headquarters\, 101 Fwy & Scottsdale Rd\, Scottsdale\, AZ\, 85255\, United States
CATEGORIES:Auctions
ATTACH;FMTTYPE=image/jpeg:https://carcollectorsclub.com/wp-content/uploads/2021/03/Russo-Steele-Scottsdale-AZ-Auto-Auction-w1024.jpg
ORGANIZER;CN="Russo and Steele Auctions":MAILTO:info@russoandsteele.com
END:VEVENT
END:VCALENDAR